BEGIN:VCALENDAR
VERSION:2.0
PRODID:-//FASHION VALUE CHAIN - ECPv6.15.16//NONSGML v1.0//EN
CALSCALE:GREGORIAN
METHOD:PUBLISH
X-WR-CALNAME:FASHION VALUE CHAIN
X-ORIGINAL-URL:https://fashionvaluechain.com
X-WR-CALDESC:Events for FASHION VALUE CHAIN
REFRESH-INTERVAL;VALUE=DURATION:PT1H
X-Robots-Tag:noindex
X-PUBLISHED-TTL:PT1H
BEGIN:VTIMEZONE
TZID:Asia/Shanghai
BEGIN:STANDARD
TZOFFSETFROM:+0800
TZOFFSETTO:+0800
TZNAME:CST
DTSTART:20250101T000000
END:STANDARD
END:VTIMEZONE
BEGIN:VEVENT
DTSTART;TZID=Asia/Shanghai:20260902T100000
DTEND;TZID=Asia/Shanghai:20260905T180000
DTSTAMP:20260424T230108
CREATED:20260320T181542Z
LAST-MODIFIED:20260320T181542Z
UID:67030-1788343200-1788631200@fashionvaluechain.com
SUMMARY:CENTRESTAGE Hong Kong 2026
DESCRIPTION:CENTRESTAGE is an international fashion event that combines runway shows\, exhibitions\, and business networking. The event showcases contemporary fashion collections from designers and brands across Asia and international markets. Buyers attend to explore emerging brands and evaluate collections for retail distribution. The exhibition also features fashion shows and industry discussions that highlight design innovation and market trends. CENTRESTAGE serves as a platform promoting Asian fashion globally.
URL:https://fashionvaluechain.com/event/centrestage-hong-kong-2026/
LOCATION:Hong Kong Convention & Exhibition Centre\, Hong Kong Convention & Exhibition Centre\, hong kong\, China
CATEGORIES:Exhibition,Fashion week
ATTACH;FMTTYPE=image/jpeg:https://fashionvaluechain.com/wp-content/uploads/2026/03/image_74a81f4a-74d8-45f2-a882-a0e029cc9ac5-1198x1200-1.jpg
ORGANIZER;CN="Hong Kong Trade Development Council":MAILTO:exhibitions@hktdc.org
END:VEVENT
END:VCALENDAR