BEGIN:VCALENDAR
VERSION:2.0
PRODID:-//FASHION VALUE CHAIN - ECPv6.15.16//NONSGML v1.0//EN
CALSCALE:GREGORIAN
METHOD:PUBLISH
X-WR-CALNAME:FASHION VALUE CHAIN
X-ORIGINAL-URL:https://fashionvaluechain.com
X-WR-CALDESC:Events for FASHION VALUE CHAIN
REFRESH-INTERVAL;VALUE=DURATION:PT1H
X-Robots-Tag:noindex
X-PUBLISHED-TTL:PT1H
BEGIN:VTIMEZONE
TZID:America/Los_Angeles
BEGIN:DAYLIGHT
TZOFFSETFROM:-0800
TZOFFSETTO:-0700
TZNAME:PDT
DTSTART:20250309T100000
END:DAYLIGHT
BEGIN:STANDARD
TZOFFSETFROM:-0700
TZOFFSETTO:-0800
TZNAME:PST
DTSTART:20251102T090000
END:STANDARD
BEGIN:DAYLIGHT
TZOFFSETFROM:-0800
TZOFFSETTO:-0700
TZNAME:PDT
DTSTART:20260308T100000
END:DAYLIGHT
BEGIN:STANDARD
TZOFFSETFROM:-0700
TZOFFSETTO:-0800
TZNAME:PST
DTSTART:20261101T090000
END:STANDARD
BEGIN:DAYLIGHT
TZOFFSETFROM:-0800
TZOFFSETTO:-0700
TZNAME:PDT
DTSTART:20270314T100000
END:DAYLIGHT
BEGIN:STANDARD
TZOFFSETFROM:-0700
TZOFFSETTO:-0800
TZNAME:PST
DTSTART:20271107T090000
END:STANDARD
END:VTIMEZONE
BEGIN:VEVENT
DTSTART;TZID=America/Los_Angeles:20260729T100000
DTEND;TZID=America/Los_Angeles:20260731T170000
DTSTAMP:20260424T204554
CREATED:20260323T181709Z
LAST-MODIFIED:20260323T181709Z
UID:67169-1785319200-1785517200@fashionvaluechain.com
SUMMARY:Apparel Sourcing Los Angeles – July 2026
DESCRIPTION:Apparel Sourcing Los Angeles is an international exhibition focused on garment manufacturing and sourcing solutions. The event connects manufacturers with fashion brands and retailers seeking production partners. Exhibitors present apparel collections\, fabrics\, and private-label services. Buyers attend to evaluate suppliers and establish sourcing relationships. The exhibition also includes networking sessions and discussions on supply chain strategies. Apparel Sourcing Los Angeles supports collaboration between manufacturers and fashion businesses.
URL:https://fashionvaluechain.com/event/apparel-sourcing-los-angeles-july-2026/
LOCATION:California Market Center\, Los Angeles\, California Market Center\, Los Angeles\, Los Angeles\, United States
CATEGORIES:Exhibition
ATTACH;FMTTYPE=image/webp:https://fashionvaluechain.com/wp-content/uploads/2026/03/apparelsourcing_la_logo_6248.webp
ORGANIZER;CN="Messe Frankfurt North America":MAILTO:apparel@usa.messefrankfurt.com
END:VEVENT
END:VCALENDAR