BEGIN:VCALENDAR
VERSION:2.0
PRODID:-//FASHION VALUE CHAIN - ECPv6.15.16//NONSGML v1.0//EN
CALSCALE:GREGORIAN
METHOD:PUBLISH
X-WR-CALNAME:FASHION VALUE CHAIN
X-ORIGINAL-URL:https://fashionvaluechain.com
X-WR-CALDESC:Events for FASHION VALUE CHAIN
REFRESH-INTERVAL;VALUE=DURATION:PT1H
X-Robots-Tag:noindex
X-PUBLISHED-TTL:PT1H
BEGIN:VTIMEZONE
TZID:America/Chicago
BEGIN:DAYLIGHT
TZOFFSETFROM:-0600
TZOFFSETTO:-0500
TZNAME:CDT
DTSTART:20250309T080000
END:DAYLIGHT
BEGIN:STANDARD
TZOFFSETFROM:-0500
TZOFFSETTO:-0600
TZNAME:CST
DTSTART:20251102T070000
END:STANDARD
BEGIN:DAYLIGHT
TZOFFSETFROM:-0600
TZOFFSETTO:-0500
TZNAME:CDT
DTSTART:20260308T080000
END:DAYLIGHT
BEGIN:STANDARD
TZOFFSETFROM:-0500
TZOFFSETTO:-0600
TZNAME:CST
DTSTART:20261101T070000
END:STANDARD
BEGIN:DAYLIGHT
TZOFFSETFROM:-0600
TZOFFSETTO:-0500
TZNAME:CDT
DTSTART:20270314T080000
END:DAYLIGHT
BEGIN:STANDARD
TZOFFSETFROM:-0500
TZOFFSETTO:-0600
TZNAME:CST
DTSTART:20271107T070000
END:STANDARD
END:VTIMEZONE
BEGIN:VEVENT
DTSTART;TZID=America/Chicago:20260616T090000
DTEND;TZID=America/Chicago:20260618T180000
DTSTAMP:20260423T110642
CREATED:20260325T181900Z
LAST-MODIFIED:20260325T181900Z
UID:67312-1781600400-1781805600@fashionvaluechain.com
SUMMARY:Fashion Industry Gallery (FIG) – Dallas 2026
DESCRIPTION:Fashion Industry Gallery Dallas is a contemporary fashion trade event that connects designers with retail buyers. The exhibition showcases apparel\, accessories\, and lifestyle products designed for boutique and department store retail. Buyers attend to evaluate collections and identify new brands. Exhibitors present innovative designs aligned with current fashion trends. The event also provides networking opportunities and industry insights. Fashion Industry Gallery serves as a platform for connecting designers with retail markets.
URL:https://fashionvaluechain.com/event/fashion-industry-gallery-fig-dallas-2026/
LOCATION:Fashion Industry Gallery\, Dallas\, Fashion Industry Gallery\, Dallas\, Dallas\, TX\, United States
CATEGORIES:Exhibition
ATTACH;FMTTYPE=image/png:https://fashionvaluechain.com/wp-content/uploads/2026/03/fig-social-share-image-v2.png
ORGANIZER;CN="Fashion Industry Gallery":MAILTO:info@fashionindustrygallery.com
END:VEVENT
END:VCALENDAR