BEGIN:VCALENDAR
VERSION:2.0
PRODID:-//FASHION VALUE CHAIN - ECPv6.15.16//NONSGML v1.0//EN
CALSCALE:GREGORIAN
METHOD:PUBLISH
X-ORIGINAL-URL:https://fashionvaluechain.com
X-WR-CALDESC:Events for FASHION VALUE CHAIN
REFRESH-INTERVAL;VALUE=DURATION:PT1H
X-Robots-Tag:noindex
X-PUBLISHED-TTL:PT1H
BEGIN:VTIMEZONE
TZID:Asia/Krasnoyarsk
BEGIN:STANDARD
TZOFFSETFROM:+0700
TZOFFSETTO:+0700
TZNAME:+07
DTSTART:20250101T000000
END:STANDARD
END:VTIMEZONE
BEGIN:VEVENT
DTSTART;TZID=Asia/Krasnoyarsk:20260708T090000
DTEND;TZID=Asia/Krasnoyarsk:20260710T173000
DTSTAMP:20260425T061825
CREATED:20260331T162141Z
LAST-MODIFIED:20260331T162141Z
UID:67732-1783501200-1783704600@fashionvaluechain.com
SUMMARY:Shoes & Leather – Vietnam 2026
DESCRIPTION:Shoes & Leather Vietnam is an international exhibition dedicated to footwear\, leather products\, and fashion accessories. The event gathers manufacturers\, suppliers\, and brands presenting finished goods and production technologies. Exhibitors showcase leather bags\, footwear\, and accessories designed for global markets. Buyers attend to evaluate suppliers and explore sourcing opportunities. The exhibition also includes networking sessions and product demonstrations. It provides a platform for strengthening trade relationships within the Asian leather and footwear industry.
URL:https://fashionvaluechain.com/event/shoes-leather-vietnam-2026/
LOCATION:Saigon Exhibition & Convention Center (SECC)\, Ho Chi Minh City\, Vietnam\, Viet Nam
CATEGORIES:Exhibition
ATTACH;FMTTYPE=image/png:https://fashionvaluechain.com/wp-content/uploads/2026/03/2026slhnLOGO.png
END:VEVENT
END:VCALENDAR