BEGIN:VCALENDAR
VERSION:2.0
PRODID:-//FASHION VALUE CHAIN - ECPv6.15.16//NONSGML v1.0//EN
CALSCALE:GREGORIAN
METHOD:PUBLISH
X-ORIGINAL-URL:https://fashionvaluechain.com
X-WR-CALDESC:Events for FASHION VALUE CHAIN
REFRESH-INTERVAL;VALUE=DURATION:PT1H
X-Robots-Tag:noindex
X-PUBLISHED-TTL:PT1H
BEGIN:VTIMEZONE
TZID:Asia/Kolkata
BEGIN:STANDARD
TZOFFSETFROM:+0530
TZOFFSETTO:+0530
TZNAME:IST
DTSTART:20250101T000000
END:STANDARD
END:VTIMEZONE
BEGIN:VTIMEZONE
TZID:Europe/Rome
BEGIN:DAYLIGHT
TZOFFSETFROM:+0100
TZOFFSETTO:+0200
TZNAME:CEST
DTSTART:20250330T010000
END:DAYLIGHT
BEGIN:STANDARD
TZOFFSETFROM:+0200
TZOFFSETTO:+0100
TZNAME:CET
DTSTART:20251026T010000
END:STANDARD
BEGIN:DAYLIGHT
TZOFFSETFROM:+0100
TZOFFSETTO:+0200
TZNAME:CEST
DTSTART:20260329T010000
END:DAYLIGHT
BEGIN:STANDARD
TZOFFSETFROM:+0200
TZOFFSETTO:+0100
TZNAME:CET
DTSTART:20261025T010000
END:STANDARD
BEGIN:DAYLIGHT
TZOFFSETFROM:+0100
TZOFFSETTO:+0200
TZNAME:CEST
DTSTART:20270328T010000
END:DAYLIGHT
BEGIN:STANDARD
TZOFFSETFROM:+0200
TZOFFSETTO:+0100
TZNAME:CET
DTSTART:20271031T010000
END:STANDARD
END:VTIMEZONE
BEGIN:VEVENT
DTSTART;TZID=Asia/Kolkata:20260613T090000
DTEND;TZID=Asia/Kolkata:20260616T180000
DTSTAMP:20260425T051108
CREATED:20260306T181051Z
LAST-MODIFIED:20260306T181051Z
UID:66173-1781341200-1781632800@fashionvaluechain.com
SUMMARY:Expo Riva Schuh & Gardabags
DESCRIPTION:Organized by Riva del Garda Fierecongressi SpA\, Expo Riva Schuh and Gardabags – featuring 41 countries represented among the exhibiting companies\, along with numerous visitors from more than 100 different countries – this event stands as the premier international exhibition focused on volume footwear\, leather goods\, and accessories.
URL:https://fashionvaluechain.com/event/expo-riva-schuh-gardabags/
LOCATION:Riva Del Garda\, Italy\, Riva del Garda\, Italy\, Riva del Garda\, Italy
CATEGORIES:Exhibition
ATTACH;FMTTYPE=image/jpeg:https://fashionvaluechain.com/wp-content/uploads/2026/03/hp_header_105_portrait.jpg
END:VEVENT
BEGIN:VEVENT
DTSTART;TZID=Europe/Rome:20260613T090000
DTEND;TZID=Europe/Rome:20260616T180000
DTSTAMP:20260425T051108
CREATED:20260331T161845Z
LAST-MODIFIED:20260331T161845Z
UID:67728-1781341200-1781632800@fashionvaluechain.com
SUMMARY:Expo Riva Schuh & Gardabags – Italy 2026
DESCRIPTION:Expo Riva Schuh & Gardabags is a leading international trade fair focused on footwear\, leather goods\, and fashion accessories. The event gathers manufacturers\, designers\, and buyers presenting collections across footwear and leather accessories segments. Exhibitors showcase products designed for global retail markets\, including handbags\, travel goods\, and accessories. Buyers attend to evaluate collections and establish sourcing partnerships. The exhibition also includes innovation-focused zones and networking opportunities. It serves as a major platform for connecting global suppliers with retailers and distributors within the leather and accessories industry.
URL:https://fashionvaluechain.com/event/expo-riva-schuh-gardabags-italy-2026/
LOCATION:Riva del Garda Exhibition Centre\, Italy\, Riva del Garda Exhibition Centre\, Italy\, Milan\, Italy
CATEGORIES:Exhibition
ATTACH;FMTTYPE=image/jpeg:https://fashionvaluechain.com/wp-content/uploads/2026/03/hp_header_105_portrait-2.jpg
END:VEVENT
END:VCALENDAR