BEGIN:VCALENDAR
VERSION:2.0
PRODID:-//FASHION VALUE CHAIN - ECPv6.15.16//NONSGML v1.0//EN
CALSCALE:GREGORIAN
METHOD:PUBLISH
X-ORIGINAL-URL:https://fashionvaluechain.com
X-WR-CALDESC:Events for FASHION VALUE CHAIN
REFRESH-INTERVAL;VALUE=DURATION:PT1H
X-Robots-Tag:noindex
X-PUBLISHED-TTL:PT1H
BEGIN:VTIMEZONE
TZID:Asia/Kolkata
BEGIN:STANDARD
TZOFFSETFROM:+0530
TZOFFSETTO:+0530
TZNAME:IST
DTSTART:20250101T000000
END:STANDARD
END:VTIMEZONE
BEGIN:VTIMEZONE
TZID:Europe/Berlin
BEGIN:DAYLIGHT
TZOFFSETFROM:+0100
TZOFFSETTO:+0200
TZNAME:CEST
DTSTART:20250330T010000
END:DAYLIGHT
BEGIN:STANDARD
TZOFFSETFROM:+0200
TZOFFSETTO:+0100
TZNAME:CET
DTSTART:20251026T010000
END:STANDARD
BEGIN:DAYLIGHT
TZOFFSETFROM:+0100
TZOFFSETTO:+0200
TZNAME:CEST
DTSTART:20260329T010000
END:DAYLIGHT
BEGIN:STANDARD
TZOFFSETFROM:+0200
TZOFFSETTO:+0100
TZNAME:CET
DTSTART:20261025T010000
END:STANDARD
BEGIN:DAYLIGHT
TZOFFSETFROM:+0100
TZOFFSETTO:+0200
TZNAME:CEST
DTSTART:20270328T010000
END:DAYLIGHT
BEGIN:STANDARD
TZOFFSETFROM:+0200
TZOFFSETTO:+0100
TZNAME:CET
DTSTART:20271031T010000
END:STANDARD
END:VTIMEZONE
BEGIN:VEVENT
DTSTART;TZID=Asia/Kolkata:20260821T090000
DTEND;TZID=Asia/Kolkata:20260823T180000
DTSTAMP:20260425T061610
CREATED:20260331T163424Z
LAST-MODIFIED:20260331T163424Z
UID:67749-1787302800-1787508000@fashionvaluechain.com
SUMMARY:KABO – Footwear & Leather Fair – Czech Republic 2026
DESCRIPTION:KABO Fair is a professional exhibition focused on footwear and leather goods within Central Europe. The event gathers manufacturers\, designers\, and retailers presenting footwear and accessories collections. Exhibitors showcase products aligned with market trends and seasonal demand. Buyers attend to evaluate collections and establish business relationships. The exhibition also includes fashion shows and networking sessions. KABO provides a platform for connecting regional and international stakeholders within the leather and footwear industry.
URL:https://fashionvaluechain.com/event/kabo-footwear-leather-fair-czech-republic-2026/
LOCATION:Brno Exhibition Centre\, Czech Republic\, Brno Exhibition Centre\, Czech Republic\, Czech Republic
CATEGORIES:Exhibition
ATTACH;FMTTYPE=image/png:https://fashionvaluechain.com/wp-content/uploads/2026/03/KABO.png
END:VEVENT
BEGIN:VEVENT
DTSTART;TZID=Europe/Berlin:20260829T090000
DTEND;TZID=Europe/Berlin:20260831T180000
DTSTAMP:20260425T061610
CREATED:20260331T162757Z
LAST-MODIFIED:20260331T162757Z
UID:67740-1787994000-1788199200@fashionvaluechain.com
SUMMARY:ILM – International Leather Goods Fair – Germany 2026
DESCRIPTION:ILM Offenbach is one of the most important international trade fairs dedicated to leather goods and fashion accessories. The event gathers global brands\, designers\, and buyers presenting handbags\, luggage\, and accessories. Exhibitors showcase collections aligned with current fashion trends and retail demand. Buyers attend to evaluate products and establish sourcing partnerships. The exhibition also includes networking sessions and product showcases. ILM serves as a key platform for connecting leather goods manufacturers with retailers worldwide.
URL:https://fashionvaluechain.com/event/ilm-international-leather-goods-fair-germany-2026/
LOCATION:Messe Offenbach\, Germany\, Messe Offenbach\, Germany\, Germany
CATEGORIES:Exhibition
ATTACH;FMTTYPE=image/jpeg:https://fashionvaluechain.com/wp-content/uploads/2026/03/68122714b15e7-nueva-notajpeg.jpeg
END:VEVENT
END:VCALENDAR