BEGIN:VCALENDAR
VERSION:2.0
PRODID:-//FASHION VALUE CHAIN - ECPv6.15.16//NONSGML v1.0//EN
CALSCALE:GREGORIAN
METHOD:PUBLISH
X-WR-CALNAME:FASHION VALUE CHAIN
X-ORIGINAL-URL:https://fashionvaluechain.com
X-WR-CALDESC:Events for FASHION VALUE CHAIN
REFRESH-INTERVAL;VALUE=DURATION:PT1H
X-Robots-Tag:noindex
X-PUBLISHED-TTL:PT1H
BEGIN:VTIMEZONE
TZID:Asia/Kolkata
BEGIN:STANDARD
TZOFFSETFROM:+0530
TZOFFSETTO:+0530
TZNAME:IST
DTSTART:20250101T000000
END:STANDARD
END:VTIMEZONE
BEGIN:VEVENT
DTSTART;TZID=Asia/Kolkata:20261123T060000
DTEND;TZID=Asia/Kolkata:20261125T143000
DTSTAMP:20260423T133546
CREATED:20260331T180413Z
LAST-MODIFIED:20260331T180413Z
UID:67804-1795413600-1795617000@fashionvaluechain.com
SUMMARY:International Apparel & Textile Fair (Dubai)
DESCRIPTION:The International Apparel & Textile Fair (IATF) in Dubai is a major sourcing event connecting manufacturers and buyers across the Middle East\, Africa\, and Europe. The exhibition showcases a wide range of products including fabrics\, garments\, accessories\, and textile machinery. It is particularly valuable for brands targeting Middle Eastern markets\, as it provides insights into regional fashion preferences and consumer behavior. Exhibitors from countries such as India\, China\, Turkey\, and Bangladesh present competitive manufacturing solutions. The event also includes networking sessions and business matchmaking opportunities that facilitate partnerships between suppliers and buyers. Dubai’s strategic location enhances the event’s global reach\, making it a central hub for international fashion trade.
URL:https://fashionvaluechain.com/event/international-apparel-textile-fair-dubai/
LOCATION:Dubai World Trade Centre\, UAE\, Dubai World Trade Centre\, UAE\, Dubai\, United Arab Emirates
CATEGORIES:Exhibition
ATTACH;FMTTYPE=image/png:https://fashionvaluechain.com/wp-content/uploads/2026/03/ITF-Website_Logo-06-1.png
END:VEVENT
END:VCALENDAR