BEGIN:VCALENDAR
VERSION:2.0
PRODID:-//FASHION VALUE CHAIN - ECPv6.15.16//NONSGML v1.0//EN
CALSCALE:GREGORIAN
METHOD:PUBLISH
X-WR-CALNAME:FASHION VALUE CHAIN
X-ORIGINAL-URL:https://fashionvaluechain.com
X-WR-CALDESC:Events for FASHION VALUE CHAIN
REFRESH-INTERVAL;VALUE=DURATION:PT1H
X-Robots-Tag:noindex
X-PUBLISHED-TTL:PT1H
BEGIN:VTIMEZONE
TZID:Asia/Tokyo
BEGIN:STANDARD
TZOFFSETFROM:+0900
TZOFFSETTO:+0900
TZNAME:JST
DTSTART:20250101T000000
END:STANDARD
END:VTIMEZONE
BEGIN:VEVENT
DTSTART;TZID=Asia/Tokyo:20261027T100000
DTEND;TZID=Asia/Tokyo:20261029T180000
DTSTAMP:20260423T133601
CREATED:20260322T180337Z
LAST-MODIFIED:20260322T180337Z
UID:67088-1793095200-1793296800@fashionvaluechain.com
SUMMARY:Apparel Sourcing Japan – Tokyo 2026
DESCRIPTION:Apparel Sourcing Japan is a trade exhibition connecting garment manufacturers with fashion brands and retailers. The event features apparel collections\, fabrics\, and production services designed for international markets. Exhibitors present manufacturing capabilities and innovative products\, while buyers attend to evaluate suppliers and establish sourcing partnerships. The exhibition also includes seminars addressing supply chain management and sustainability. Apparel Sourcing Japan provides a strategic platform for connecting manufacturers with fashion companies seeking reliable production solutions.
URL:https://fashionvaluechain.com/event/apparel-sourcing-japan-tokyo-2026/
LOCATION:Tokyo Big Sight\, Tokyo Big Sight\, Tokyoj\, Japan
CATEGORIES:Exhibition
ATTACH;FMTTYPE=image/jpeg:https://fashionvaluechain.com/wp-content/uploads/2026/03/春_FAWTS26_Banner.jpg
END:VEVENT
END:VCALENDAR