BEGIN:VCALENDAR
VERSION:2.0
PRODID:-//FASHION VALUE CHAIN - ECPv6.15.16//NONSGML v1.0//EN
CALSCALE:GREGORIAN
METHOD:PUBLISH
X-WR-CALNAME:FASHION VALUE CHAIN
X-ORIGINAL-URL:https://fashionvaluechain.com
X-WR-CALDESC:Events for FASHION VALUE CHAIN
REFRESH-INTERVAL;VALUE=DURATION:PT1H
X-Robots-Tag:noindex
X-PUBLISHED-TTL:PT1H
BEGIN:VTIMEZONE
TZID:America/Sao_Paulo
BEGIN:STANDARD
TZOFFSETFROM:-0300
TZOFFSETTO:-0300
TZNAME:-03
DTSTART:20250101T000000
END:STANDARD
END:VTIMEZONE
BEGIN:VEVENT
DTSTART;TZID=America/Sao_Paulo:20261020T100000
DTEND;TZID=America/Sao_Paulo:20261022T170000
DTSTAMP:20260423T133621
CREATED:20260324T162847Z
LAST-MODIFIED:20260324T162847Z
UID:67214-1792490400-1792688400@fashionvaluechain.com
SUMMARY:Apparel Textile Sourcing Brazil – São Paulo 2026
DESCRIPTION:Apparel Textile Sourcing Brazil is an international exhibition connecting global manufacturers with South American fashion brands and retailers. The event showcases apparel\, textiles\, and manufacturing services. Buyers attend to evaluate suppliers and explore sourcing opportunities. Exhibitors present garments and materials designed for retail markets. The event also includes networking sessions and discussions on supply chain strategies. It supports collaboration within the global apparel industry.
URL:https://fashionvaluechain.com/event/apparel-textile-sourcing-brazil-sao-paulo-2026/
LOCATION:Pro Magno Convention Center\, São Paulo\, Pro Magno Convention Center\, São Paulo\, Sao Paulo\, Brazil
CATEGORIES:Exhibition
ATTACH;FMTTYPE=image/png:https://fashionvaluechain.com/wp-content/uploads/2026/03/brazil-international-apparel-sourcing-show-1.png
ORGANIZER;CN="JP Communications Inc.":MAILTO:info@appareltextilesourcing.com
END:VEVENT
END:VCALENDAR