BEGIN:VCALENDAR
VERSION:2.0
PRODID:-//FASHION VALUE CHAIN - ECPv6.15.16//NONSGML v1.0//EN
CALSCALE:GREGORIAN
METHOD:PUBLISH
X-WR-CALNAME:FASHION VALUE CHAIN
X-ORIGINAL-URL:https://fashionvaluechain.com
X-WR-CALDESC:Events for FASHION VALUE CHAIN
REFRESH-INTERVAL;VALUE=DURATION:PT1H
X-Robots-Tag:noindex
X-PUBLISHED-TTL:PT1H
BEGIN:VTIMEZONE
TZID:Europe/Moscow
BEGIN:STANDARD
TZOFFSETFROM:+0300
TZOFFSETTO:+0300
TZNAME:MSK
DTSTART:20250101T000000
END:STANDARD
END:VTIMEZONE
BEGIN:VEVENT
DTSTART;TZID=Europe/Moscow:20261006T100000
DTEND;TZID=Europe/Moscow:20261008T180000
DTSTAMP:20260423T133636
CREATED:20260331T053929Z
LAST-MODIFIED:20260331T053929Z
UID:67649-1791280800-1791482400@fashionvaluechain.com
SUMMARY:Texworld Addis Ababa – 2026
DESCRIPTION:Texworld Addis Ababa is a textile sourcing exhibition connecting manufacturers with buyers in the African market. The event showcases fabrics\, apparel\, and accessories designed for global markets. Exhibitors present materials and production services\, while buyers attend to evaluate suppliers. The exhibition also includes networking sessions and discussions on industry development. It supports collaboration within the African textile sector.
URL:https://fashionvaluechain.com/event/texworld-addis-ababa-2026/
LOCATION:Millennium Hall\, Addis Ababa\, Millennium Hall\, Addis Ababa\, Addis Ababa\, Ethiopia
CATEGORIES:Exhibition
ATTACH;FMTTYPE=image/webp:https://fashionvaluechain.com/wp-content/uploads/2026/03/texworld_addis_abeba_logo_9274-1.webp
END:VEVENT
END:VCALENDAR