BEGIN:VCALENDAR
VERSION:2.0
PRODID:-//FASHION VALUE CHAIN - ECPv6.15.16//NONSGML v1.0//EN
CALSCALE:GREGORIAN
METHOD:PUBLISH
X-ORIGINAL-URL:https://fashionvaluechain.com
X-WR-CALDESC:Events for FASHION VALUE CHAIN
REFRESH-INTERVAL;VALUE=DURATION:PT1H
X-Robots-Tag:noindex
X-PUBLISHED-TTL:PT1H
BEGIN:VTIMEZONE
TZID:Asia/Kolkata
BEGIN:STANDARD
TZOFFSETFROM:+0530
TZOFFSETTO:+0530
TZNAME:IST
DTSTART:20250101T000000
END:STANDARD
END:VTIMEZONE
BEGIN:VTIMEZONE
TZID:America/Chicago
BEGIN:DAYLIGHT
TZOFFSETFROM:-0600
TZOFFSETTO:-0500
TZNAME:CDT
DTSTART:20250309T080000
END:DAYLIGHT
BEGIN:STANDARD
TZOFFSETFROM:-0500
TZOFFSETTO:-0600
TZNAME:CST
DTSTART:20251102T070000
END:STANDARD
BEGIN:DAYLIGHT
TZOFFSETFROM:-0600
TZOFFSETTO:-0500
TZNAME:CDT
DTSTART:20260308T080000
END:DAYLIGHT
BEGIN:STANDARD
TZOFFSETFROM:-0500
TZOFFSETTO:-0600
TZNAME:CST
DTSTART:20261101T070000
END:STANDARD
BEGIN:DAYLIGHT
TZOFFSETFROM:-0600
TZOFFSETTO:-0500
TZNAME:CDT
DTSTART:20270314T080000
END:DAYLIGHT
BEGIN:STANDARD
TZOFFSETFROM:-0500
TZOFFSETTO:-0600
TZNAME:CST
DTSTART:20271107T070000
END:STANDARD
END:VTIMEZONE
BEGIN:VTIMEZONE
TZID:Asia/Krasnoyarsk
BEGIN:STANDARD
TZOFFSETFROM:+0700
TZOFFSETTO:+0700
TZNAME:+07
DTSTART:20250101T000000
END:STANDARD
END:VTIMEZONE
BEGIN:VTIMEZONE
TZID:Europe/Moscow
BEGIN:STANDARD
TZOFFSETFROM:+0300
TZOFFSETTO:+0300
TZNAME:MSK
DTSTART:20250101T000000
END:STANDARD
END:VTIMEZONE
BEGIN:VEVENT
DTSTART;TZID=Asia/Kolkata:20260901T100000
DTEND;TZID=Asia/Kolkata:20260903T180000
DTSTAMP:20260423T105721
CREATED:20260310T170417Z
LAST-MODIFIED:20260310T170417Z
UID:66387-1788256800-1788458400@fashionvaluechain.com
SUMMARY:Munich Fabric Start – September 2026
DESCRIPTION:Munich Fabric Start is an influential European textile trade fair dedicated to fabrics\, trims\, accessories\, and sourcing solutions for the fashion industry. The event brings together textile manufacturers\, designers\, apparel brands\, and sourcing professionals from around the world. Exhibitors present new seasonal fabric collections\, innovative textile technologies\, and sustainable material solutions. Buyers and product developers attend the exhibition to explore emerging trends and identify materials suitable for upcoming fashion collections. The event also features trend forums\, expert presentations\, and networking sessions that provide insights into market developments and consumer preferences. Munich Fabric Start plays an important role in supporting innovation within the textile sector and facilitating collaboration between textile producers and fashion brands across Europe and international markets.
URL:https://fashionvaluechain.com/event/munich-fabric-start-september-2026/
LOCATION:MOC Munich\, Germany\, MOC Munich\, Germany\, Munich\, Germany
CATEGORIES:Exhibition
ATTACH;FMTTYPE=image/jpeg:https://fashionvaluechain.com/wp-content/uploads/2026/03/Fabric-Start-2024-Munich-Germany.jpg
ORGANIZER;CN="Munich Fabric Start Exhibitions GmbH":MAILTO:info@munichfabricstart.de
END:VEVENT
BEGIN:VEVENT
DTSTART;TZID=America/Chicago:20260902T100000
DTEND;TZID=America/Chicago:20260904T170000
DTSTAMP:20260423T105721
CREATED:20260325T181025Z
LAST-MODIFIED:20260325T181025Z
UID:67302-1788343200-1788541200@fashionvaluechain.com
SUMMARY:Apparel Textile Sourcing Mexico – Mexico City 2026
DESCRIPTION:Apparel Textile Sourcing Mexico is an international exhibition connecting manufacturers with fashion brands and retailers in Latin America. The event showcases apparel\, textiles\, and production services designed for global markets. Buyers attend to evaluate suppliers and explore sourcing opportunities. Exhibitors present collections and materials suitable for retail distribution. The exhibition also includes networking sessions and discussions on supply chain strategies. It supports collaboration within the global apparel sourcing industry.
URL:https://fashionvaluechain.com/event/apparel-textile-sourcing-mexico-mexico-city-2026/
LOCATION:Centro Citibanamex\, Centro Citibanamex\, mexico city
CATEGORIES:Exhibition
ATTACH;FMTTYPE=image/png:https://fashionvaluechain.com/wp-content/uploads/2026/03/slfh01tmt26hjhcytgjp-7i76462m-2025-10-15.png
ORGANIZER;CN="JP Communications Inc.":MAILTO:info@appareltextilesourcing.com
END:VEVENT
BEGIN:VEVENT
DTSTART;TZID=Asia/Krasnoyarsk:20260921T100000
DTEND;TZID=Asia/Krasnoyarsk:20260923T180000
DTSTAMP:20260423T105721
CREATED:20260331T052643Z
LAST-MODIFIED:20260331T052709Z
UID:67636-1789984800-1790186400@fashionvaluechain.com
SUMMARY:Texcare Asia – Bangkok 2026
DESCRIPTION:Texcare Asia Bangkok is an exhibition focused on textile care\, processing technologies\, and garment finishing solutions. The event gathers manufacturers and service providers presenting innovations in textile maintenance and processing. Exhibitors showcase technologies designed to improve efficiency and sustainability. Industry professionals attend to evaluate solutions and explore partnerships. The exhibition also includes technical discussions addressing industry trends. It serves as a platform for advancing textile care technologies.
URL:https://fashionvaluechain.com/event/texcare-asia-bangkok-2026/
LOCATION:BITEC\, Bangkok\, Thailand\, BITEC\, Bangkok\, Thailand\, Bangkok\, Thailand
CATEGORIES:Exhibition
ATTACH;FMTTYPE=image/png:https://fashionvaluechain.com/wp-content/uploads/2026/03/opengraph-image-v1m6y3.png
ORGANIZER;CN="Messe Frankfurt Asia":MAILTO:info@messefrankfurt.com
END:VEVENT
BEGIN:VEVENT
DTSTART;TZID=Asia/Kolkata:20260922T090000
DTEND;TZID=Asia/Kolkata:20260924T180000
DTSTAMP:20260423T105721
CREATED:20260314T175626Z
LAST-MODIFIED:20260314T175626Z
UID:66702-1790067600-1790272800@fashionvaluechain.com
SUMMARY:Coterie New York 2026
DESCRIPTION:Coterie New York is a contemporary fashion trade show that brings together designers\, apparel brands\, and retail buyers from international markets. The event features curated collections of womenswear\, accessories\, and footwear designed for boutique and department store retail. Buyers attend the exhibition to explore new brands and evaluate fashion collections that reflect emerging consumer trends. Exhibitors present innovative designs and seasonal apparel collections intended for global retail markets. The event also hosts networking opportunities and trend presentations that provide insights into fashion merchandising and brand development. Coterie New York provides an influential platform where designers and retailers connect to build partnerships that support the expansion of fashion retail businesses.
URL:https://fashionvaluechain.com/event/coterie-new-york-2026/
LOCATION:Javits Center\, New York\, USA\, Javits Center\, New York\, USA
CATEGORIES:Exhibition
ATTACH;FMTTYPE=image/jpeg:https://fashionvaluechain.com/wp-content/uploads/2026/03/coterie-1.jpg
END:VEVENT
BEGIN:VEVENT
DTSTART;TZID=Europe/Moscow:20260923T100000
DTEND;TZID=Europe/Moscow:20260926T180000
DTSTAMP:20260423T105721
CREATED:20260331T182124Z
LAST-MODIFIED:20260331T182124Z
UID:67818-1790157600-1790445600@fashionvaluechain.com
SUMMARY:Deniminist – Istanbul 2026
DESCRIPTION:Deniminist Istanbul is a comprehensive exhibition dedicated to the global denim value chain. The event gathers manufacturers\, suppliers\, and fashion brands presenting fabrics\, garments\, machinery\, and finishing technologies. Exhibitors showcase innovations in denim production\, including sustainable materials and advanced processing techniques. Buyers and industry professionals attend to evaluate suppliers and explore sourcing opportunities. The exhibition also includes networking sessions and technical presentations. Deniminist serves as a major platform for advancing innovation and collaboration within the denim industry.
URL:https://fashionvaluechain.com/event/deniminist-istanbul-2026/
LOCATION:Istanbul Expo Center\, Istanbul\, Türkiye\, Istanbul Expo Center\, Istanbul Expo Center\, Istanbul\, Türkiye\, Istanbul\, Turkey
CATEGORIES:Exhibition
ATTACH;FMTTYPE=image/png:https://fashionvaluechain.com/wp-content/uploads/2026/03/DeniministLogo.png
END:VEVENT
END:VCALENDAR