BEGIN:VCALENDAR
VERSION:2.0
PRODID:-//FASHION VALUE CHAIN - ECPv6.15.16//NONSGML v1.0//EN
CALSCALE:GREGORIAN
METHOD:PUBLISH
X-ORIGINAL-URL:https://fashionvaluechain.com
X-WR-CALDESC:Events for FASHION VALUE CHAIN
REFRESH-INTERVAL;VALUE=DURATION:PT1H
X-Robots-Tag:noindex
X-PUBLISHED-TTL:PT1H
BEGIN:VTIMEZONE
TZID:UTC
BEGIN:STANDARD
TZOFFSETFROM:+0000
TZOFFSETTO:+0000
TZNAME:UTC
DTSTART:20250101T000000
END:STANDARD
END:VTIMEZONE
BEGIN:VEVENT
DTSTART;TZID=UTC:20261014T100000
DTEND;TZID=UTC:20261016T180000
DTSTAMP:20260423T100212
CREATED:20260328T144844Z
LAST-MODIFIED:20260328T144844Z
UID:67584-1791972000-1792173600@fashionvaluechain.com
SUMMARY:Fashion Expo Astana – Kazakhstan 2026
DESCRIPTION:Fashion Expo Astana is a regional trade exhibition that showcases apparel\, footwear\, and accessories. The event gathers brands\, designers\, and buyers presenting collections for retail markets. Exhibitors display products aligned with regional trends\, while buyers attend to evaluate collections and identify sourcing opportunities. The exhibition also includes networking sessions and fashion presentations. It supports collaboration within the fashion industry in Central Asia.
URL:https://fashionvaluechain.com/event/fashion-expo-astana-kazakhstan-2026/
LOCATION:Expo International Exhibition Center\, Astana\, Expo International Exhibition Center\, Astana\, Astana\, Kazakhstan
CATEGORIES:Exhibition
ATTACH;FMTTYPE=image/jpeg:https://fashionvaluechain.com/wp-content/uploads/2026/03/maxresdefault-1.jpg
ORGANIZER;CN="Astana Expo Company":MAILTO:info@fashionexpo.kz
END:VEVENT
END:VCALENDAR