BEGIN:VCALENDAR
VERSION:2.0
PRODID:-//FASHION VALUE CHAIN - ECPv6.15.16//NONSGML v1.0//EN
CALSCALE:GREGORIAN
METHOD:PUBLISH
X-WR-CALNAME:FASHION VALUE CHAIN
X-ORIGINAL-URL:https://fashionvaluechain.com
X-WR-CALDESC:Events for FASHION VALUE CHAIN
REFRESH-INTERVAL;VALUE=DURATION:PT1H
X-Robots-Tag:noindex
X-PUBLISHED-TTL:PT1H
BEGIN:VTIMEZONE
TZID:America/New_York
BEGIN:DAYLIGHT
TZOFFSETFROM:-0500
TZOFFSETTO:-0400
TZNAME:EDT
DTSTART:20250309T070000
END:DAYLIGHT
BEGIN:STANDARD
TZOFFSETFROM:-0400
TZOFFSETTO:-0500
TZNAME:EST
DTSTART:20251102T060000
END:STANDARD
BEGIN:DAYLIGHT
TZOFFSETFROM:-0500
TZOFFSETTO:-0400
TZNAME:EDT
DTSTART:20260308T070000
END:DAYLIGHT
BEGIN:STANDARD
TZOFFSETFROM:-0400
TZOFFSETTO:-0500
TZNAME:EST
DTSTART:20261101T060000
END:STANDARD
BEGIN:DAYLIGHT
TZOFFSETFROM:-0500
TZOFFSETTO:-0400
TZNAME:EDT
DTSTART:20270314T070000
END:DAYLIGHT
BEGIN:STANDARD
TZOFFSETFROM:-0400
TZOFFSETTO:-0500
TZNAME:EST
DTSTART:20271107T060000
END:STANDARD
END:VTIMEZONE
BEGIN:VTIMEZONE
TZID:America/Port_of_Spain
BEGIN:STANDARD
TZOFFSETFROM:-0400
TZOFFSETTO:-0400
TZNAME:AST
DTSTART:20250101T000000
END:STANDARD
END:VTIMEZONE
BEGIN:VEVENT
DTSTART;TZID=America/New_York:20260909T090000
DTEND;TZID=America/New_York:20260911T180000
DTSTAMP:20260423T084329
CREATED:20260326T063240Z
LAST-MODIFIED:20260326T063240Z
UID:67367-1788944400-1789149600@fashionvaluechain.com
SUMMARY:MAGIC New York – September 2026
DESCRIPTION:MAGIC New York is a fashion trade event that showcases apparel\, footwear\, and accessories for retail markets. The event gathers designers\, brands\, and buyers presenting collections aligned with current trends. Exhibitors display ready-to-wear garments and lifestyle products\, while buyers attend to evaluate collections and establish business partnerships. The exhibition also includes networking sessions and trend presentations. MAGIC New York provides a platform for connecting fashion brands with retailers and supporting business development within the fashion industry.
URL:https://fashionvaluechain.com/event/magic-new-york-september-2026/
LOCATION:Javits Center\, New York\, USA\, Javits Center\, New York\, USA
CATEGORIES:Exhibition
ATTACH;FMTTYPE=image/webp:https://fashionvaluechain.com/wp-content/uploads/2026/03/Magic_New_York.webp
END:VEVENT
BEGIN:VEVENT
DTSTART;TZID=America/Port_of_Spain:20260911T100000
DTEND;TZID=America/Port_of_Spain:20260913T190000
DTSTAMP:20260423T084329
CREATED:20260324T162538Z
LAST-MODIFIED:20260324T162538Z
UID:67210-1789120800-1789326000@fashionvaluechain.com
SUMMARY:MOMAD Metropolis Madrid
DESCRIPTION:MOMAD Metropolis Madrid is a fashion trade fair that presents apparel\, footwear\, and accessories for retail markets. The event brings together designers\, brands\, and buyers from international markets. Exhibitors showcase collections aligned with current fashion trends. Buyers attend to evaluate products and establish business partnerships. The exhibition also includes networking sessions and trend presentations. MOMAD supports collaboration within the European fashion industry.
URL:https://fashionvaluechain.com/event/momad-metropolis-madrid/
LOCATION:IFEMA Madrid\, IFEMA Madrid\, Madrid\, Spain
CATEGORIES:Exhibition
ATTACH;FMTTYPE=image/webp:https://fashionvaluechain.com/wp-content/uploads/2026/03/673b155a93afb284b7d2d57b_lg.webp
ORGANIZER;CN="IFEMA Madrid":MAILTO:info@ifema.es
END:VEVENT
END:VCALENDAR