BEGIN:VCALENDAR
VERSION:2.0
PRODID:-//FASHION VALUE CHAIN - ECPv6.15.16//NONSGML v1.0//EN
CALSCALE:GREGORIAN
METHOD:PUBLISH
X-WR-CALNAME:FASHION VALUE CHAIN
X-ORIGINAL-URL:https://fashionvaluechain.com
X-WR-CALDESC:Events for FASHION VALUE CHAIN
REFRESH-INTERVAL;VALUE=DURATION:PT1H
X-Robots-Tag:noindex
X-PUBLISHED-TTL:PT1H
BEGIN:VTIMEZONE
TZID:Europe/Copenhagen
BEGIN:DAYLIGHT
TZOFFSETFROM:+0100
TZOFFSETTO:+0200
TZNAME:CEST
DTSTART:20250330T010000
END:DAYLIGHT
BEGIN:STANDARD
TZOFFSETFROM:+0200
TZOFFSETTO:+0100
TZNAME:CET
DTSTART:20251026T010000
END:STANDARD
BEGIN:DAYLIGHT
TZOFFSETFROM:+0100
TZOFFSETTO:+0200
TZNAME:CEST
DTSTART:20260329T010000
END:DAYLIGHT
BEGIN:STANDARD
TZOFFSETFROM:+0200
TZOFFSETTO:+0100
TZNAME:CET
DTSTART:20261025T010000
END:STANDARD
BEGIN:DAYLIGHT
TZOFFSETFROM:+0100
TZOFFSETTO:+0200
TZNAME:CEST
DTSTART:20270328T010000
END:DAYLIGHT
BEGIN:STANDARD
TZOFFSETFROM:+0200
TZOFFSETTO:+0100
TZNAME:CET
DTSTART:20271031T010000
END:STANDARD
END:VTIMEZONE
BEGIN:VEVENT
DTSTART;TZID=Europe/Copenhagen:20260805T090000
DTEND;TZID=Europe/Copenhagen:20260807T180000
DTSTAMP:20260423T071603
CREATED:20260327T170657Z
LAST-MODIFIED:20260327T170657Z
UID:67509-1785920400-1786125600@fashionvaluechain.com
SUMMARY:CIFF Kids – Copenhagen 2026
DESCRIPTION:CIFF Kids is a dedicated segment of Copenhagen International Fashion Fair focusing on children’s apparel and lifestyle products. The event gathers brands\, designers\, and buyers presenting collections for the childrenswear market. Exhibitors showcase clothing\, accessories\, and footwear designed for children. Buyers attend to evaluate collections and identify new brands for retail distribution. The exhibition also includes trend presentations and networking sessions. CIFF Kids provides a platform for expanding business opportunities within the childrenswear sector.
URL:https://fashionvaluechain.com/event/ciff-kids-copenhagen-2026/
LOCATION:CIFF Kids is a dedicated segment of Copenhagen International Fashion Fair\, Bella Center Copenhagen\, Copenhagen\, Denmark
CATEGORIES:Exhibition
ATTACH;FMTTYPE=image/jpeg:https://fashionvaluechain.com/wp-content/uploads/2026/03/WhatsApp-Image-2023-01-05-at-11.42.38.jpeg
ORGANIZER;CN="CIFF":MAILTO:info@ciff.dk
END:VEVENT
END:VCALENDAR