BEGIN:VCALENDAR
VERSION:2.0
PRODID:-//FASHION VALUE CHAIN - ECPv6.15.16//NONSGML v1.0//EN
CALSCALE:GREGORIAN
METHOD:PUBLISH
X-WR-CALNAME:FASHION VALUE CHAIN
X-ORIGINAL-URL:https://fashionvaluechain.com
X-WR-CALDESC:Events for FASHION VALUE CHAIN
REFRESH-INTERVAL;VALUE=DURATION:PT1H
X-Robots-Tag:noindex
X-PUBLISHED-TTL:PT1H
BEGIN:VTIMEZONE
TZID:Asia/Shanghai
BEGIN:STANDARD
TZOFFSETFROM:+0800
TZOFFSETTO:+0800
TZNAME:CST
DTSTART:20250101T000000
END:STANDARD
END:VTIMEZONE
BEGIN:VEVENT
DTSTART;TZID=Asia/Shanghai:20260520T093000
DTEND;TZID=Asia/Shanghai:20260522T173000
DTSTAMP:20260423T012929
CREATED:20260331T162424Z
LAST-MODIFIED:20260331T162424Z
UID:67736-1779269400-1779471000@fashionvaluechain.com
SUMMARY:Shoes & Leather – Guangzhou 2026
DESCRIPTION:Shoes & Leather Guangzhou is a major trade exhibition focusing on leather products\, footwear\, and accessories. The event gathers manufacturers\, suppliers\, and buyers presenting products and technologies related to leather production. Exhibitors showcase footwear\, handbags\, and leather accessories designed for global markets. Buyers attend to evaluate suppliers and explore sourcing opportunities. The exhibition also includes networking sessions and industry discussions. It plays an important role in connecting global stakeholders within the leather supply chain.
URL:https://fashionvaluechain.com/event/shoes-leather-guangzhou-2026/
LOCATION:China Import & Export Fair Complex\, Guangzhou\, China Import & Export Fair Complex\, Guangzhou\, China
CATEGORIES:Exhibition
ATTACH;FMTTYPE=image/gif:https://fashionvaluechain.com/wp-content/uploads/2026/03/fvc-3.gif
END:VEVENT
END:VCALENDAR