BEGIN:VCALENDAR
VERSION:2.0
PRODID:-//FASHION VALUE CHAIN - ECPv6.15.16//NONSGML v1.0//EN
CALSCALE:GREGORIAN
METHOD:PUBLISH
X-ORIGINAL-URL:https://fashionvaluechain.com
X-WR-CALDESC:Events for FASHION VALUE CHAIN
REFRESH-INTERVAL;VALUE=DURATION:PT1H
X-Robots-Tag:noindex
X-PUBLISHED-TTL:PT1H
BEGIN:VTIMEZONE
TZID:Asia/Kolkata
BEGIN:STANDARD
TZOFFSETFROM:+0530
TZOFFSETTO:+0530
TZNAME:IST
DTSTART:20250101T000000
END:STANDARD
END:VTIMEZONE
BEGIN:VEVENT
DTSTART;TZID=Asia/Kolkata:20260328T100000
DTEND;TZID=Asia/Kolkata:20270117T180000
DTSTAMP:20260423T025743
CREATED:20260306T160036Z
LAST-MODIFIED:20260306T160036Z
UID:66148-1774692000-1800208800@fashionvaluechain.com
SUMMARY:The Antwerp Six Fashion Exhibition
DESCRIPTION:This exhibition celebrates the Antwerp Six\, the group of Belgian designers who revolutionized avant-garde fashion in the 1980s. The show examines their influence on modern fashion design\, featuring garments\, sketches\, and archival material that illustrate how the group transformed Antwerp into a global fashion capital.
URL:https://fashionvaluechain.com/event/the-antwerp-six-fashion-exhibition/
LOCATION:MoMu Fashion Museum\, Antwerp\, Belgium\, MoMu Fashion Museum\, Antwerp\, Belgium\, Antwerp\, Belgium
CATEGORIES:Exhibition
ATTACH;FMTTYPE=image/jpeg:https://fashionvaluechain.com/wp-content/uploads/2026/03/Antwerp-6_WEBSITE-750x1037px.jpg
END:VEVENT
BEGIN:VEVENT
DTSTART;TZID=Asia/Kolkata:20260518T100000
DTEND;TZID=Asia/Kolkata:20260520T180000
DTSTAMP:20260423T025743
CREATED:20260313T160342Z
LAST-MODIFIED:20260313T160342Z
UID:66618-1779098400-1779300000@fashionvaluechain.com
SUMMARY:International Apparel & Textile Fair- DUBAI 2026
DESCRIPTION:The International Apparel & Textile Fair is a major sourcing platform connecting textile manufacturers and garment suppliers with buyers operating in the Middle Eastern fashion market. The exhibition presents fabrics\, ready-to-wear garments\, accessories\, and private-label manufacturing services from companies around the world. Buyers\, fashion retailers\, and sourcing professionals attend the event to explore supplier capabilities and identify materials suitable for apparel production. Exhibitors introduce textile innovations and garment collections intended for global retail markets. The fair also hosts networking sessions and professional discussions addressing global sourcing strategies\, supply chain development\, and sustainable textile production. The International Apparel & Textile Fair supports the growth of fashion trade in the Gulf region while facilitating business partnerships between manufacturers and fashion companies seeking reliable production partners.parel manufacturing sector.
URL:https://fashionvaluechain.com/event/international-apparel-textile-fair-dubai-2026/
LOCATION:Dubai World Trade Centre\, Dubai\, UAE\, Dubai World Trade Centre\, Dubai\, UAE\, Dubai\, United Arab Emirates
CATEGORIES:Exhibition
ATTACH;FMTTYPE=image/jpeg:https://fashionvaluechain.com/wp-content/uploads/2026/03/images-5.jpg
END:VEVENT
END:VCALENDAR