BEGIN:VCALENDAR
VERSION:2.0
PRODID:-//FASHION VALUE CHAIN - ECPv6.15.16//NONSGML v1.0//EN
CALSCALE:GREGORIAN
METHOD:PUBLISH
X-WR-CALNAME:FASHION VALUE CHAIN
X-ORIGINAL-URL:https://fashionvaluechain.com
X-WR-CALDESC:Events for FASHION VALUE CHAIN
REFRESH-INTERVAL;VALUE=DURATION:PT1H
X-Robots-Tag:noindex
X-PUBLISHED-TTL:PT1H
BEGIN:VTIMEZONE
TZID:Asia/Kolkata
BEGIN:STANDARD
TZOFFSETFROM:+0530
TZOFFSETTO:+0530
TZNAME:IST
DTSTART:20250101T000000
END:STANDARD
END:VTIMEZONE
BEGIN:VTIMEZONE
TZID:America/New_York
BEGIN:DAYLIGHT
TZOFFSETFROM:-0500
TZOFFSETTO:-0400
TZNAME:EDT
DTSTART:20250309T070000
END:DAYLIGHT
BEGIN:STANDARD
TZOFFSETFROM:-0400
TZOFFSETTO:-0500
TZNAME:EST
DTSTART:20251102T060000
END:STANDARD
BEGIN:DAYLIGHT
TZOFFSETFROM:-0500
TZOFFSETTO:-0400
TZNAME:EDT
DTSTART:20260308T070000
END:DAYLIGHT
BEGIN:STANDARD
TZOFFSETFROM:-0400
TZOFFSETTO:-0500
TZNAME:EST
DTSTART:20261101T060000
END:STANDARD
BEGIN:DAYLIGHT
TZOFFSETFROM:-0500
TZOFFSETTO:-0400
TZNAME:EDT
DTSTART:20270314T070000
END:DAYLIGHT
BEGIN:STANDARD
TZOFFSETFROM:-0400
TZOFFSETTO:-0500
TZNAME:EST
DTSTART:20271107T060000
END:STANDARD
END:VTIMEZONE
BEGIN:VEVENT
DTSTART;TZID=Asia/Kolkata:20260328T100000
DTEND;TZID=Asia/Kolkata:20270117T180000
DTSTAMP:20260423T133606
CREATED:20260306T160036Z
LAST-MODIFIED:20260306T160036Z
UID:66148-1774692000-1800208800@fashionvaluechain.com
SUMMARY:The Antwerp Six Fashion Exhibition
DESCRIPTION:This exhibition celebrates the Antwerp Six\, the group of Belgian designers who revolutionized avant-garde fashion in the 1980s. The show examines their influence on modern fashion design\, featuring garments\, sketches\, and archival material that illustrate how the group transformed Antwerp into a global fashion capital.
URL:https://fashionvaluechain.com/event/the-antwerp-six-fashion-exhibition/
LOCATION:MoMu Fashion Museum\, Antwerp\, Belgium\, MoMu Fashion Museum\, Antwerp\, Belgium\, Antwerp\, Belgium
CATEGORIES:Exhibition
ATTACH;FMTTYPE=image/jpeg:https://fashionvaluechain.com/wp-content/uploads/2026/03/Antwerp-6_WEBSITE-750x1037px.jpg
END:VEVENT
BEGIN:VEVENT
DTSTART;TZID=America/New_York:20261007T090000
DTEND;TZID=America/New_York:20261008T180000
DTSTAMP:20260423T133606
CREATED:20260328T144034Z
LAST-MODIFIED:20260328T144034Z
UID:67575-1791363600-1791482400@fashionvaluechain.com
SUMMARY:Texfusion Miami – October 2026
DESCRIPTION:Texfusion Miami is a textile sourcing exhibition that connects fabric manufacturers with designers and fashion brands. The event showcases a wide range of fabrics and materials used in apparel production. Exhibitors present collections aligned with seasonal trends\, while buyers attend to evaluate suppliers. The exhibition also includes networking sessions and product showcases. It serves as a platform for connecting textile producers with fashion companies in the American market.
URL:https://fashionvaluechain.com/event/texfusion-miami-october-2026/
LOCATION:Miami Beach Convention Center\, Miami Beach Convention Center\, Miami\, FL\, United States
CATEGORIES:Exhibition
ATTACH;FMTTYPE=image/webp:https://fashionvaluechain.com/wp-content/uploads/2026/03/acuz7cl6jedxazfwuxtg.webp
ORGANIZER;CN="Texfusion Ltd":MAILTO:info@texfusion.co.uk
END:VEVENT
BEGIN:VEVENT
DTSTART;TZID=Asia/Kolkata:20261015T100000
DTEND;TZID=Asia/Kolkata:20261017T200000
DTSTAMP:20260423T133606
CREATED:20260311T153907Z
LAST-MODIFIED:20260311T153907Z
UID:66447-1792058400-1792267200@fashionvaluechain.com
SUMMARY:Pakistan Fashion Week 2026
DESCRIPTION:Pakistan Fashion Week is a significant fashion event that highlights the creativity and craftsmanship of Pakistani designers. The event features runway shows\, designer presentations\, and fashion exhibitions showcasing traditional and contemporary apparel collections. Designers present their work to buyers\, fashion journalists\, and industry professionals from regional and international markets. The event also includes panel discussions addressing fashion entrepreneurship\, sustainable design practices\, and the growth of South Asian fashion markets. Pakistan Fashion Week plays an important role in promoting local designers while strengthening connections between regional fashion industries and global markets
URL:https://fashionvaluechain.com/event/pakistan-fashion-week-2026/
LOCATION:Pearl Continental Hotel\, Lahore\, Pakistan\, Pearl Continental Hotel\, Lahore\, Pakistan\, Lahore\, Pakistan
CATEGORIES:Exhibition,Fashion week
ATTACH;FMTTYPE=image/jpeg:https://fashionvaluechain.com/wp-content/uploads/2026/03/images-4.jpg
ORGANIZER;CN="Pakistan Fashion Design Council":MAILTO:info@pfdc.org
END:VEVENT
BEGIN:VEVENT
DTSTART;TZID=Asia/Kolkata:20261016T100000
DTEND;TZID=Asia/Kolkata:20261021T200000
DTSTAMP:20260423T133606
CREATED:20260311T161614Z
LAST-MODIFIED:20260311T161614Z
UID:66477-1792144800-1792612800@fashionvaluechain.com
SUMMARY:Seoul Fashion Week 2026
DESCRIPTION:Seoul Fashion Week is a leading fashion event in Asia that showcases contemporary Korean fashion and emerging design talent. The event features runway shows\, designer presentations\, and exhibitions attended by buyers\, fashion journalists\, and industry professionals. Designers present seasonal collections that reflect innovative design approaches and global fashion influences. The program also includes networking events and industry forums that address fashion retail trends\, digital marketing strategies\, and sustainable design practices. Seoul Fashion Week has become an important platform for promoting Korean fashion brands and connecting them with international markets
URL:https://fashionvaluechain.com/event/seoul-fashion-week-2026/
LOCATION:Dongdaemun Design Plaza\, Seoul\, South Korea\, Dongdaemun Design Plaza\, Seoul\, South Korea\, Seoul\, Korea\, Democratic People's Republic of
CATEGORIES:Fashion week
ATTACH;FMTTYPE=image/png:https://fashionvaluechain.com/wp-content/uploads/2026/03/img_fashion02.png
END:VEVENT
BEGIN:VEVENT
DTSTART;TZID=Asia/Kolkata:20261024T100000
DTEND;TZID=Asia/Kolkata:20261030T210000
DTSTAMP:20260423T133606
CREATED:20260310T170906Z
LAST-MODIFIED:20260310T170906Z
UID:66392-1792836000-1793394000@fashionvaluechain.com
SUMMARY:Jakarta Fashion Week 2026
DESCRIPTION:Jakarta Fashion Week is one of Southeast Asia’s most prominent fashion events\, showcasing the creativity and cultural diversity of the Indonesian fashion industry. The event features runway shows\, designer presentations\, and fashion exhibitions highlighting both established designers and emerging talents. Fashion brands present their latest collections to buyers\, media representatives\, and fashion professionals from regional and international markets. In addition to fashion shows\, the event organizes industry seminars and workshops that address topics such as digital fashion marketing\, sustainable design practices\, and the development of the regional fashion ecosystem. Jakarta Fashion Week plays a vital role in promoting Indonesian fashion on the global stage while encouraging collaboration between designers\, retailers\, and manufacturers across Asia
URL:https://fashionvaluechain.com/event/jakarta-fashion-week-2026/
LOCATION:Senayan City\, Jakarta\, Indonesia\, Senayan City\, Jakarta\, Indonesia\, Jakarta\, Indonesia
CATEGORIES:Fashion week
ATTACH;FMTTYPE=image/jpeg:https://fashionvaluechain.com/wp-content/uploads/2026/03/pembukaan-jakarta-fashion-week-2026-1kwe9-dom.jpg
ORGANIZER;CN="Jakarta Fashion Week Organization":MAILTO:info@jakartafashionweek.co.id
END:VEVENT
BEGIN:VEVENT
DTSTART;TZID=Asia/Kolkata:20261027T100000
DTEND;TZID=Asia/Kolkata:20261031T210000
DTSTAMP:20260423T133606
CREATED:20260311T154412Z
LAST-MODIFIED:20260311T154517Z
UID:66452-1793095200-1793480400@fashionvaluechain.com
SUMMARY:Dubai Fashion Week 2026
DESCRIPTION:Dubai Fashion Week is an internationally recognized fashion event that showcases collections from designers across the Middle East and global markets. The event includes runway shows\, designer presentations\, and networking activities that bring together fashion professionals\, buyers\, and media representatives. Designers present contemporary and luxury collections reflecting both regional influences and international fashion trends. The event also hosts conferences and workshops addressing fashion entrepreneurship\, retail innovation\, and digital fashion marketing. Dubai Fashion Week serves as a strategic platform for promoting Middle Eastern fashion designers and connecting them with global fashion markets.
URL:https://fashionvaluechain.com/event/dubai-fashion-week-2026/
LOCATION:Dubai Design District\, Dubai\, UAE\, Dubai Design District\, Dubai\, UAE\, Dubai\, United Arab Emirates
CATEGORIES:Conference,Exhibition,Workshop
ATTACH;FMTTYPE=image/jpeg:https://fashionvaluechain.com/wp-content/uploads/2026/03/DUBAI-FASHION-WEEK-FOUNDED-BY-DUBAI-DESIGN-DISTRICT-ARAB-FASHION-COUNCIL.jpg
ORGANIZER;CN="Dubai Design District &amp%3B Arab Fashion Council":MAILTO:info@arabfashionweek.org
END:VEVENT
END:VCALENDAR