BEGIN:VCALENDAR
VERSION:2.0
PRODID:-//FASHION VALUE CHAIN - ECPv6.15.16//NONSGML v1.0//EN
CALSCALE:GREGORIAN
METHOD:PUBLISH
X-WR-CALNAME:FASHION VALUE CHAIN
X-ORIGINAL-URL:https://fashionvaluechain.com
X-WR-CALDESC:Events for FASHION VALUE CHAIN
REFRESH-INTERVAL;VALUE=DURATION:PT1H
X-Robots-Tag:noindex
X-PUBLISHED-TTL:PT1H
BEGIN:VTIMEZONE
TZID:Asia/Kolkata
BEGIN:STANDARD
TZOFFSETFROM:+0530
TZOFFSETTO:+0530
TZNAME:IST
DTSTART:20250101T000000
END:STANDARD
END:VTIMEZONE
BEGIN:VTIMEZONE
TZID:Asia/Shanghai
BEGIN:STANDARD
TZOFFSETFROM:+0800
TZOFFSETTO:+0800
TZNAME:CST
DTSTART:20250101T000000
END:STANDARD
END:VTIMEZONE
BEGIN:VEVENT
DTSTART;TZID=Asia/Kolkata:20261117T100000
DTEND;TZID=Asia/Kolkata:20261119T180000
DTSTAMP:20260424T191417
CREATED:20260318T161415Z
LAST-MODIFIED:20260318T161415Z
UID:66927-1794909600-1795111200@fashionvaluechain.com
SUMMARY:ITF Intertex Spain – November 2026
DESCRIPTION:ITF Intertex Spain is an international textile and fashion exhibition that connects textile manufacturers with fashion brands and sourcing professionals. The event features fabrics\, yarns\, and accessories used in apparel production. Buyers attend to evaluate suppliers and explore sourcing opportunities. The exhibition includes networking sessions and industry discussions. It provides a platform for collaboration within the European fashion industry.
URL:https://fashionvaluechain.com/event/itf-intertex-spain-november-2026/
LOCATION:IFEMA Madrid\, IFEMA Madrid\, Madrid\, Spain
CATEGORIES:Exhibition
ATTACH;FMTTYPE=image/gif:https://fashionvaluechain.com/wp-content/uploads/2026/03/3644_orig.gif
ORGANIZER;CN="B Group International Fairs":MAILTO:info@bgroupus.com
END:VEVENT
BEGIN:VEVENT
DTSTART;TZID=Asia/Shanghai:20261125T093000
DTEND;TZID=Asia/Shanghai:20261127T180000
DTSTAMP:20260424T191417
CREATED:20260318T163714Z
LAST-MODIFIED:20260318T163714Z
UID:66951-1795599000-1795802400@fashionvaluechain.com
SUMMARY:Fashion Source Shenzhen – November 2026
DESCRIPTION:Fashion Source Shenzhen is a comprehensive fashion sourcing exhibition that connects manufacturers with global buyers and retailers. The event showcases apparel\, textiles\, and accessories produced by manufacturers in China and international markets. Buyers attend to evaluate suppliers and explore sourcing opportunities. Exhibitors present collections designed for retail distribution. The event also includes seminars addressing fashion trends and production strategies. Fashion Source Shenzhen supports collaboration within the global fashion supply chain.
URL:https://fashionvaluechain.com/event/fashion-source-shenzhen-november-2026/
LOCATION:Shenzhen Convention & Exhibition Center\, Shenzhen Convention & Exhibition Center\, Shenzhen\, China
CATEGORIES:Exhibition
ATTACH;FMTTYPE=image/jpeg:https://fashionvaluechain.com/wp-content/uploads/2026/03/maxresdefault.jpg
ORGANIZER;CN="Fashion Source Shenzhen":MAILTO:info@fashionsource.cn
END:VEVENT
BEGIN:VEVENT
DTSTART;TZID=Asia/Kolkata:20261209T100000
DTEND;TZID=Asia/Kolkata:20261211T180000
DTSTAMP:20260424T191417
CREATED:20260310T165828Z
LAST-MODIFIED:20260310T165828Z
UID:66383-1796810400-1797012000@fashionvaluechain.com
SUMMARY:Apparel Sourcing Fair – New Delhi 2026
DESCRIPTION:The Apparel Sourcing Fair in New Delhi is a dedicated trade exhibition that links garment manufacturers\, textile suppliers\, and fashion brands with both domestic and international buyers. \nThe event emphasizes sourcing opportunities for ready-made garments\, fabrics\, accessories\, and private-label manufacturing services. \nExhibitors encompass a broad range of the apparel supply chain\, including knitwear producers\, woven garment manufacturers\, textile mills\, and accessory suppliers. \nRetailers and sourcing professionals participate in the fair to assess suppliers\, examine product collections\, and forge long-term sourcing partnerships. \nIndustry seminars and panel discussions offer insights into global fashion trends\, export opportunities\, and supply chain management. \nThe event significantly contributes to the enhancement of India’s apparel manufacturing sector and fosters collaboration between manufacturers and fashion retailers.
URL:https://fashionvaluechain.com/event/apparel-sourcing-fair-new-delhi-2026/
LOCATION:Pragati Maidan\, New Delhi\, India.\, Pragati Maidan\, New Delhi\, India.
CATEGORIES:Exhibition
ATTACH;FMTTYPE=image/png:https://fashionvaluechain.com/wp-content/uploads/2026/03/asf.png
END:VEVENT
END:VCALENDAR