BEGIN:VCALENDAR
VERSION:2.0
PRODID:-//FASHION VALUE CHAIN - ECPv6.15.16//NONSGML v1.0//EN
CALSCALE:GREGORIAN
METHOD:PUBLISH
X-ORIGINAL-URL:https://fashionvaluechain.com
X-WR-CALDESC:Events for FASHION VALUE CHAIN
REFRESH-INTERVAL;VALUE=DURATION:PT1H
X-Robots-Tag:noindex
X-PUBLISHED-TTL:PT1H
BEGIN:VTIMEZONE
TZID:Asia/Kolkata
BEGIN:STANDARD
TZOFFSETFROM:+0530
TZOFFSETTO:+0530
TZNAME:IST
DTSTART:20250101T000000
END:STANDARD
END:VTIMEZONE
BEGIN:VTIMEZONE
TZID:America/New_York
BEGIN:DAYLIGHT
TZOFFSETFROM:-0500
TZOFFSETTO:-0400
TZNAME:EDT
DTSTART:20250309T070000
END:DAYLIGHT
BEGIN:STANDARD
TZOFFSETFROM:-0400
TZOFFSETTO:-0500
TZNAME:EST
DTSTART:20251102T060000
END:STANDARD
BEGIN:DAYLIGHT
TZOFFSETFROM:-0500
TZOFFSETTO:-0400
TZNAME:EDT
DTSTART:20260308T070000
END:DAYLIGHT
BEGIN:STANDARD
TZOFFSETFROM:-0400
TZOFFSETTO:-0500
TZNAME:EST
DTSTART:20261101T060000
END:STANDARD
BEGIN:DAYLIGHT
TZOFFSETFROM:-0500
TZOFFSETTO:-0400
TZNAME:EDT
DTSTART:20270314T070000
END:DAYLIGHT
BEGIN:STANDARD
TZOFFSETFROM:-0400
TZOFFSETTO:-0500
TZNAME:EST
DTSTART:20271107T060000
END:STANDARD
END:VTIMEZONE
BEGIN:VTIMEZONE
TZID:Europe/Paris
BEGIN:DAYLIGHT
TZOFFSETFROM:+0100
TZOFFSETTO:+0200
TZNAME:CEST
DTSTART:20250330T010000
END:DAYLIGHT
BEGIN:STANDARD
TZOFFSETFROM:+0200
TZOFFSETTO:+0100
TZNAME:CET
DTSTART:20251026T010000
END:STANDARD
BEGIN:DAYLIGHT
TZOFFSETFROM:+0100
TZOFFSETTO:+0200
TZNAME:CEST
DTSTART:20260329T010000
END:DAYLIGHT
BEGIN:STANDARD
TZOFFSETFROM:+0200
TZOFFSETTO:+0100
TZNAME:CET
DTSTART:20261025T010000
END:STANDARD
BEGIN:DAYLIGHT
TZOFFSETFROM:+0100
TZOFFSETTO:+0200
TZNAME:CEST
DTSTART:20270328T010000
END:DAYLIGHT
BEGIN:STANDARD
TZOFFSETFROM:+0200
TZOFFSETTO:+0100
TZNAME:CET
DTSTART:20271031T010000
END:STANDARD
END:VTIMEZONE
BEGIN:VTIMEZONE
TZID:Europe/Paris
BEGIN:DAYLIGHT
TZOFFSETFROM:+0100
TZOFFSETTO:+0200
TZNAME:CEST
DTSTART:20250330T010000
END:DAYLIGHT
BEGIN:STANDARD
TZOFFSETFROM:+0200
TZOFFSETTO:+0100
TZNAME:CET
DTSTART:20251026T010000
END:STANDARD
BEGIN:DAYLIGHT
TZOFFSETFROM:+0100
TZOFFSETTO:+0200
TZNAME:CEST
DTSTART:20260329T010000
END:DAYLIGHT
BEGIN:STANDARD
TZOFFSETFROM:+0200
TZOFFSETTO:+0100
TZNAME:CET
DTSTART:20261025T010000
END:STANDARD
BEGIN:DAYLIGHT
TZOFFSETFROM:+0100
TZOFFSETTO:+0200
TZNAME:CEST
DTSTART:20270328T010000
END:DAYLIGHT
BEGIN:STANDARD
TZOFFSETFROM:+0200
TZOFFSETTO:+0100
TZNAME:CET
DTSTART:20271031T010000
END:STANDARD
END:VTIMEZONE
BEGIN:VTIMEZONE
TZID:Europe/Rome
BEGIN:DAYLIGHT
TZOFFSETFROM:+0100
TZOFFSETTO:+0200
TZNAME:CEST
DTSTART:20250330T010000
END:DAYLIGHT
BEGIN:STANDARD
TZOFFSETFROM:+0200
TZOFFSETTO:+0100
TZNAME:CET
DTSTART:20251026T010000
END:STANDARD
BEGIN:DAYLIGHT
TZOFFSETFROM:+0100
TZOFFSETTO:+0200
TZNAME:CEST
DTSTART:20260329T010000
END:DAYLIGHT
BEGIN:STANDARD
TZOFFSETFROM:+0200
TZOFFSETTO:+0100
TZNAME:CET
DTSTART:20261025T010000
END:STANDARD
BEGIN:DAYLIGHT
TZOFFSETFROM:+0100
TZOFFSETTO:+0200
TZNAME:CEST
DTSTART:20270328T010000
END:DAYLIGHT
BEGIN:STANDARD
TZOFFSETFROM:+0200
TZOFFSETTO:+0100
TZNAME:CET
DTSTART:20271031T010000
END:STANDARD
END:VTIMEZONE
BEGIN:VEVENT
DTSTART;TZID=Asia/Kolkata:20260321T100000
DTEND;TZID=Asia/Kolkata:20261101T180000
DTSTAMP:20260425T035744
CREATED:20260306T172344Z
LAST-MODIFIED:20260306T172344Z
UID:66156-1774087200-1793556000@fashionvaluechain.com
SUMMARY:Schiaparelli: Fashion Becomes Art
DESCRIPTION:This major exhibition at the V&A Museum explores the legacy of Italian-French designer Elsa Schiaparelli\, known for her surrealist collaborations with artists like Salvador Dalí. The exhibition traces the brand’s history from the 1920s to its modern revival under Daniel Roseberry\, displaying garments\, accessories\, and archival materials that highlight the fusion of fashion and art
URL:https://fashionvaluechain.com/event/schiaparelli-fashion-becomes-art/
LOCATION:Victoria and Albert Museum\, London\, UK\, Victoria and Albert Museum\, London\, UK\, London\, London\, United Kingdom
CATEGORIES:Exhibition
ATTACH;FMTTYPE=image/jpeg:https://fashionvaluechain.com/wp-content/uploads/2026/03/1920.jpg
END:VEVENT
BEGIN:VEVENT
DTSTART;TZID=Asia/Kolkata:20260328T100000
DTEND;TZID=Asia/Kolkata:20270117T180000
DTSTAMP:20260425T035744
CREATED:20260306T160036Z
LAST-MODIFIED:20260306T160036Z
UID:66148-1774692000-1800208800@fashionvaluechain.com
SUMMARY:The Antwerp Six Fashion Exhibition
DESCRIPTION:This exhibition celebrates the Antwerp Six\, the group of Belgian designers who revolutionized avant-garde fashion in the 1980s. The show examines their influence on modern fashion design\, featuring garments\, sketches\, and archival material that illustrate how the group transformed Antwerp into a global fashion capital.
URL:https://fashionvaluechain.com/event/the-antwerp-six-fashion-exhibition/
LOCATION:MoMu Fashion Museum\, Antwerp\, Belgium\, MoMu Fashion Museum\, Antwerp\, Belgium\, Antwerp\, Belgium
CATEGORIES:Exhibition
ATTACH;FMTTYPE=image/jpeg:https://fashionvaluechain.com/wp-content/uploads/2026/03/Antwerp-6_WEBSITE-750x1037px.jpg
END:VEVENT
BEGIN:VEVENT
DTSTART;TZID=Asia/Kolkata:20260410T080000
DTEND;TZID=Asia/Kolkata:20261018T170000
DTSTAMP:20260425T035744
CREATED:20260306T173704Z
LAST-MODIFIED:20260306T173704Z
UID:66161-1775808000-1792342800@fashionvaluechain.com
SUMMARY:Queen Elizabeth II: Her Life in Style
DESCRIPTION:Explore the extraordinary fashion of Britain’s longest-serving monarch through garments worn across all ten decades of her life – from infancy to maturity\, from princess to queen\, and from casual attire to formal wear for significant events in Britain’s history. \nShowcasing around 200 pieces\, many of which are being exhibited for the first time\, this represents the largest and most thorough exhibition of the late Queen’s fashion ever organized. \nIn addition to clothing\, jewellery\, hats\, shoes\, and accessories\, delve into previously unseen design sketches\, fabric samples\, and handwritten letters that unveil the behind-the-scenes journey of dressing the most renowned woman in the world\, providing fresh insights into the late Queen’s active role in the development of her wardrobe. \nNotable pieces include her christening robe\, bridesmaid dress\, wedding gown\, Coronation dress\, and the outfit worn at Princess Margaret’s wedding.
URL:https://fashionvaluechain.com/event/queen-elizabeth-ii-her-life-in-style/
LOCATION:The King’s Gallery\, Buckingham Palace\, The King's Gallery\, Buckingham Palace\, United Kingdom\, London\, United Kingdom
CATEGORIES:Exhibition
ATTACH;FMTTYPE=image/webp:https://fashionvaluechain.com/wp-content/uploads/2026/03/RCT_QEII_Web_1920x750.jpg.webp
END:VEVENT
BEGIN:VEVENT
DTSTART;TZID=America/New_York:20260530T090000
DTEND;TZID=America/New_York:20260601T180000
DTSTAMP:20260425T035744
CREATED:20260317T164951Z
LAST-MODIFIED:20260317T164951Z
UID:66848-1780131600-1780336800@fashionvaluechain.com
SUMMARY:SwimShow – Miami Beach 2026
DESCRIPTION:SwimShow is a leading trade exhibition focused on swimwear and resort fashion. The event gathers brands and retailers presenting seasonal collections. Buyers attend to evaluate products and identify trends. The event supports global swimwear trade.
URL:https://fashionvaluechain.com/event/swimshow-miami-beach-2026/
LOCATION:Miami Beach Convention Center\, Miami Beach Convention Center\, Miami\, FL\, United States
CATEGORIES:Exhibition
ORGANIZER;CN="Swimwear Association of Florida":MAILTO:info@swimshow.com
END:VEVENT
BEGIN:VEVENT
DTSTART;TZID=Asia/Kolkata:20260601T090000
DTEND;TZID=Asia/Kolkata:20260630T180000
DTSTAMP:20260425T035744
CREATED:20260307T171224Z
LAST-MODIFIED:20260307T171224Z
UID:66218-1780304400-1782842400@fashionvaluechain.com
SUMMARY:New York Pre-Spring Market Week
DESCRIPTION:The New York Pre-Spring Market Week is a professional gathering where fashion brands showcase their forthcoming collections directly to buyers in exclusive showrooms\, as opposed to conventional runway presentations. \nRetail buyers from prominent department stores and boutiques attend these showrooms to place orders for future seasons. This event is vital to the fashion retail supply chain\, as it influences which designs will be available in stores several months down the line.
URL:https://fashionvaluechain.com/event/new-york-pre-spring-market-week/
LOCATION:Garment District & designer showrooms\, New York\, Garment District & designer showrooms\, New York\, New York City\, NY\, United States
CATEGORIES:Exhibition
ATTACH;FMTTYPE=image/webp:https://fashionvaluechain.com/wp-content/uploads/2026/03/0x0.webp
END:VEVENT
BEGIN:VEVENT
DTSTART;TZID=Asia/Kolkata:20260602T090000
DTEND;TZID=Asia/Kolkata:20260604T180000
DTSTAMP:20260425T035744
CREATED:20260313T173008Z
LAST-MODIFIED:20260313T173008Z
UID:66654-1780390800-1780596000@fashionvaluechain.com
SUMMARY:NRF Retail’s Big Show Asia Pacific – Singapore 2026
DESCRIPTION:NRF Retail’s Big Show Asia Pacific is a major retail innovation conference and exhibition that brings together industry leaders\, technology providers\, and retail executives from across the Asia-Pacific region. The event focuses on digital transformation\, omnichannel retail strategies\, supply chain optimization\, and consumer experience in the modern retail environment. Fashion brands\, department stores\, and e-commerce companies participate to explore technological solutions that enhance retail performance. Exhibitors present retail technology platforms\, data analytics tools\, and solutions for inventory management and customer engagement. The conference program includes keynote presentations\, panel discussions\, and workshops addressing emerging trends in retail management and consumer behavior. NRF Retail’s Big Show Asia Pacific serves as a strategic meeting platform where retailers can exchange ideas\, discover innovations\, and develop partnerships that support growth in the evolving global retail industry.
URL:https://fashionvaluechain.com/event/nrf-retails-big-show-asia-pacific-singapore-2026/
LOCATION:Marina Bay Sands Expo & Convention Centre\, Singapore\, Marina Bay Sands Expo & Convention Centre\, Singapore\, SINGAPORE
CATEGORIES:Conference,Exhibition
ATTACH;FMTTYPE=image/jpeg:https://fashionvaluechain.com/wp-content/uploads/2026/03/NRF26_APAC_Brand-Logo-Stacked_Red.jpg
ORGANIZER;CN="National Retail Federation (NRF) &amp%3B Comexposium":MAILTO:apac@nrf.com
END:VEVENT
BEGIN:VEVENT
DTSTART;TZID=Asia/Kolkata:20260602T090000
DTEND;TZID=Asia/Kolkata:20260620T180000
DTSTAMP:20260425T035744
CREATED:20260307T172058Z
LAST-MODIFIED:20260307T172058Z
UID:66224-1780390800-1781978400@fashionvaluechain.com
SUMMARY:London Market Week
DESCRIPTION:London Market Week is a fashion event that emphasizes business\, where brands display their collections in showrooms for retail buyers. In contrast to conventional fashion weeks\, this event focuses on wholesale purchasing and the distribution of fashion. Designers present ready-to-wear collections\, accessories\, and footwear intended for future seasons. Retail buyers from international department stores and boutiques participate to choose collections for their stores\, establishing it as a significant commercial event in the global fashion industry.
URL:https://fashionvaluechain.com/event/london-market-week/
LOCATION:Designer showrooms across London\, Designer showrooms across London\, London\, United Kingdom
CATEGORIES:Exhibition
ATTACH;FMTTYPE=image/jpeg:https://fashionvaluechain.com/wp-content/uploads/2026/03/images.jpg
END:VEVENT
BEGIN:VEVENT
DTSTART;TZID=Europe/Paris:20260603T090000
DTEND;TZID=Europe/Paris:20260604T180000
DTSTAMP:20260425T035744
CREATED:20260328T142722Z
LAST-MODIFIED:20260328T142722Z
UID:67561-1780477200-1780596000@fashionvaluechain.com
SUMMARY:Tissu Premier – Lille 2026
DESCRIPTION:Tissu Premier Lille is a textile sourcing exhibition that focuses on fabrics and accessories for fashion production. The event gathers textile manufacturers\, designers\, and sourcing professionals presenting materials for apparel collections. Exhibitors showcase fabrics\, trims\, and accessories aligned with seasonal trends. Buyers attend to evaluate suppliers and explore sourcing opportunities. The exhibition also includes networking sessions and product presentations. Tissu Premier provides a platform for connecting textile producers with fashion brands in the European market.
URL:https://fashionvaluechain.com/event/tissu-premier-lille-2026/
LOCATION:Lille Grand Palais\, Lille\, France\, Lille Grand Palais\, Lille\, France\, Lille\, France
CATEGORIES:Exhibition
ATTACH;FMTTYPE=image/webp:https://fashionvaluechain.com/wp-content/uploads/2026/03/french-buttons.webp
ORGANIZER;CN="Tissu Premier Organisation":MAILTO:info@tissupremier.com
END:VEVENT
BEGIN:VEVENT
DTSTART;TZID=Asia/Kolkata:20260616T090000
DTEND;TZID=Asia/Kolkata:20260619T180000
DTSTAMP:20260425T035744
CREATED:20260306T175156Z
LAST-MODIFIED:20260306T175156Z
UID:66166-1781600400-1781892000@fashionvaluechain.com
SUMMARY:Pitti Uomo 106
DESCRIPTION:Pitti Uomo is the most influential menswear trade fair in the world. Designers\, brands\, and buyers gather in Florence to present new menswear collections\, fabrics\, and accessories. It is known for street style culture and trend-setting fashion presentations.
URL:https://fashionvaluechain.com/event/pitti-uomo-106/
LOCATION:Fortezza DA Basso\, Florence\, Italy\, Fortezza da Basso\, Florence\, Italy\, Florence\, Italy
CATEGORIES:Exhibition
ATTACH;FMTTYPE=image/webp:https://fashionvaluechain.com/wp-content/uploads/2026/03/Pitti106_Day3_48.webp
END:VEVENT
BEGIN:VEVENT
DTSTART;TZID=Asia/Kolkata:20260618T100000
DTEND;TZID=Asia/Kolkata:20260620T180000
DTSTAMP:20260425T035744
CREATED:20260312T163521Z
LAST-MODIFIED:20260312T163542Z
UID:66532-1781776800-1781978400@fashionvaluechain.com
SUMMARY:Brazil International Apparel & Textile Expo – June 2026
DESCRIPTION:Brazil International Apparel and Textile Expo is a trade exhibition focused on textile innovation\, garment manufacturing\, and fashion retail development in Latin America. The event attracts textile mills\, garment manufacturers\, fashion brands\, and sourcing professionals from regional and international markets. Exhibitors present fabrics\, apparel collections\, accessories\, and production technologies designed for fashion manufacturing and retail distribution. Retail buyers and distributors attend the exhibition to identify reliable suppliers and evaluate product collections suitable for Latin American markets. Educational seminars and networking events provide insights into supply chain management\, sustainability practices\, and evolving consumer trends in the fashion industry. The exhibition supports the growth of Brazil’s textile sector while promoting collaboration between manufacturers and fashion retailers.
URL:https://fashionvaluechain.com/event/brazil-international-apparel-textile-expo-june-2026/
LOCATION:Expo Center Norte\, São Paulo\, Brazil\, Expo Center Norte\, São Paulo\, Brazil\, São Paulo\, Brazil
CATEGORIES:Exhibition
ATTACH;FMTTYPE=image/png:https://fashionvaluechain.com/wp-content/uploads/2026/03/brazil-international-apparel-sourcing-show.png
ORGANIZER;CN="Brazil Textile Industry Association":MAILTO:info@braziltextileexpo.com
END:VEVENT
BEGIN:VEVENT
DTSTART;TZID=Europe/Paris:20260623T090000
DTEND;TZID=Europe/Paris:20260626T180000
DTSTAMP:20260425T035744
CREATED:20260328T145928Z
LAST-MODIFIED:20260328T145928Z
UID:67589-1782205200-1782496800@fashionvaluechain.com
SUMMARY:Heimtextil – Frankfurt 2026 (Summer Special Edition)
DESCRIPTION:Heimtextil Frankfurt (Special Edition) is an international exhibition focused on home textiles\, interior fabrics\, and lifestyle products with strong connections to fashion and retail design. The event gathers global manufacturers\, designers\, and buyers presenting textile collections and furnishing materials aligned with contemporary trends. Exhibitors showcase fabrics\, upholstery materials\, and decorative textiles designed for residential and commercial applications. Buyers attend to evaluate suppliers and identify sourcing opportunities across global markets. The exhibition also includes trend presentations and expert discussions addressing sustainability\, innovation\, and design. Heimtextil provides a comprehensive platform for collaboration between textile producers and fashion-oriented lifestyle brands.
URL:https://fashionvaluechain.com/event/heimtextil-frankfurt-2026-summer-special-edition/
LOCATION:Messe Frankfurt Exhibition Grounds\, Frankfurt\, Germany\, Messe Frankfurt Exhibition Grounds\, Frankfurt\, Germany\, Frankfurt\, Germany
CATEGORIES:Exhibition
ATTACH;FMTTYPE=image/webp:https://fashionvaluechain.com/wp-content/uploads/2026/03/77437_HT_Header-Stage_2560x1440px.webp.2560.webp
ORGANIZER;CN="Messe Frankfurt GmbH":MAILTO:info@messefrankfurt.com
END:VEVENT
BEGIN:VEVENT
DTSTART;TZID=Europe/Rome:20260624T090000
DTEND;TZID=Europe/Rome:20260626T180000
DTSTAMP:20260425T035744
CREATED:20260331T183042Z
LAST-MODIFIED:20260331T183042Z
UID:67825-1782291600-1782496800@fashionvaluechain.com
SUMMARY:Pitti Filati – Florence 2026
DESCRIPTION:Pitti Filati is a leading international exhibition dedicated to yarns and knitwear innovation. The event gathers yarn manufacturers\, textile producers\, and designers presenting materials used in fashion production. Exhibitors showcase fibers\, yarns\, and knitwear developments aligned with seasonal trends. Buyers attend to evaluate suppliers and explore sourcing opportunities for knitwear collections. The exhibition also features trend areas and design concepts that influence fashion development. Pitti Filati provides a platform for collaboration between material producers and fashion designers.
URL:https://fashionvaluechain.com/event/pitti-filati-florence-2026-2/
LOCATION:Fortezza DA Basso\, Florence\, Italy\, Fortezza da Basso\, Florence\, Italy\, Florence\, Italy
CATEGORIES:Exhibition
ATTACH;FMTTYPE=image/webp:https://fashionvaluechain.com/wp-content/uploads/2026/03/Filati-declinations3-1.webp
ORGANIZER;CN="Pitti Immagine":MAILTO:info@pittimmagine.com
END:VEVENT
BEGIN:VEVENT
DTSTART;TZID=Europe/Paris:20260627T090000
DTEND;TZID=Europe/Paris:20260629T180000
DTSTAMP:20260425T035744
CREATED:20260326T165717Z
LAST-MODIFIED:20260326T165717Z
UID:67422-1782550800-1782756000@fashionvaluechain.com
SUMMARY:Playtime Paris – June 2026
DESCRIPTION:Playtime Paris is a trade show dedicated to children’s fashion and lifestyle products. The event gathers designers\, brands\, and buyers presenting collections for kidswear markets. Exhibitors showcase apparel\, accessories\, and footwear designed for children. Buyers attend to evaluate collections and identify new brands. The exhibition also includes trend presentations and networking sessions. Playtime Paris provides a platform for connecting designers with international retailers in the childrenswear segment.
URL:https://fashionvaluechain.com/event/playtime-paris-june-2026/
LOCATION:Parc Floral de Paris (Espace Evénement)\, Parc Floral de Paris (Espace Evénement)\, Paris\, France
CATEGORIES:Exhibition
ATTACH;FMTTYPE=image/webp:https://fashionvaluechain.com/wp-content/uploads/2026/03/47490_Salon-Playtime-Paris-2026-_-2000x1330-_-Iloveplaytime_landscape_3-2_xl.webp
ORGANIZER;CN="Playtime Paris":MAILTO:info@iloveplaytime.com
END:VEVENT
END:VCALENDAR