BEGIN:VCALENDAR
VERSION:2.0
PRODID:-//FASHION VALUE CHAIN - ECPv6.15.16//NONSGML v1.0//EN
CALSCALE:GREGORIAN
METHOD:PUBLISH
X-WR-CALNAME:FASHION VALUE CHAIN
X-ORIGINAL-URL:https://fashionvaluechain.com
X-WR-CALDESC:Events for FASHION VALUE CHAIN
REFRESH-INTERVAL;VALUE=DURATION:PT1H
X-Robots-Tag:noindex
X-PUBLISHED-TTL:PT1H
BEGIN:VTIMEZONE
TZID:Asia/Kolkata
BEGIN:STANDARD
TZOFFSETFROM:+0530
TZOFFSETTO:+0530
TZNAME:IST
DTSTART:20250101T000000
END:STANDARD
END:VTIMEZONE
BEGIN:VEVENT
DTSTART;TZID=Asia/Kolkata:20260313T090000
DTEND;TZID=Asia/Kolkata:20260318T180000
DTSTAMP:20260424T132739
CREATED:20260305T160954Z
LAST-MODIFIED:20260305T160954Z
UID:66066-1773392400-1773856800@fashionvaluechain.com
SUMMARY:Diamond Wish El Paseo Fashion Week - 2026
DESCRIPTION:The largest fashion week on the West Coast\, Diamond Wish Fashion Week El Paseo\, presented by California Bank & Trust\, is set to return from March 13 to 18\, 2026\, at The Gardens on El Paseo in Palm Desert\, California. \nThis prestigious event offers an inspiring and immersive fashion experience\, featuring cocktail receptions\, pop-up shops\, celebrity meet-and-greets\, and much more. It highlights the latest fashion trends and showcases a selection of the country’s leading design talents\, including some of the stars of tomorrow. Diamond Wish Fashion Week El Paseo takes one of the world’s most accessible art forms and presents it to you in style. \nExperience the elegance and luxury of the desert as you embrace your inner fashionista at this premier\, state-of-the-art event that celebrates the latest collections from the industry’s most influential and innovative figures.
URL:https://fashionvaluechain.com/event/diamond-wish-el-paseo-fashion-week-2026/
LOCATION:The Gardens on El Paseo West side upper level parking deck 73-545 El Paseo\, Palm Desert\, CA 92260\, The Gardens on El Paseo West side upper level parking deck 73-545 El Paseo\, Palm Desert\, CA 92260\, Palm Desert\, CA\, United States
CATEGORIES:Fashion week
ATTACH;FMTTYPE=image/jpeg:https://fashionvaluechain.com/wp-content/uploads/2026/03/fwep26_hudson_show_618x380_event_image.jpg
END:VEVENT
BEGIN:VEVENT
DTSTART;TZID=Asia/Kolkata:20260316T080000
DTEND;TZID=Asia/Kolkata:20260316T170000
DTSTAMP:20260424T132739
CREATED:20260316T164034Z
LAST-MODIFIED:20260316T164034Z
UID:66774-1773648000-1773680400@fashionvaluechain.com
SUMMARY:Textile 2026 (FESPA Textile Event) – Barcelona
DESCRIPTION:Textile 2026 is a global exhibition focused on technologies for textile printing and garment decoration. This event brings together manufacturers\, textile printers\, and apparel brands that are keen on innovative techniques for textile production. Exhibitors showcase digital printing technologies\, textile inks\, and the equipment utilized in garment decoration and textile manufacturing. Fashion companies participate in the event to discover new printing technologies that improve design capabilities and enhance production efficiency. Educational seminars and demonstrations emphasize the latest advancements in textile printing and sustainable manufacturing practices. Textile 2026 acts as a collaborative platform where technology providers and fashion manufacturers investigate innovations that are shaping the future of textile production.
URL:https://fashionvaluechain.com/event/textile-2026-fespa-textile-event-barcelona/
LOCATION:Fira Barcelona Gran Via\, Spain\, Fira Barcelona Gran Via\, Spain\, Barcelona\, Spain
CATEGORIES:Exhibition
ATTACH;FMTTYPE=image/webp:https://fashionvaluechain.com/wp-content/uploads/2026/03/645917000_18563950801029459_7012704367093794299_n-1.webp
ORGANIZER;CN="FESPA":MAILTO:info@fespa.com
END:VEVENT
END:VCALENDAR