BEGIN:VCALENDAR
VERSION:2.0
PRODID:-//FASHION VALUE CHAIN - ECPv6.15.16//NONSGML v1.0//EN
CALSCALE:GREGORIAN
METHOD:PUBLISH
X-WR-CALNAME:FASHION VALUE CHAIN
X-ORIGINAL-URL:https://fashionvaluechain.com
X-WR-CALDESC:Events for FASHION VALUE CHAIN
REFRESH-INTERVAL;VALUE=DURATION:PT1H
X-Robots-Tag:noindex
X-PUBLISHED-TTL:PT1H
BEGIN:VTIMEZONE
TZID:Asia/Kolkata
BEGIN:STANDARD
TZOFFSETFROM:+0530
TZOFFSETTO:+0530
TZNAME:IST
DTSTART:20250101T000000
END:STANDARD
END:VTIMEZONE
BEGIN:VEVENT
DTSTART;TZID=Asia/Kolkata:20260318T090000
DTEND;TZID=Asia/Kolkata:20260319T180000
DTSTAMP:20260424T144036
CREATED:20260313T161321Z
LAST-MODIFIED:20260313T161321Z
UID:66628-1773824400-1773943200@fashionvaluechain.com
SUMMARY:Performance Days – Munich 2026
DESCRIPTION:Performance Days is a sourcing exhibition that focuses on functional fabrics used in sportswear and technical apparel production. The event brings together textile developers\, sportswear brands\, designers\, and sourcing professionals interested in innovative performance materials. Exhibitors showcase advanced fabrics such as moisture-management textiles\, stretch materials\, insulation fabrics\, and environmentally sustainable alternatives used in athletic clothing. Buyers and product developers attend the event to explore new material technologies and identify suppliers capable of supporting performance garment manufacturing. The exhibition also features trend forums and expert presentations discussing advancements in textile engineering and sustainable production practices. Performance Days plays an important role in promoting innovation within the technical textile sector and supporting collaboration between textile developers and global sportswear brands.
URL:https://fashionvaluechain.com/event/performance-days-munich-2026/
LOCATION:Messe München\, Munich\, Germany\, Messe München\, Munich\, Germany\, Munich\, Germany
CATEGORIES:Exhibition
ATTACH;FMTTYPE=image/webp:https://fashionvaluechain.com/wp-content/uploads/2026/03/PF_MUNICH_WEB.webp
ORGANIZER;CN="Performance Days GmbH":MAILTO:visitor@performancedays.com
END:VEVENT
BEGIN:VEVENT
DTSTART;TZID=Asia/Kolkata:20260319T100000
DTEND;TZID=Asia/Kolkata:20260322T180000
DTSTAMP:20260424T144036
CREATED:20260309T163941Z
LAST-MODIFIED:20260309T163941Z
UID:66341-1773914400-1774202400@fashionvaluechain.com
SUMMARY:International Fashion Industry Expo – St. Petersburg 2026
DESCRIPTION:The International Fashion Industry Expo held in St. Petersburg serves as a thorough exhibition that encompasses apparel\, textiles\, accessories\, and fashion technologies. \nThis event draws in designers\, garment manufacturers\, textile producers\, and retail companies aiming to enhance their footprint in Eastern European markets. \nExhibitors showcase collections of clothing\, fabrics\, footwear\, and fashion accessories\, alongside cutting-edge manufacturing technologies. \nBuyers and distributors participate in the exhibition to assess suppliers and uncover new products that are appropriate for regional retail markets. \nAdditionally\, the event features fashion shows and design competitions that emphasize emerging designers and creative talent. \nIndustry forums and workshops offer valuable insights into retail strategies\, supply chain management\, and sustainable fashion practices. \nOverall\, the exhibition plays a crucial role in fostering the growth of Russia’s fashion industry and bolstering international trade relationships.
URL:https://fashionvaluechain.com/event/international-fashion-industry-expo-st-petersburg-2026/
LOCATION:ExpoForum Convention & Exhibition Centre\, St. Petersburg\, ExpoForum Convention & Exhibition Centre\, St. Petersburg
CATEGORIES:Exhibition
ATTACH;FMTTYPE=image/png:https://fashionvaluechain.com/wp-content/uploads/2026/03/fasion-industry-stpetersburg-logo-1.png
ORGANIZER;CN="Farexpo Exhibition Company":MAILTO:info@farexpo.ru
END:VEVENT
BEGIN:VEVENT
DTSTART;TZID=Asia/Kolkata:20260326T100000
DTEND;TZID=Asia/Kolkata:20260328T180000
DTSTAMP:20260424T144036
CREATED:20260312T165726Z
LAST-MODIFIED:20260312T165726Z
UID:66547-1774519200-1774720800@fashionvaluechain.com
SUMMARY:Bangladesh Leather & Footwear Expo 2026
DESCRIPTION:Bangladesh Leather and Footwear Expo is a trade exhibition dedicated to leather products\, footwear manufacturing\, and fashion accessories. The event provides a platform for leather producers\, footwear manufacturers\, designers\, and international buyers to connect and explore business opportunities. Exhibitors present leather goods\, footwear collections\, handbags\, belts\, and other accessories designed for global retail markets. Buyers attend to evaluate product quality and identify manufacturing partners capable of supplying international fashion brands. Industry seminars and networking sessions address sustainable leather production\, export opportunities\, and technological developments within the footwear sector. The exhibition promotes Bangladesh’s growing leather industry while encouraging international trade partnerships between manufacturers and global fashion retailers.
URL:https://fashionvaluechain.com/event/bangladesh-leather-footwear-expo-2026/
LOCATION:International Convention City Bashundhara\, Dhaka\, Bangladesh\, International Convention City Bashundhara\, Dhaka\, Bangladesh\, Dhaka\, Bangladesh
CATEGORIES:Exhibition
ATTACH;FMTTYPE=image/png:https://fashionvaluechain.com/wp-content/uploads/2026/03/351.png
ORGANIZER;CN="Bangladesh Leather Goods &amp%3B Footwear Manufacturers Association":MAILTO:info@blfmea.com
END:VEVENT
END:VCALENDAR