BEGIN:VCALENDAR
VERSION:2.0
PRODID:-//FASHION VALUE CHAIN - ECPv6.15.16//NONSGML v1.0//EN
CALSCALE:GREGORIAN
METHOD:PUBLISH
X-WR-CALNAME:FASHION VALUE CHAIN
X-ORIGINAL-URL:https://fashionvaluechain.com
X-WR-CALDESC:Events for FASHION VALUE CHAIN
REFRESH-INTERVAL;VALUE=DURATION:PT1H
X-Robots-Tag:noindex
X-PUBLISHED-TTL:PT1H
BEGIN:VTIMEZONE
TZID:Asia/Kolkata
BEGIN:STANDARD
TZOFFSETFROM:+0530
TZOFFSETTO:+0530
TZNAME:IST
DTSTART:20250101T000000
END:STANDARD
END:VTIMEZONE
BEGIN:VTIMEZONE
TZID:Europe/Berlin
BEGIN:DAYLIGHT
TZOFFSETFROM:+0100
TZOFFSETTO:+0200
TZNAME:CEST
DTSTART:20250330T010000
END:DAYLIGHT
BEGIN:STANDARD
TZOFFSETFROM:+0200
TZOFFSETTO:+0100
TZNAME:CET
DTSTART:20251026T010000
END:STANDARD
BEGIN:DAYLIGHT
TZOFFSETFROM:+0100
TZOFFSETTO:+0200
TZNAME:CEST
DTSTART:20260329T010000
END:DAYLIGHT
BEGIN:STANDARD
TZOFFSETFROM:+0200
TZOFFSETTO:+0100
TZNAME:CET
DTSTART:20261025T010000
END:STANDARD
BEGIN:DAYLIGHT
TZOFFSETFROM:+0100
TZOFFSETTO:+0200
TZNAME:CEST
DTSTART:20270328T010000
END:DAYLIGHT
BEGIN:STANDARD
TZOFFSETFROM:+0200
TZOFFSETTO:+0100
TZNAME:CET
DTSTART:20271031T010000
END:STANDARD
END:VTIMEZONE
BEGIN:VTIMEZONE
TZID:America/Los_Angeles
BEGIN:DAYLIGHT
TZOFFSETFROM:-0800
TZOFFSETTO:-0700
TZNAME:PDT
DTSTART:20250309T100000
END:DAYLIGHT
BEGIN:STANDARD
TZOFFSETFROM:-0700
TZOFFSETTO:-0800
TZNAME:PST
DTSTART:20251102T090000
END:STANDARD
BEGIN:DAYLIGHT
TZOFFSETFROM:-0800
TZOFFSETTO:-0700
TZNAME:PDT
DTSTART:20260308T100000
END:DAYLIGHT
BEGIN:STANDARD
TZOFFSETFROM:-0700
TZOFFSETTO:-0800
TZNAME:PST
DTSTART:20261101T090000
END:STANDARD
BEGIN:DAYLIGHT
TZOFFSETFROM:-0800
TZOFFSETTO:-0700
TZNAME:PDT
DTSTART:20270314T100000
END:DAYLIGHT
BEGIN:STANDARD
TZOFFSETFROM:-0700
TZOFFSETTO:-0800
TZNAME:PST
DTSTART:20271107T090000
END:STANDARD
END:VTIMEZONE
BEGIN:VTIMEZONE
TZID:America/Chicago
BEGIN:DAYLIGHT
TZOFFSETFROM:-0600
TZOFFSETTO:-0500
TZNAME:CDT
DTSTART:20250309T080000
END:DAYLIGHT
BEGIN:STANDARD
TZOFFSETFROM:-0500
TZOFFSETTO:-0600
TZNAME:CST
DTSTART:20251102T070000
END:STANDARD
BEGIN:DAYLIGHT
TZOFFSETFROM:-0600
TZOFFSETTO:-0500
TZNAME:CDT
DTSTART:20260308T080000
END:DAYLIGHT
BEGIN:STANDARD
TZOFFSETFROM:-0500
TZOFFSETTO:-0600
TZNAME:CST
DTSTART:20261101T070000
END:STANDARD
BEGIN:DAYLIGHT
TZOFFSETFROM:-0600
TZOFFSETTO:-0500
TZNAME:CDT
DTSTART:20270314T080000
END:DAYLIGHT
BEGIN:STANDARD
TZOFFSETFROM:-0500
TZOFFSETTO:-0600
TZNAME:CST
DTSTART:20271107T070000
END:STANDARD
END:VTIMEZONE
BEGIN:VEVENT
DTSTART;TZID=Asia/Kolkata:20260707T093000
DTEND;TZID=Asia/Kolkata:20260709T180000
DTSTAMP:20260424T173535
CREATED:20260307T180033Z
LAST-MODIFIED:20260307T180033Z
UID:66239-1783416600-1783620000@fashionvaluechain.com
SUMMARY:Source Fashion London
DESCRIPTION:Source Fashion is a major European sourcing exhibition dedicated to responsible and transparent fashion manufacturing. The event connects fashion retailers\, brands\, and product developers with ethical manufacturers from around the world. Exhibitors showcase apparel\, textiles\, and accessories produced under verified sustainability standards. Workshops and panel discussions focus on supply-chain transparency\, sustainable materials\, circular fashion\, and responsible production practices. The exhibition plays an important role in helping fashion brands transition toward more environmentally conscious production methods
URL:https://fashionvaluechain.com/event/source-fashion-london/
LOCATION:Olympia London\, United Kingdom\, Olympia London\, United Kingdom\, London\, United Kingdom
CATEGORIES:Exhibition
ATTACH;FMTTYPE=image/webp:https://fashionvaluechain.com/wp-content/uploads/2026/03/NEW-SOURCE-FASHION-2026-LOGO-LOCK-UP-BLUE-13-15.webp
ORGANIZER;CN="Source Fashion":MAILTO:sourcefashion@hyve.group
END:VEVENT
BEGIN:VEVENT
DTSTART;TZID=Europe/Berlin:20260707T100000
DTEND;TZID=Europe/Berlin:20260709T180000
DTSTAMP:20260424T173535
CREATED:20260331T171453Z
LAST-MODIFIED:20260331T171453Z
UID:67778-1783418400-1783620000@fashionvaluechain.com
SUMMARY:Premium Berlin – July 2026
DESCRIPTION:Premium Berlin is a major fashion trade exhibition that showcases contemporary apparel\, accessories\, and denim collections. The event gathers global brands\, designers\, and buyers presenting products aligned with retail trends. Exhibitors showcase collections designed for modern markets\, while buyers attend to evaluate products and identify sourcing opportunities. The exhibition also includes networking sessions and trend presentations. Premium Berlin serves as a key platform for connecting brands with retailers across Europe.
URL:https://fashionvaluechain.com/event/premium-berlin-july-2026/
LOCATION:Messe Berlin\, Messe Berlin\, Berlin\, Germany
CATEGORIES:Exhibition
ATTACH;FMTTYPE=image/jpeg:https://fashionvaluechain.com/wp-content/uploads/2026/03/Premium-Fashion-2026-Berlin-Germany.jpg
ORGANIZER;CN="Premium Group":MAILTO:info@premium-group.com
END:VEVENT
BEGIN:VEVENT
DTSTART;TZID=Europe/Berlin:20260707T100000
DTEND;TZID=Europe/Berlin:20260709T180000
DTSTAMP:20260424T173535
CREATED:20260331T171900Z
LAST-MODIFIED:20260331T171900Z
UID:67781-1783418400-1783620000@fashionvaluechain.com
SUMMARY:Seek Berlin – July 2026
DESCRIPTION:Seek Berlin is a contemporary fashion trade show focused on streetwear\, denim\, and lifestyle apparel. The event gathers innovative brands and designers presenting collections aligned with modern consumer trends. Exhibitors showcase apparel and accessories designed for global retail markets. Buyers attend to evaluate products and identify new brands. The exhibition also includes curated showcases and networking opportunities. Seek Berlin supports the growth of contemporary fashion and retail innovation.
URL:https://fashionvaluechain.com/event/seek-berlin-july-2026/
LOCATION:Station Berlin
ATTACH;FMTTYPE=image/gif:https://fashionvaluechain.com/wp-content/uploads/2026/03/2847_orig.gif
END:VEVENT
BEGIN:VEVENT
DTSTART;TZID=Asia/Kolkata:20260714T100000
DTEND;TZID=Asia/Kolkata:20260717T170000
DTSTAMP:20260424T173535
CREATED:20260331T052123Z
LAST-MODIFIED:20260331T052123Z
UID:67633-1784023200-1784307600@fashionvaluechain.com
SUMMARY:Apparel Textile Sourcing India – Delhi 2026
DESCRIPTION:Apparel Textile Sourcing India is an international exhibition connecting garment manufacturers with fashion brands and retailers. The event showcases apparel\, textiles\, and production services designed for global markets. Exhibitors present manufacturing capabilities and collections\, while buyers attend to evaluate suppliers and establish partnerships. The exhibition also includes networking sessions and discussions on supply chain strategies. It supports collaboration within the global apparel industry.
URL:https://fashionvaluechain.com/event/apparel-textile-sourcing-india-delhi-2026/
LOCATION:India Expo Centre & Mart\, Greater Noida\, India\, India Expo Centre & Mart\, Greater Noida\, India\, NOIDA\, India
CATEGORIES:Exhibition
ATTACH;FMTTYPE=image/webp:https://fashionvaluechain.com/wp-content/uploads/2026/03/BT-logo-2026-min.webp
ORGANIZER;CN="JP Communications Inc":MAILTO:info@appareltextilesourcing.com
END:VEVENT
BEGIN:VEVENT
DTSTART;TZID=America/Los_Angeles:20260721T100000
DTEND;TZID=America/Los_Angeles:20260723T170000
DTSTAMP:20260424T173535
CREATED:20260331T154113Z
LAST-MODIFIED:20260331T154113Z
UID:67709-1784628000-1784826000@fashionvaluechain.com
SUMMARY:Texworld USA – Los Angeles 2026
DESCRIPTION:Texworld USA Los Angeles is a textile sourcing exhibition connecting fabric suppliers with fashion brands and designers. The event showcases a wide range of fabrics and materials used in apparel production. Exhibitors present collections aligned with fashion trends\, while buyers attend to evaluate suppliers. The exhibition also includes networking sessions and trend presentations. It serves as a platform for sourcing textiles in the North American market.
URL:https://fashionvaluechain.com/event/texworld-usa-los-angeles-2026/
LOCATION:California Market Center\, Los Angeles\, USA\, California Market Center\, Los Angeles\, USA\, Los Angeles\, United States
CATEGORIES:Exhibition
ATTACH;FMTTYPE=image/jpeg:https://fashionvaluechain.com/wp-content/uploads/2026/03/texworld-LA_RGB.jpg
ORGANIZER;CN="Messe Frankfurt North America":MAILTO:info@texprocessamericas.com
END:VEVENT
BEGIN:VEVENT
DTSTART;TZID=America/Chicago:20260721T100000
DTEND;TZID=America/Chicago:20260724T190000
DTSTAMP:20260424T173535
CREATED:20260331T053357Z
LAST-MODIFIED:20260331T053357Z
UID:67641-1784628000-1784919600@fashionvaluechain.com
SUMMARY:Intermoda – Guadalajara 2026
DESCRIPTION:Intermoda Guadalajara is one of Latin America’s largest fashion trade exhibitions\, showcasing apparel\, textiles\, and accessories. The event gathers designers\, brands\, and buyers presenting collections for retail markets. Exhibitors display products aligned with contemporary trends\, while buyers attend to evaluate collections and identify suppliers. The exhibition also includes fashion shows and networking sessions. It serves as a key platform for connecting brands with retailers across Latin America.
URL:https://fashionvaluechain.com/event/intermoda-guadalajara-2026/
LOCATION:Intermoda – Guadalajara 2026\, Expo Guadalajara\, Mexico\, Guadalajara\, Mexico
CATEGORIES:Exhibition
ATTACH;FMTTYPE=image/jpeg:https://fashionvaluechain.com/wp-content/uploads/2026/03/91d263b570a71919887f436269c6fd1f1114e9c2dd502201a21bd97d3d6de743-rimg-w1200-h450-dc78655c.jpg
ORGANIZER;CN="Intermoda":MAILTO:info@intermoda.com.mx
END:VEVENT
END:VCALENDAR