BEGIN:VCALENDAR
VERSION:2.0
PRODID:-//FASHION VALUE CHAIN - ECPv6.15.16//NONSGML v1.0//EN
CALSCALE:GREGORIAN
METHOD:PUBLISH
X-ORIGINAL-URL:https://fashionvaluechain.com
X-WR-CALDESC:Events for FASHION VALUE CHAIN
REFRESH-INTERVAL;VALUE=DURATION:PT1H
X-Robots-Tag:noindex
X-PUBLISHED-TTL:PT1H
BEGIN:VTIMEZONE
TZID:Asia/Kolkata
BEGIN:STANDARD
TZOFFSETFROM:+0530
TZOFFSETTO:+0530
TZNAME:IST
DTSTART:20250101T000000
END:STANDARD
END:VTIMEZONE
BEGIN:VTIMEZONE
TZID:Asia/Kuching
BEGIN:STANDARD
TZOFFSETFROM:+0800
TZOFFSETTO:+0800
TZNAME:+08
DTSTART:20250101T000000
END:STANDARD
END:VTIMEZONE
BEGIN:VEVENT
DTSTART;TZID=Asia/Kolkata:20260306T090000
DTEND;TZID=Asia/Kolkata:20260308T180000
DTSTAMP:20260424T164245
CREATED:20260305T121353Z
LAST-MODIFIED:20260305T121353Z
UID:66036-1772787600-1772992800@fashionvaluechain.com
SUMMARY:WOMAN AW26 - PARIS 2026
DESCRIPTION:Fashion enthusiasts are bold risk-takers who resonate with one another. This is the reason they gather each year at the Man/Woman show in Paris\, New York\, and occasionally Tokyo\, in pursuit of the ultimate prototype that will enhance their ideal wardrobe. \nFrom 6th March 2026 to 8th March 2026 at Galerie Les Filles du Calvaire\, located at 17 Rue des Filles du Calvaire\, 75003\, Paris\, France. \nWhile new labels are becoming acquainted with us\, established brands are already familiar and return each season for the fashion weeks in Paris and New York – the complete collections showcased are available in stores six months following the shows. France\, Japan\, South Korea\, Sweden\, Italy\, Germany\, the United States\, the United Kingdom\, Thailand\, Mexico… Since 2012\, we have been fostering trust and refined taste to provide an authentic experience to the leaders of both the French and international fashion industries – the crème de la crème\, so to speak. More than just an event\, Man/Woman serves as an echo chamber.
URL:https://fashionvaluechain.com/event/woman-aw26-paris-2026/
LOCATION:Paris\, Galerie Les Filles du Calvaire\, 17 Rue des Filles du Calvaire\, 75003\, Paris\, France\, Paris\, Île-de-France region\, 75003\, France
ATTACH;FMTTYPE=image/png:https://fashionvaluechain.com/wp-content/uploads/2026/03/Screenshot-2026-03-05-174508.png
END:VEVENT
BEGIN:VEVENT
DTSTART;TZID=Asia/Kolkata:20260307T080000
DTEND;TZID=Asia/Kolkata:20260307T170000
DTSTAMP:20260424T164245
CREATED:20260307T170433Z
LAST-MODIFIED:20260307T170433Z
UID:66212-1772870400-1772902800@fashionvaluechain.com
SUMMARY:Beautyworld Saudi Arabia (Fashion & Beauty Industry Expo)
DESCRIPTION:Beautyworld Saudi Arabia is one of the largest beauty and fashion-related exhibitions in the Middle East. The event showcases cosmetics\, fragrances\, hair products\, fashion accessories\, and retail innovations. Fashion brands and designers attend to explore partnerships with beauty companies and retail distributors. The exhibition also includes live demonstrations\, workshops\, and panel discussions about trends in luxury beauty and lifestyle industries.
URL:https://fashionvaluechain.com/event/beautyworld-saudi-arabia-fashion-beauty-industry-expo/
LOCATION:Riyadh International Convention & Exhibition Center\, Saudi Arabia\, Riyadh International Convention & Exhibition Center\, Saudi Arabia\, Riyadh\, Saudi Arabia
CATEGORIES:Exhibition
ATTACH;FMTTYPE=image/webp:https://fashionvaluechain.com/wp-content/uploads/2026/03/Beautyworld-Saudi-Arabia-Trade-Show-scaled-e1734098935273-1.webp
ORGANIZER;CN="Messe Frankfurt Middle East":MAILTO:info@uae.messefrankfurt.com
END:VEVENT
BEGIN:VEVENT
DTSTART;TZID=Asia/Kolkata:20260310T090000
DTEND;TZID=Asia/Kolkata:20260311T180000
DTSTAMP:20260424T164245
CREATED:20260310T171711Z
LAST-MODIFIED:20260310T171711Z
UID:66397-1773133200-1773252000@fashionvaluechain.com
SUMMARY:India Fashion Forum 2026
DESCRIPTION:India Fashion Forum is a leading conference and networking event dedicated to the business of fashion retail in India. The forum brings together industry leaders\, fashion brand executives\, retail professionals\, designers\, and technology providers to discuss emerging trends and strategies in the fashion sector. The event features keynote presentations\, panel discussions\, and workshops focusing on retail innovation\, omnichannel strategies\, consumer behavior\, andc digital transformation. Participants gain insights into market developments and explore opportunities for collaboration within the rapidly evolving fashion retail landscape. The forum also provides a valuable networking platform where industry stakeholders can exchange ideas and build partnerships. By facilitating dialogue among professionals across the fashion value chain\, India Fashion Forum contributes to the advancement and competitiveness of the Indian fashion industry
URL:https://fashionvaluechain.com/event/india-fashion-forum-2026/
LOCATION:Conrad Hotel\, Mumbai\, India\, Conrad Hotel\, Mumbai\, India\, Mumbai\, Maharashtra\, India
CATEGORIES:Conference
ATTACH;FMTTYPE=image/jpeg:https://fashionvaluechain.com/wp-content/uploads/2026/03/images2.jpg
ORGANIZER;CN="Images Group":MAILTO:info@imagesgroup.in
END:VEVENT
BEGIN:VEVENT
DTSTART;TZID=Asia/Kolkata:20260311T080000
DTEND;TZID=Asia/Kolkata:20260311T170000
DTSTAMP:20260424T164245
CREATED:20260311T155054Z
LAST-MODIFIED:20260311T155054Z
UID:66457-1773216000-1773248400@fashionvaluechain.com
SUMMARY:Central Asia Fashion Exhibition 2026
DESCRIPTION:Central Asia Fashion Exhibition is a regional trade fair dedicated to apparel\, fashion accessories\, and retail sourcing. The event brings together fashion brands\, clothing manufacturers\, textile suppliers\, and retail buyers from across Central Asia and neighboring regions. Exhibitors showcase collections of ready-to-wear garments\, footwear\, and accessories designed for regional and international markets. Buyers attend the exhibition to identify new brands\, explore sourcing opportunities\, and establish distribution partnerships. The program also includes business networking sessions and seminars that address retail development\, consumer trends\, and supply chain management within the fashion industry. By connecting manufacturers with retailers and distributors\, the exhibition contributes to strengthening the fashion retail ecosystem in Central Asia.
URL:https://fashionvaluechain.com/event/central-asia-fashion-exhibition-2026/
LOCATION:Atakent Exhibition Center\, Almaty\, Kazakhstan\, Atakent Exhibition Center\, Almaty\, Kazakhstan\, Almaty\, Kazakhstan
ATTACH;FMTTYPE=image/png:https://fashionvaluechain.com/wp-content/uploads/2026/03/central-asia-fashion.png
END:VEVENT
BEGIN:VEVENT
DTSTART;TZID=Asia/Kolkata:20260312T093000
DTEND;TZID=Asia/Kolkata:20260314T180000
DTSTAMP:20260424T164245
CREATED:20260312T161713Z
LAST-MODIFIED:20260312T161713Z
UID:66522-1773307800-1773511200@fashionvaluechain.com
SUMMARY:Fashion Access – Hong Kong 2026
DESCRIPTION:Fashion Access is an international trade exhibition specializing in fashion accessories\, leather goods\, footwear\, and small leather products. The event brings together manufacturers\, designers\, sourcing companies\, and global retailers seeking high-quality accessories for fashion markets. Exhibitors present handbags\, footwear\, travel goods\, belts\, and lifestyle accessories designed for international retail distribution. Buyers attend the exhibition to evaluate product quality and identify manufacturing partners capable of supporting global fashion supply chains. Educational seminars and industry discussions are organized during the event to explore market trends\, sustainability initiatives\, and sourcing strategies within the accessories industry. Fashion Access serves as a strategic platform connecting Asian manufacturers with international buyers while supporting innovation and global trade within the fashion accessories sector.
URL:https://fashionvaluechain.com/event/fashion-access-hong-kong-2026/
LOCATION:Hong Kong Convention and Exhibition Centre\, Hong Kong\, Hong Kong Convention and Exhibition Centre\, Hong Kong\, hong kong\, Hong Kong
CATEGORIES:Exhibition
ATTACH;FMTTYPE=image/png:https://fashionvaluechain.com/wp-content/uploads/2026/03/FA26_banner_600px_en-1.png
ORGANIZER;CN="APLF Limited":MAILTO:info@fashionaccess.aplf.com
END:VEVENT
BEGIN:VEVENT
DTSTART;TZID=Asia/Kuching:20260316T090000
DTEND;TZID=Asia/Kuching:20260321T180000
DTSTAMP:20260424T164245
CREATED:20260307T164736Z
LAST-MODIFIED:20260307T164736Z
UID:66202-1773651600-1774116000@fashionvaluechain.com
SUMMARY:Global Fashion Collective – Tokyo
DESCRIPTION:Global Fashion Collective is a platform that showcases emerging designers from around the world during major fashion weeks. The Tokyo edition focuses on avant-garde and independent designers looking to gain international exposure. Designers present runway shows and showroom exhibitions\, allowing buyers\, stylists\, and media to discover new talent. The event also provides mentorship programs and networking sessions for fashion entrepreneurs.
URL:https://fashionvaluechain.com/event/global-fashion-collective-tokyo/
LOCATION:Various venues in Tokyo\, Japan\, Various venues in Tokyo\, Japan\, Tokyo\, Japan
CATEGORIES:Exhibition,Fashion week
ATTACH;FMTTYPE=image/avif:https://fashionvaluechain.com/wp-content/uploads/2026/03/0947c0_af0be821b1d943d7b375bdade0aa62e3f000.avif
END:VEVENT
BEGIN:VEVENT
DTSTART;TZID=Asia/Kolkata:20260320T100000
DTEND;TZID=Asia/Kolkata:20260322T180000
DTSTAMP:20260424T164245
CREATED:20260313T162610Z
LAST-MODIFIED:20260313T162610Z
UID:66644-1774000800-1774202400@fashionvaluechain.com
SUMMARY:ITF Intertex Portugal – Porto 2026
DESCRIPTION:ITF Intertex Portugal is an international textile exhibition that focuses on fabric sourcing and textile innovation. The event gathers textile manufacturers\, apparel producers\, and fashion brands presenting materials used in garment production. Exhibitors showcase yarns\, woven fabrics\, knitwear materials\, and accessories designed for the fashion industry. Buyers and sourcing professionals attend the exhibition to evaluate suppliers and identify production partners for upcoming apparel collections. Industry presentations highlight new textile technologies and sustainable production methods that support environmentally responsible fashion manufacturing. ITF Intertex Portugal plays a strategic role in strengthening business relationships between textile producers and fashion companies operating in the European market.
URL:https://fashionvaluechain.com/event/itf-intertex-portugal-porto-2026/
LOCATION:Exponor Exhibition Centre\, Porto\, Portugal\, Exponor Exhibition Centre\, Porto\, Portugal\, PORTO\, Portugal
CATEGORIES:Exhibition
ATTACH;FMTTYPE=image/webp:https://fashionvaluechain.com/wp-content/uploads/2026/03/fvc-2025-11-17T173357.268.webp
ORGANIZER;CN="B-Group International Fairs":MAILTO:info@bgroupus.com
END:VEVENT
BEGIN:VEVENT
DTSTART;TZID=Asia/Kolkata:20260322T090000
DTEND;TZID=Asia/Kolkata:20260326T180000
DTSTAMP:20260424T164245
CREATED:20260313T154017Z
LAST-MODIFIED:20260313T154017Z
UID:66613-1774170000-1774548000@fashionvaluechain.com
SUMMARY:The Bangkok International Fashion Fair and Leather Expo (BIFF AND BIL)
DESCRIPTION:The Bangkok International Fashion Fair and Leather Expo (BIFF AND BIL) is the largest and most comprehensive textile\, clothing\, and fabric exhibition in Thailand. It embodies a strong spirit of innovation\, talent\, and quality design. Manufacturers\, producers\, suppliers\, traders\, and designers from all sectors of the ASEAN textile and apparel industry and leather industry are key elements\, showcasing their innovative skills and technical expertise in excellent product presentations. \nThe Bangkok International Fashion Fair and Leather Exhibition (BIFF AND BIL) had a total exhibition area of 24\,000 square meters\, with 456 participating companies from China\, Hong Kong\, Indonesia\, India\, Turkey\, Russia\, Romania\, Mexico\, etc.\, and a total of 28\,254 participants. \nThailand’s fashion industry primarily consists of three aspects: textile and garment industry\, leather shoe industry\, and jewelry industry\, which are very important sources of economy for Thailand. The Thai government also encourages Thai fashion brands to go abroad and expand overseas markets. The Thailand Bangkok Fashion Fair and Leather Expo (BIFF AND BIL) is now becoming the fashion gateway of ASEAN.
URL:https://fashionvaluechain.com/event/the-bangkok-international-fashion-fair-and-leather-expo-biff-and-bil/
LOCATION:Bangkok International Trade & Exhibition Centre (BITEC)\, Thailand\, Bangkok International Trade & Exhibition Centre (BITEC)\, Thailand\, Bangkok\, Thailand
ATTACH;FMTTYPE=image/jpeg:https://fashionvaluechain.com/wp-content/uploads/2026/03/JJ.jpg
END:VEVENT
BEGIN:VEVENT
DTSTART;TZID=Asia/Kolkata:20260326T100000
DTEND;TZID=Asia/Kolkata:20260328T180000
DTSTAMP:20260424T164245
CREATED:20260312T165726Z
LAST-MODIFIED:20260312T165726Z
UID:66547-1774519200-1774720800@fashionvaluechain.com
SUMMARY:Bangladesh Leather & Footwear Expo 2026
DESCRIPTION:Bangladesh Leather and Footwear Expo is a trade exhibition dedicated to leather products\, footwear manufacturing\, and fashion accessories. The event provides a platform for leather producers\, footwear manufacturers\, designers\, and international buyers to connect and explore business opportunities. Exhibitors present leather goods\, footwear collections\, handbags\, belts\, and other accessories designed for global retail markets. Buyers attend to evaluate product quality and identify manufacturing partners capable of supplying international fashion brands. Industry seminars and networking sessions address sustainable leather production\, export opportunities\, and technological developments within the footwear sector. The exhibition promotes Bangladesh’s growing leather industry while encouraging international trade partnerships between manufacturers and global fashion retailers.
URL:https://fashionvaluechain.com/event/bangladesh-leather-footwear-expo-2026/
LOCATION:International Convention City Bashundhara\, Dhaka\, Bangladesh\, International Convention City Bashundhara\, Dhaka\, Bangladesh\, Dhaka\, Bangladesh
CATEGORIES:Exhibition
ATTACH;FMTTYPE=image/png:https://fashionvaluechain.com/wp-content/uploads/2026/03/351.png
ORGANIZER;CN="Bangladesh Leather Goods &amp%3B Footwear Manufacturers Association":MAILTO:info@blfmea.com
END:VEVENT
END:VCALENDAR