BEGIN:VCALENDAR
VERSION:2.0
PRODID:-//FASHION VALUE CHAIN - ECPv6.15.16//NONSGML v1.0//EN
CALSCALE:GREGORIAN
METHOD:PUBLISH
X-ORIGINAL-URL:https://fashionvaluechain.com
X-WR-CALDESC:Events for FASHION VALUE CHAIN
REFRESH-INTERVAL;VALUE=DURATION:PT1H
X-Robots-Tag:noindex
X-PUBLISHED-TTL:PT1H
BEGIN:VTIMEZONE
TZID:Asia/Shanghai
BEGIN:STANDARD
TZOFFSETFROM:+0800
TZOFFSETTO:+0800
TZNAME:CST
DTSTART:20250101T000000
END:STANDARD
END:VTIMEZONE
BEGIN:VTIMEZONE
TZID:Asia/Kolkata
BEGIN:STANDARD
TZOFFSETFROM:+0530
TZOFFSETTO:+0530
TZNAME:IST
DTSTART:20250101T000000
END:STANDARD
END:VTIMEZONE
BEGIN:VEVENT
DTSTART;TZID=Asia/Shanghai:20260421T093000
DTEND;TZID=Asia/Shanghai:20260423T180000
DTSTAMP:20260423T011844
CREATED:20260331T180859Z
LAST-MODIFIED:20260331T180859Z
UID:67807-1776763800-1776967200@fashionvaluechain.com
SUMMARY:Fashion Source Shenzhen – April 2026
DESCRIPTION:Fashion Source Shenzhen is a large-scale sourcing exhibition connecting manufacturers with global buyers and retailers. The event showcases apparel\, textiles\, and accessories designed for international markets. Exhibitors present production capabilities and collections aligned with current trends. Buyers attend to evaluate suppliers and explore sourcing opportunities. The exhibition also includes seminars addressing fashion trends and supply chain strategies. It provides a platform for collaboration within the global apparel industry.
URL:https://fashionvaluechain.com/event/fashion-source-shenzhen-april-2026-2/
LOCATION:Shenzhen Convention & Exhibition Center\, China\, Shenzhen Convention & Exhibition Center\, China\, Shanghai\, China
CATEGORIES:Exhibition
ATTACH;FMTTYPE=image/webp:https://fashionvaluechain.com/wp-content/uploads/2026/03/fashionsource-2.webp
ORGANIZER;CN="Fashion Source Shenzhen":MAILTO:info@fashionsource.cn
END:VEVENT
BEGIN:VEVENT
DTSTART;TZID=Asia/Kolkata:20260422T100000
DTEND;TZID=Asia/Kolkata:20260424T180000
DTSTAMP:20260423T011844
CREATED:20260309T162825Z
LAST-MODIFIED:20260309T162825Z
UID:66332-1776852000-1777053600@fashionvaluechain.com
SUMMARY:Global Sourcing Fair Vietnam 2026
DESCRIPTION:The Global Sourcing Fair Vietnam serves as a significant international sourcing event that connects apparel manufacturers\, textile suppliers\, and global buyers. \nThis exhibition emphasizes garments\, fashion accessories\, fabrics\, and private-label manufacturing services. Exhibitors comprise suppliers from Vietnam\, China\, South Korea\, India\, and other essential production markets. \nRetailers\, fashion brands\, and sourcing managers participate in the event to assess suppliers and discover dependable manufacturing partners. Additionally\, the exhibition features educational seminars that focus on sustainable production\, digital supply chain management\, and emerging trends in fashion retail. \nAs Vietnam emerges as a key manufacturing hub for international apparel brands\, the fair presents a vital opportunity for companies to forge new sourcing partnerships. The event promotes networking\, product demonstrations\, and business negotiations\, thereby serving as a crucial platform for enhancing global trade relationships within the fashion and textile sector.
URL:https://fashionvaluechain.com/event/global-sourcing-fair-vietnam-2026/
LOCATION:Saigon Exhibition & Convention Center\, Ho Chi Minh City\, Vietnam\, Saigon Exhibition & Convention Center\, Ho Chi Minh City\, Vietnam\, Ho Chi Minh City\, Viet Nam
CATEGORIES:Exhibition
ORGANIZER;CN="Global Sources":MAILTO:exhibitions@globalsources.com
END:VEVENT
END:VCALENDAR