BEGIN:VCALENDAR
VERSION:2.0
PRODID:-//FASHION VALUE CHAIN - ECPv6.15.16//NONSGML v1.0//EN
CALSCALE:GREGORIAN
METHOD:PUBLISH
X-ORIGINAL-URL:https://fashionvaluechain.com
X-WR-CALDESC:Events for FASHION VALUE CHAIN
REFRESH-INTERVAL;VALUE=DURATION:PT1H
X-Robots-Tag:noindex
X-PUBLISHED-TTL:PT1H
BEGIN:VTIMEZONE
TZID:Asia/Kolkata
BEGIN:STANDARD
TZOFFSETFROM:+0530
TZOFFSETTO:+0530
TZNAME:IST
DTSTART:20250101T000000
END:STANDARD
END:VTIMEZONE
BEGIN:VEVENT
DTSTART;TZID=Asia/Kolkata:20260513T100000
DTEND;TZID=Asia/Kolkata:20260515T180000
DTSTAMP:20260423T110955
CREATED:20260313T145007Z
LAST-MODIFIED:20260313T145007Z
UID:66608-1778666400-1778868000@fashionvaluechain.com
SUMMARY:Textile Expo Uzbekistan 2026
DESCRIPTION:TextileExpo Uzbekistan 2026 represents the leading international trade fair for the textile and garment sector in Central Asia\, scheduled to take place from May 13 to May 15\, 2026\, at the Uzexpocentre NEC in Tashkent. This milestone 25th-anniversary event will bring together more than 300 exhibitors and over 9\,000 industry professionals\, showcasing yarn\, fabrics\, ready-made garments\, and machinery.
URL:https://fashionvaluechain.com/event/textile-expo-uzbekistan-2026/
LOCATION:Uzexpocentre NEC\, Tashkent\, Uzbekistan\, Uzexpocentre NEC\, Tashkent\, Uzbekistan\, TASHKENT\, Uzbekistan
CATEGORIES:Exhibition
ATTACH;FMTTYPE=image/jpeg:https://fashionvaluechain.com/wp-content/uploads/2026/03/site_fb_logo.jpg
ORGANIZER;CN="Iteca Exhibitions":MAILTO:textile@iteca.uz
END:VEVENT
END:VCALENDAR