BEGIN:VCALENDAR
VERSION:2.0
PRODID:-//FASHION VALUE CHAIN - ECPv6.15.16//NONSGML v1.0//EN
CALSCALE:GREGORIAN
METHOD:PUBLISH
X-ORIGINAL-URL:https://fashionvaluechain.com
X-WR-CALDESC:Events for FASHION VALUE CHAIN
REFRESH-INTERVAL;VALUE=DURATION:PT1H
X-Robots-Tag:noindex
X-PUBLISHED-TTL:PT1H
BEGIN:VTIMEZONE
TZID:Europe/Paris
BEGIN:DAYLIGHT
TZOFFSETFROM:+0100
TZOFFSETTO:+0200
TZNAME:CEST
DTSTART:20250330T010000
END:DAYLIGHT
BEGIN:STANDARD
TZOFFSETFROM:+0200
TZOFFSETTO:+0100
TZNAME:CET
DTSTART:20251026T010000
END:STANDARD
BEGIN:DAYLIGHT
TZOFFSETFROM:+0100
TZOFFSETTO:+0200
TZNAME:CEST
DTSTART:20260329T010000
END:DAYLIGHT
BEGIN:STANDARD
TZOFFSETFROM:+0200
TZOFFSETTO:+0100
TZNAME:CET
DTSTART:20261025T010000
END:STANDARD
BEGIN:DAYLIGHT
TZOFFSETFROM:+0100
TZOFFSETTO:+0200
TZNAME:CEST
DTSTART:20270328T010000
END:DAYLIGHT
BEGIN:STANDARD
TZOFFSETFROM:+0200
TZOFFSETTO:+0100
TZNAME:CET
DTSTART:20271031T010000
END:STANDARD
END:VTIMEZONE
BEGIN:VTIMEZONE
TZID:Asia/Shanghai
BEGIN:STANDARD
TZOFFSETFROM:+0800
TZOFFSETTO:+0800
TZNAME:CST
DTSTART:20250101T000000
END:STANDARD
END:VTIMEZONE
BEGIN:VEVENT
DTSTART;TZID=Europe/Paris:20260427T090000
DTEND;TZID=Europe/Paris:20260429T180000
DTSTAMP:20260423T094412
CREATED:20260314T173719Z
LAST-MODIFIED:20260314T173719Z
UID:66691-1777280400-1777485600@fashionvaluechain.com
SUMMARY:World Retail Congress – Berlin 2026
DESCRIPTION:World Retail Congress is an international gathering of senior executives from leading retail organizations and fashion brands. The conference focuses on strategic discussions regarding the future of retail and consumer markets. Industry leaders present insights on digital transformation\, sustainability initiatives\, and international retail expansion. Panel discussions explore topics such as supply-chain resilience\, customer experience innovation\, and evolving consumer expectations. Participants attend the congress to exchange ideas\, develop partnerships\, and gain insights from global retail leaders. World Retail Congress serves as an influential platform where retail executives collaborate on strategies that shape the development of the global retail industry.
URL:https://fashionvaluechain.com/event/world-retail-congress-berlin-2026/
LOCATION:InterContinental Berlin\, located at Budapester Str. 2\, 10787 Berlin\, InterContinental Berlin\, located at Budapester Str. 2\, 10787 Berlin\, Berlin\, Germany
CATEGORIES:Conference
ATTACH;FMTTYPE=image/webp:https://fashionvaluechain.com/wp-content/uploads/2026/03/filters_no_upscale.webp
ORGANIZER;CN="World Retail Congress team":MAILTO:info@worldretailcongress.com
END:VEVENT
BEGIN:VEVENT
DTSTART;TZID=Asia/Shanghai:20260427T090000
DTEND;TZID=Asia/Shanghai:20260430T180000
DTSTAMP:20260423T094412
CREATED:20260326T062926Z
LAST-MODIFIED:20260326T062926Z
UID:67362-1777280400-1777572000@fashionvaluechain.com
SUMMARY:Global Sources Fashion – Hong Kong 2026
DESCRIPTION:Global Sources Fashion Hong Kong is a sourcing exhibition connecting international manufacturers with buyers from global markets. The event showcases apparel\, accessories\, and fashion products designed for retail distribution. Exhibitors present garments\, fabrics\, and accessories tailored to contemporary fashion trends. Buyers attend to evaluate suppliers and explore sourcing opportunities. The exhibition also includes networking sessions and product showcases that highlight innovation in fashion design. Global Sources Fashion provides a strategic platform for connecting suppliers with retailers worldwide.
URL:https://fashionvaluechain.com/event/global-sources-fashion-hong-kong-2026/
LOCATION:AsiaWorld-Expo\, Hong Kong\, AsiaWorld-Expo\, Hong Kong\, hong kong\, China
CATEGORIES:Exhibition
ATTACH;FMTTYPE=image/jpeg:https://fashionvaluechain.com/wp-content/uploads/2026/03/26S-AWE-Website-Banner_1100_704_FA-1.jpg
ORGANIZER;CN="Global Sources":MAILTO:service@globalsources.com
END:VEVENT
BEGIN:VEVENT
DTSTART;TZID=Europe/Paris:20260428T093000
DTEND;TZID=Europe/Paris:20260429T180000
DTSTAMP:20260423T094412
CREATED:20260316T165908Z
LAST-MODIFIED:20260316T165908Z
UID:66789-1777368600-1777485600@fashionvaluechain.com
SUMMARY:Fashion SVP – London 2026
DESCRIPTION:Fashion SVP is a sourcing exhibition that connects apparel manufacturers with fashion brands seeking production partners. The event focuses on responsible sourcing and transparent supply chains within the fashion industry. Exhibitors include garment manufacturers\, textile mills\, and sourcing specialists presenting manufacturing services and materials used in apparel production. Fashion brands and designers attend the exhibition to explore supplier capabilities and establish manufacturing partnerships. The event also features expert discussions on ethical sourcing practices and sustainable production methods. Fashion SVP serves as a strategic platform where fashion companies and manufacturers collaborate to develop efficient and responsible supply chains within the global apparel industry.
URL:https://fashionvaluechain.com/event/fashion-svp-london-2026/
LOCATION:Truman Brewery\, London\, United Kingdom\, Olympia London\, United Kingdom\, London\, United Kingdom
CATEGORIES:Exhibition
ATTACH;FMTTYPE=image/jpeg:https://fashionvaluechain.com/wp-content/uploads/2026/03/6-3.jpg
ORGANIZER;CN="Fashion SVP Ltd":MAILTO:info@fashionsvp.com
END:VEVENT
END:VCALENDAR