BEGIN:VCALENDAR
VERSION:2.0
PRODID:-//FASHION VALUE CHAIN - ECPv6.15.16//NONSGML v1.0//EN
CALSCALE:GREGORIAN
METHOD:PUBLISH
X-ORIGINAL-URL:https://fashionvaluechain.com
X-WR-CALDESC:Events for FASHION VALUE CHAIN
REFRESH-INTERVAL;VALUE=DURATION:PT1H
X-Robots-Tag:noindex
X-PUBLISHED-TTL:PT1H
BEGIN:VTIMEZONE
TZID:Asia/Kolkata
BEGIN:STANDARD
TZOFFSETFROM:+0530
TZOFFSETTO:+0530
TZNAME:IST
DTSTART:20250101T000000
END:STANDARD
END:VTIMEZONE
BEGIN:VEVENT
DTSTART;TZID=Asia/Kolkata:20260411T100000
DTEND;TZID=Asia/Kolkata:20260414T180000
DTSTAMP:20260423T035941
CREATED:20260326T165056Z
LAST-MODIFIED:20260326T165056Z
UID:67417-1775901600-1776189600@fashionvaluechain.com
SUMMARY:India Carpet Expo – New Delhi 2026
DESCRIPTION:India Carpet Expo is an international exhibition showcasing handmade carpets and textile floor coverings. The event gathers manufacturers\, exporters\, and buyers presenting products designed for global markets. Exhibitors showcase carpets\, rugs\, and home textile products reflecting traditional craftsmanship and modern design. Buyers attend to evaluate products and establish sourcing partnerships. The exhibition also provides networking opportunities for industry professionals. It serves as a platform for promoting Indian textile craftsmanship globally.
URL:https://fashionvaluechain.com/event/india-carpet-expo-new-delhi-2026/
LOCATION:NSIC Exhibition Complex\, Okhla\, New Delhi (India).\, NSIC Exhibition Complex\, Okhla\, New Delhi (India).\, New Delhi\, India
CATEGORIES:Exhibition
ATTACH;FMTTYPE=image/png:https://fashionvaluechain.com/wp-content/uploads/2026/03/Screenshot-2026-03-17-182758.png
ORGANIZER;CN="Carpet Export Promotion Council":MAILTO:info@indiacarpetexpo.com
END:VEVENT
END:VCALENDAR