BEGIN:VCALENDAR
VERSION:2.0
PRODID:-//FASHION VALUE CHAIN - ECPv6.15.16//NONSGML v1.0//EN
CALSCALE:GREGORIAN
METHOD:PUBLISH
X-ORIGINAL-URL:https://fashionvaluechain.com
X-WR-CALDESC:Events for FASHION VALUE CHAIN
REFRESH-INTERVAL;VALUE=DURATION:PT1H
X-Robots-Tag:noindex
X-PUBLISHED-TTL:PT1H
BEGIN:VTIMEZONE
TZID:Asia/Tokyo
BEGIN:STANDARD
TZOFFSETFROM:+0900
TZOFFSETTO:+0900
TZNAME:JST
DTSTART:20250101T000000
END:STANDARD
END:VTIMEZONE
BEGIN:VTIMEZONE
TZID:Europe/Berlin
BEGIN:DAYLIGHT
TZOFFSETFROM:+0100
TZOFFSETTO:+0200
TZNAME:CEST
DTSTART:20250330T010000
END:DAYLIGHT
BEGIN:STANDARD
TZOFFSETFROM:+0200
TZOFFSETTO:+0100
TZNAME:CET
DTSTART:20251026T010000
END:STANDARD
BEGIN:DAYLIGHT
TZOFFSETFROM:+0100
TZOFFSETTO:+0200
TZNAME:CEST
DTSTART:20260329T010000
END:DAYLIGHT
BEGIN:STANDARD
TZOFFSETFROM:+0200
TZOFFSETTO:+0100
TZNAME:CET
DTSTART:20261025T010000
END:STANDARD
BEGIN:DAYLIGHT
TZOFFSETFROM:+0100
TZOFFSETTO:+0200
TZNAME:CEST
DTSTART:20270328T010000
END:DAYLIGHT
BEGIN:STANDARD
TZOFFSETFROM:+0200
TZOFFSETTO:+0100
TZNAME:CET
DTSTART:20271031T010000
END:STANDARD
END:VTIMEZONE
BEGIN:VTIMEZONE
TZID:Asia/Kolkata
BEGIN:STANDARD
TZOFFSETFROM:+0530
TZOFFSETTO:+0530
TZNAME:IST
DTSTART:20250101T000000
END:STANDARD
END:VTIMEZONE
BEGIN:VTIMEZONE
TZID:Asia/Kolkata
BEGIN:STANDARD
TZOFFSETFROM:+0530
TZOFFSETTO:+0530
TZNAME:IST
DTSTART:20250101T000000
END:STANDARD
END:VTIMEZONE
BEGIN:VEVENT
DTSTART;TZID=Asia/Tokyo:20260408T100000
DTEND;TZID=Asia/Tokyo:20260410T180000
DTSTAMP:20260423T035931
CREATED:20260331T153754Z
LAST-MODIFIED:20260331T153754Z
UID:67706-1775642400-1775844000@fashionvaluechain.com
SUMMARY:Apparel Textile Sourcing Japan – Tokyo 2026
DESCRIPTION:Apparel Textile Sourcing Japan is a trade exhibition connecting manufacturers with fashion brands and retailers. The event showcases apparel\, fabrics\, and production services. Buyers attend to evaluate suppliers and explore sourcing opportunities. Exhibitors present collections aligned with market trends. The exhibition also includes seminars addressing supply chain strategies. It provides a platform for collaboration within the global apparel industry.
URL:https://fashionvaluechain.com/event/apparel-textile-sourcing-japan-tokyo-2026/
LOCATION:Tokyo Big Sight\, Tokyo Big Sight\, Tokyoj\, Japan
CATEGORIES:Exhibition
ATTACH;FMTTYPE=image/avif:https://fashionvaluechain.com/wp-content/uploads/2026/03/TH_IGA_DSC5493-1.avif
END:VEVENT
BEGIN:VEVENT
DTSTART;TZID=Europe/Berlin:20260409T100000
DTEND;TZID=Europe/Berlin:20260409T120000
DTSTAMP:20260423T035931
CREATED:20260331T061049Z
LAST-MODIFIED:20260331T061049Z
UID:67665-1775728800-1775736000@fashionvaluechain.com
SUMMARY:Denim Première Vision – Paris 2026
DESCRIPTION:Denim Première Vision is a specialized exhibition focused on denim fabrics and innovations. The event gathers textile manufacturers and designers presenting materials used in denim production. Exhibitors showcase fabrics\, finishes\, and sustainable solutions. Buyers attend to evaluate suppliers and explore sourcing opportunities. The exhibition also includes seminars addressing innovation in denim manufacturing.
URL:https://fashionvaluechain.com/event/denim-premiere-vision-paris-2026/
LOCATION:Arena Berlin\, Germany\, Arena Berlin\, Germany\, Berlin\, Germany
CATEGORIES:Conference,webinar
ATTACH;FMTTYPE=image/png:https://fashionvaluechain.com/wp-content/uploads/2026/03/denim-may26_emailing-600x300-20-e2-80-93-20webinaire-20-e2-80-93-20nologo.png
ORGANIZER;CN="Premi%C3%A8re Vision SA":MAILTO:info@premierevision.com
END:VEVENT
BEGIN:VEVENT
DTSTART;TZID=Asia/Kolkata:20260409T100000
DTEND;TZID=Asia/Kolkata:20260411T180000
DTSTAMP:20260423T035931
CREATED:20260309T155909Z
LAST-MODIFIED:20260309T155909Z
UID:66302-1775728800-1775930400@fashionvaluechain.com
SUMMARY:Gartex Texprocess India – Mumbai 2026
DESCRIPTION:Gartex Texprocess India is a prominent trade exhibition dedicated to garment manufacturing technologies and textile processing solutions. The event attracts industry professionals from across the apparel\, denim\, embroidery\, and textile machinery sectors. Exhibitors showcase advanced manufacturing equipment\, digital printing systems\, cutting technologies\, automation solutions\, and innovative garment decoration techniques. Fashion brands\, apparel manufacturers\, and sourcing professionals attend the exhibition to identify technologies that enhance production efficiency and product quality. Educational seminars and industry discussions address important topics such as sustainable manufacturing\, supply chain optimization\, and digital transformation within the textile industry. The event provides an ideal environment for networking and collaboration among technology providers\, garment producers\, and fashion retailers. Gartex Texprocess India plays a vital role in promoting modernization and innovation in the apparel manufacturing sector while supporting the growth of India’s textile and fashion ecosystem
URL:https://fashionvaluechain.com/event/gartex-texprocess-india-mumbai-2026/
LOCATION:Bombay Exhibition Centre\, Mumbai\, Bombay Exhibition Centre\, Mumbai\, Mumbai\, Maharashtra\, India
CATEGORIES:Exhibition
ATTACH;FMTTYPE=image/jpeg:https://fashionvaluechain.com/wp-content/uploads/2026/03/simages.jpg
ORGANIZER;CN="Messe Frankfurt India &amp%3B MEX Exhibitions":MAILTO:info@india.messefrankfurt.com
END:VEVENT
BEGIN:VEVENT
DTSTART;TZID=Asia/Kolkata:20260409T100000
DTEND;TZID=Asia/Kolkata:20260411T180000
DTSTAMP:20260423T035931
CREATED:20260326T162928Z
LAST-MODIFIED:20260326T162928Z
UID:67395-1775728800-1775930400@fashionvaluechain.com
SUMMARY:Gartex Texprocess – Mumbai 2026
DESCRIPTION:Gartex Texprocess Mumbai is a comprehensive trade fair focused on garment and textile manufacturing technologies. The exhibition gathers machinery suppliers\, textile producers\, and apparel manufacturers presenting solutions across the production chain. Exhibitors showcase equipment such as printing systems\, embroidery machines\, and automation technologies designed to enhance efficiency. Industry professionals attend to evaluate new technologies and explore partnerships. The event also includes technical sessions addressing innovation and sustainability in manufacturing. Gartex Texprocess serves as a key platform for advancing textile production capabilities in India and surrounding markets.
URL:https://fashionvaluechain.com/event/gartex-texprocess-mumbai-2026/
LOCATION:Bombay Exhibition Centre\, Mumbai\, Bombay Exhibition Centre\, Mumbai\, Mumbai\, Maharashtra\, India
CATEGORIES:Exhibition
ATTACH;FMTTYPE=image/jpeg:https://fashionvaluechain.com/wp-content/uploads/2026/03/Gartex-Mumbai-2026.jpeg
ORGANIZER;CN="MEX Exhibitions Pvt Ltd":MAILTO:info@gartexindia.com
END:VEVENT
BEGIN:VEVENT
DTSTART;TZID=Asia/Kolkata:20260409T100000
DTEND;TZID=Asia/Kolkata:20260411T180000
DTSTAMP:20260423T035931
CREATED:20260326T164217Z
LAST-MODIFIED:20260326T164217Z
UID:67409-1775728800-1775930400@fashionvaluechain.com
SUMMARY:Denim Show – Mumbai 2026
DESCRIPTION:Denim Show Mumbai is a specialized exhibition dedicated to denim fabrics and innovations. The event gathers textile mills\, garment manufacturers\, and fashion brands presenting materials used in denim production. Exhibitors showcase fabrics\, washes\, and finishing technologies designed for contemporary denim collections. Buyers attend to evaluate suppliers and explore sourcing opportunities. The exhibition also includes discussions on sustainability and innovation in denim manufacturing. It provides a focused platform for collaboration within the denim industry.
URL:https://fashionvaluechain.com/event/denim-show-mumbai-2026-2/
LOCATION:mumbai\, Mumbai\, Mumbai\, India
CATEGORIES:Exhibition
ATTACH;FMTTYPE=image/webp:https://fashionvaluechain.com/wp-content/uploads/2026/03/Denim-Show-2026.webp
ORGANIZER;CN="MEX Exhibitions":MAILTO:info@denimshow.com
END:VEVENT
END:VCALENDAR