BEGIN:VCALENDAR
VERSION:2.0
PRODID:-//FASHION VALUE CHAIN - ECPv6.15.16//NONSGML v1.0//EN
CALSCALE:GREGORIAN
METHOD:PUBLISH
X-ORIGINAL-URL:https://fashionvaluechain.com
X-WR-CALDESC:Events for FASHION VALUE CHAIN
REFRESH-INTERVAL;VALUE=DURATION:PT1H
X-Robots-Tag:noindex
X-PUBLISHED-TTL:PT1H
BEGIN:VTIMEZONE
TZID:Asia/Kolkata
BEGIN:STANDARD
TZOFFSETFROM:+0530
TZOFFSETTO:+0530
TZNAME:IST
DTSTART:20250101T000000
END:STANDARD
END:VTIMEZONE
BEGIN:VEVENT
DTSTART;TZID=Asia/Kolkata:20260306T090000
DTEND;TZID=Asia/Kolkata:20260308T180000
DTSTAMP:20260423T110816
CREATED:20260305T121353Z
LAST-MODIFIED:20260305T121353Z
UID:66036-1772787600-1772992800@fashionvaluechain.com
SUMMARY:WOMAN AW26 - PARIS 2026
DESCRIPTION:Fashion enthusiasts are bold risk-takers who resonate with one another. This is the reason they gather each year at the Man/Woman show in Paris\, New York\, and occasionally Tokyo\, in pursuit of the ultimate prototype that will enhance their ideal wardrobe. \nFrom 6th March 2026 to 8th March 2026 at Galerie Les Filles du Calvaire\, located at 17 Rue des Filles du Calvaire\, 75003\, Paris\, France. \nWhile new labels are becoming acquainted with us\, established brands are already familiar and return each season for the fashion weeks in Paris and New York – the complete collections showcased are available in stores six months following the shows. France\, Japan\, South Korea\, Sweden\, Italy\, Germany\, the United States\, the United Kingdom\, Thailand\, Mexico… Since 2012\, we have been fostering trust and refined taste to provide an authentic experience to the leaders of both the French and international fashion industries – the crème de la crème\, so to speak. More than just an event\, Man/Woman serves as an echo chamber.
URL:https://fashionvaluechain.com/event/woman-aw26-paris-2026/
LOCATION:Paris\, Galerie Les Filles du Calvaire\, 17 Rue des Filles du Calvaire\, 75003\, Paris\, France\, Paris\, Île-de-France region\, 75003\, France
ATTACH;FMTTYPE=image/png:https://fashionvaluechain.com/wp-content/uploads/2026/03/Screenshot-2026-03-05-174508.png
END:VEVENT
BEGIN:VEVENT
DTSTART;TZID=Asia/Kolkata:20260306T090000
DTEND;TZID=Asia/Kolkata:20260309T180000
DTSTAMP:20260423T110816
CREATED:20260305T151606Z
LAST-MODIFIED:20260305T151652Z
UID:66049-1772787600-1773079200@fashionvaluechain.com
SUMMARY:Who's Next - Premiere Classe 2026
DESCRIPTION:Lansing Center\, 333 East Michigan Avenue\, Lansing\, MI 48933\, United States of America\, March 6–8\, 2026 \nPremiere Classe stands as the foremost international event dedicated to designers of fashion accessories. \nTaking place biannually during Paris Women’s Fashion Week\, Premiere Classe has been honoring the creative diversity and distinctiveness of accessories since 1989\, offering a unique\, inspiring\, and decidedly innovative experience. \nCrafted as an immersive exhibition\, Premiere Classe encourages connections among professionals through a meticulously curated selection of 250 designers — encompassing both emerging talents and established icons — along with an exclusive program that integrates talks\, exhibitions\, and art installations. \nFor a duration of four days\, Premiere Classe transforms into the essential event where style meets commerce\, and creative talent converges with international buyers to influence the accessories of the future. \nServing as a genuine laboratory for ideas and a platform for collaboration\, the event is hosted in the heart of the Jardin des Tuileries in Paris each March\, in conjunction with MATTER and SHAPE.Additionally\, the event is complemented by RUN\, a hybrid showroom and fashion show platform that follows Paris Fashion Week every season.
URL:https://fashionvaluechain.com/event/whos-next-premiere-classe-2026/
LOCATION:Jardin des Tuileries\, Paris\, France\, Jardin des Tuileries\, Paris\, France\, Paris\, France
CATEGORIES:Exhibition,Fashion week
ATTACH;FMTTYPE=image/webp:https://fashionvaluechain.com/wp-content/uploads/2026/03/21af8143fcd3f66a37e4ef0335078cdf.webp
END:VEVENT
BEGIN:VEVENT
DTSTART;TZID=Asia/Kolkata:20260306T100000
DTEND;TZID=Asia/Kolkata:20260309T180000
DTSTAMP:20260423T110816
CREATED:20260313T163008Z
LAST-MODIFIED:20260313T163008Z
UID:66649-1772791200-1773079200@fashionvaluechain.com
SUMMARY:Texfair – Coimbatore 2026
DESCRIPTION:Texfair is a specialized exhibition dedicated to textile machinery and technologies used in yarn and fabric manufacturing. The event gathers machinery manufacturers\, textile producers\, and industry professionals presenting equipment designed for modern textile production facilities. Exhibitors showcase spinning machinery\, automation technologies\, and digital manufacturing systems that improve efficiency in textile factories. Industry professionals attend the exhibition to evaluate technological innovations and explore equipment capable of enhancing production capacity. Technical seminars and demonstrations highlight developments in textile processing and automation technologies. Texfair supports the advancement of India’s textile manufacturing sector by providing a platform where manufacturers and technology providers can exchange knowledge and explore new production solutions.
URL:https://fashionvaluechain.com/event/texfair-coimbatore-2026/
LOCATION:CODISSIA Trade Fair Complex\, Coimbatore\, India\, CODISSIA Trade Fair Complex\, Coimbatore\, India\, Coimbatore\, India
CATEGORIES:Exhibition
ATTACH;FMTTYPE=image/jpeg:https://fashionvaluechain.com/wp-content/uploads/2026/03/images-6.jpg
ORGANIZER;CN="Southern India Mills Association (SIMA)":MAILTO:info@simaindia.org
END:VEVENT
END:VCALENDAR