BEGIN:VCALENDAR
VERSION:2.0
PRODID:-//FASHION VALUE CHAIN - ECPv6.15.16//NONSGML v1.0//EN
CALSCALE:GREGORIAN
METHOD:PUBLISH
X-ORIGINAL-URL:https://fashionvaluechain.com
X-WR-CALDESC:Events for FASHION VALUE CHAIN
REFRESH-INTERVAL;VALUE=DURATION:PT1H
X-Robots-Tag:noindex
X-PUBLISHED-TTL:PT1H
BEGIN:VTIMEZONE
TZID:Asia/Kolkata
BEGIN:STANDARD
TZOFFSETFROM:+0530
TZOFFSETTO:+0530
TZNAME:IST
DTSTART:20250101T000000
END:STANDARD
END:VTIMEZONE
BEGIN:VEVENT
DTSTART;TZID=Asia/Kolkata:20260305T080000
DTEND;TZID=Asia/Kolkata:20260305T170000
DTSTAMP:20260423T110927
CREATED:20260305T122454Z
LAST-MODIFIED:20260305T122454Z
UID:66041-1772697600-1772730000@fashionvaluechain.com
SUMMARY:Denim Show - Delhi 2026
DESCRIPTION:The Denim Show is organized by MEX Exhibitions Pvt. Ltd. and Messe Frankfurt India\, in partnership with the Denim Manufacturers’ Association (DMA). It takes place twice a year\, once in Delhi and once in Mumbai\, alongside Gartex Texprocess India. This event is exclusively for DMA members and the denim community\, focusing on showcasing the potential of denim as a future fashion trend. As India has become the second largest producer of denim fabric\, with an annual manufacturing capacity of 1\,600 million meters\, the Show provides a vital platform for the denim industry. It aims to enhance denim consumption\, especially since it has become popular in towns and villages due to its comfort and durability.
URL:https://fashionvaluechain.com/event/denim-show-delhi-2026/
LOCATION:Bharat Mandapam (Pragati Maidan)\, New Delhi\, India\, Bharat Mandapam (Pragati Maidan)\, New Delhi\, India\, New Delhi\, India
CATEGORIES:Exhibition
ATTACH;FMTTYPE=image/png:https://fashionvaluechain.com/wp-content/uploads/2026/03/heder-logo-new.png
END:VEVENT
BEGIN:VEVENT
DTSTART;TZID=Asia/Kolkata:20260305T080000
DTEND;TZID=Asia/Kolkata:20260305T170000
DTSTAMP:20260423T110927
CREATED:20260305T155548Z
LAST-MODIFIED:20260305T155548Z
UID:66062-1772697600-1772730000@fashionvaluechain.com
SUMMARY:Amsterdam Textile Show 2026 (ATS)
DESCRIPTION:Amsterdam Textile Show serves as the foremost assembly for the global textile\, fashion\, and sourcing sectors. ATS links international buyers with cutting-edge suppliers on a distinguished and effective platform. The exhibition showcases the newest trends and sustainable solutions in fabrics\, ready-to-wear garments\, yarn\, denim\, leather\, footwear\, home textiles\, and accessories/components. \nThe 4th International Amsterdam Textile Show\, recognized as one of the largest textile exhibitions worldwide\, is scheduled to occur in Amsterdam from November 4 to November 6\, 2026. This esteemed fair unites the textile and raw material industries\, facilitating connections between global purchasers and innovative suppliers.
URL:https://fashionvaluechain.com/event/amsterdam-textile-show-2026-ats/
LOCATION:Bella Center\, Copenhagen\, Denmark\, Bella Center\, Copenhagen\, Denmark
CATEGORIES:Exhibition
ATTACH;FMTTYPE=image/webp:https://fashionvaluechain.com/wp-content/uploads/2026/03/193642021aboutus.webp
END:VEVENT
END:VCALENDAR