BEGIN:VCALENDAR
VERSION:2.0
PRODID:-//FASHION VALUE CHAIN - ECPv6.15.16//NONSGML v1.0//EN
CALSCALE:GREGORIAN
METHOD:PUBLISH
X-ORIGINAL-URL:https://fashionvaluechain.com
X-WR-CALDESC:Events for FASHION VALUE CHAIN
REFRESH-INTERVAL;VALUE=DURATION:PT1H
X-Robots-Tag:noindex
X-PUBLISHED-TTL:PT1H
BEGIN:VTIMEZONE
TZID:Asia/Kolkata
BEGIN:STANDARD
TZOFFSETFROM:+0530
TZOFFSETTO:+0530
TZNAME:IST
DTSTART:20250101T000000
END:STANDARD
END:VTIMEZONE
BEGIN:VTIMEZONE
TZID:America/Port_of_Spain
BEGIN:STANDARD
TZOFFSETFROM:-0400
TZOFFSETTO:-0400
TZNAME:AST
DTSTART:20250101T000000
END:STANDARD
END:VTIMEZONE
BEGIN:VTIMEZONE
TZID:Europe/Moscow
BEGIN:STANDARD
TZOFFSETFROM:+0300
TZOFFSETTO:+0300
TZNAME:MSK
DTSTART:20250101T000000
END:STANDARD
END:VTIMEZONE
BEGIN:VEVENT
DTSTART;TZID=Asia/Kolkata:20261016T100000
DTEND;TZID=Asia/Kolkata:20261021T200000
DTSTAMP:20260423T105530
CREATED:20260311T161614Z
LAST-MODIFIED:20260311T161614Z
UID:66477-1792144800-1792612800@fashionvaluechain.com
SUMMARY:Seoul Fashion Week 2026
DESCRIPTION:Seoul Fashion Week is a leading fashion event in Asia that showcases contemporary Korean fashion and emerging design talent. The event features runway shows\, designer presentations\, and exhibitions attended by buyers\, fashion journalists\, and industry professionals. Designers present seasonal collections that reflect innovative design approaches and global fashion influences. The program also includes networking events and industry forums that address fashion retail trends\, digital marketing strategies\, and sustainable design practices. Seoul Fashion Week has become an important platform for promoting Korean fashion brands and connecting them with international markets
URL:https://fashionvaluechain.com/event/seoul-fashion-week-2026/
LOCATION:Dongdaemun Design Plaza\, Seoul\, South Korea\, Dongdaemun Design Plaza\, Seoul\, South Korea\, Seoul\, Korea\, Democratic People's Republic of
CATEGORIES:Fashion week
ATTACH;FMTTYPE=image/png:https://fashionvaluechain.com/wp-content/uploads/2026/03/img_fashion02.png
END:VEVENT
BEGIN:VEVENT
DTSTART;TZID=America/Port_of_Spain:20261021T090000
DTEND;TZID=America/Port_of_Spain:20261023T180000
DTSTAMP:20260423T105530
CREATED:20260331T153431Z
LAST-MODIFIED:20260331T153431Z
UID:67701-1792573200-1792778400@fashionvaluechain.com
SUMMARY:Textile Expo Barcelona
DESCRIPTION:Textile Expo Barcelona is an international exhibition focused on fabrics and textile sourcing. The event gathers manufacturers\, designers\, and buyers presenting materials for apparel production. Exhibitors showcase fabrics aligned with fashion trends\, while buyers attend to evaluate suppliers. The exhibition also includes networking sessions and product showcases. It supports collaboration within the textile industry.
URL:https://fashionvaluechain.com/event/textile-expo-barcelona-2/
LOCATION:Fira Barcelona Montjuïc\, Fira Barcelona Montjuïc\, Barcelona\, Spain
CATEGORIES:Exhibition
ATTACH;FMTTYPE=image/webp:https://fashionvaluechain.com/wp-content/uploads/2026/03/Textile-Expo-Barcelona-1.webp
ORGANIZER;CN="Textile Expo":MAILTO:info@textileexpo.org
END:VEVENT
BEGIN:VEVENT
DTSTART;TZID=Asia/Kolkata:20261021T100000
DTEND;TZID=Asia/Kolkata:20261023T170000
DTSTAMP:20260423T105530
CREATED:20260322T173812Z
LAST-MODIFIED:20260322T173812Z
UID:67068-1792576800-1792774800@fashionvaluechain.com
SUMMARY:Apparel Sourcing Germany – Berlin 2026
DESCRIPTION:Apparel Sourcing Germany is an international exhibition connecting garment manufacturers with European fashion brands and retailers. The event showcases apparel collections\, fabrics\, and production services from global suppliers. Buyers attend to evaluate suppliers and explore sourcing opportunities. Exhibitors present products designed for international retail markets. The exhibition also includes networking sessions and discussions on supply chain development. It provides a platform for strengthening sourcing relationships within Europe.
URL:https://fashionvaluechain.com/event/apparel-sourcing-germany-berlin-2026/
LOCATION:Messe Berlin\, Messe Berlin\, Berlin\, Germany
CATEGORIES:Exhibition
ATTACH;FMTTYPE=image/jpeg:https://fashionvaluechain.com/wp-content/uploads/2026/03/atsc_2019_matchmaking.jpg
END:VEVENT
BEGIN:VEVENT
DTSTART;TZID=Europe/Moscow:20261021T100000
DTEND;TZID=Europe/Moscow:20261023T180000
DTSTAMP:20260423T105530
CREATED:20260322T172251Z
LAST-MODIFIED:20260322T172251Z
UID:67054-1792576800-1792778400@fashionvaluechain.com
SUMMARY:Fashion Prime – Izmir 2026
DESCRIPTION:Fashion Prime Izmir is an international exhibition focused on textile\, apparel manufacturing\, and supply chain solutions. The event gathers manufacturers\, designers\, and sourcing professionals presenting fabrics\, accessories\, and production services. Exhibitors showcase materials and technologies designed for fashion production. Buyers attend to evaluate suppliers and establish sourcing partnerships. The exhibition also includes seminars addressing trends in textile production and sustainability. Fashion Prime supports collaboration within the global fashion supply chain.
URL:https://fashionvaluechain.com/event/fashion-prime-izmir-2026/
LOCATION:Fuar Izmir Exhibition Center\, Fuar Izmir Exhibition Center
CATEGORIES:Exhibition
ATTACH;FMTTYPE=image/jpeg:https://fashionvaluechain.com/wp-content/uploads/2026/03/Fashion_prime_2026.jpg
END:VEVENT
END:VCALENDAR