BEGIN:VCALENDAR
VERSION:2.0
PRODID:-//FASHION VALUE CHAIN - ECPv6.15.16//NONSGML v1.0//EN
CALSCALE:GREGORIAN
METHOD:PUBLISH
X-WR-CALNAME:FASHION VALUE CHAIN
X-ORIGINAL-URL:https://fashionvaluechain.com
X-WR-CALDESC:Events for FASHION VALUE CHAIN
REFRESH-INTERVAL;VALUE=DURATION:PT1H
X-Robots-Tag:noindex
X-PUBLISHED-TTL:PT1H
BEGIN:VTIMEZONE
TZID:Europe/Paris
BEGIN:DAYLIGHT
TZOFFSETFROM:+0100
TZOFFSETTO:+0200
TZNAME:CEST
DTSTART:20250330T010000
END:DAYLIGHT
BEGIN:STANDARD
TZOFFSETFROM:+0200
TZOFFSETTO:+0100
TZNAME:CET
DTSTART:20251026T010000
END:STANDARD
BEGIN:DAYLIGHT
TZOFFSETFROM:+0100
TZOFFSETTO:+0200
TZNAME:CEST
DTSTART:20260329T010000
END:DAYLIGHT
BEGIN:STANDARD
TZOFFSETFROM:+0200
TZOFFSETTO:+0100
TZNAME:CET
DTSTART:20261025T010000
END:STANDARD
BEGIN:DAYLIGHT
TZOFFSETFROM:+0100
TZOFFSETTO:+0200
TZNAME:CEST
DTSTART:20270328T010000
END:DAYLIGHT
BEGIN:STANDARD
TZOFFSETFROM:+0200
TZOFFSETTO:+0100
TZNAME:CET
DTSTART:20271031T010000
END:STANDARD
END:VTIMEZONE
BEGIN:VTIMEZONE
TZID:Europe/Paris
BEGIN:DAYLIGHT
TZOFFSETFROM:+0100
TZOFFSETTO:+0200
TZNAME:CEST
DTSTART:20250330T010000
END:DAYLIGHT
BEGIN:STANDARD
TZOFFSETFROM:+0200
TZOFFSETTO:+0100
TZNAME:CET
DTSTART:20251026T010000
END:STANDARD
BEGIN:DAYLIGHT
TZOFFSETFROM:+0100
TZOFFSETTO:+0200
TZNAME:CEST
DTSTART:20260329T010000
END:DAYLIGHT
BEGIN:STANDARD
TZOFFSETFROM:+0200
TZOFFSETTO:+0100
TZNAME:CET
DTSTART:20261025T010000
END:STANDARD
BEGIN:DAYLIGHT
TZOFFSETFROM:+0100
TZOFFSETTO:+0200
TZNAME:CEST
DTSTART:20270328T010000
END:DAYLIGHT
BEGIN:STANDARD
TZOFFSETFROM:+0200
TZOFFSETTO:+0100
TZNAME:CET
DTSTART:20271031T010000
END:STANDARD
END:VTIMEZONE
BEGIN:VEVENT
DTSTART;TZID=Europe/Paris:20260831T090000
DTEND;TZID=Europe/Paris:20260902T180000
DTSTAMP:20260423T080352
CREATED:20260313T144210Z
LAST-MODIFIED:20260313T144210Z
UID:66603-1788166800-1788372000@fashionvaluechain.com
SUMMARY:Texworld Paris 2026
DESCRIPTION:Texworld Paris is an international sourcing exhibition that focuses on fabrics and materials used in apparel manufacturing. The event gathers textile producers\, garment manufacturers\, designers\, and sourcing professionals who are seeking new fabric innovations and manufacturing partners. Exhibitors present a broad range of textile products including cotton\, wool\, silk\, denim\, and technical fabrics designed for fashion production. Buyers from global fashion brands and retail companies attend the exhibition to identify reliable suppliers and evaluate materials suitable for upcoming collections. The show also features trend forums and educational presentations that highlight developments in textile design\, sustainability practices\, and supply chain transparency. Texworld Paris plays an important role in facilitating international trade between textile producers and fashion companies while influencing seasonal fabric trends.
URL:https://fashionvaluechain.com/event/texworld-paris-2026-2/
LOCATION:Paris Le Bourget Exhibition Centre\, Paris\, France\, Paris Le Bourget Exhibition Centre\, Paris\, France\, Paris\, France
CATEGORIES:Exhibition
ATTACH;FMTTYPE=image/jpeg:https://fashionvaluechain.com/wp-content/uploads/2026/03/Texworld-2026-Paris-France-1.jpg
ORGANIZER;CN="Messe Frankfurt France":MAILTO:texworld@messefrankfurt.fr
END:VEVENT
BEGIN:VEVENT
DTSTART;TZID=Europe/Paris:20260831T090000
DTEND;TZID=Europe/Paris:20260902T180000
DTSTAMP:20260423T080352
CREATED:20260331T155859Z
LAST-MODIFIED:20260331T155859Z
UID:67718-1788166800-1788372000@fashionvaluechain.com
SUMMARY:Texworld Evolution Paris – September 2026
DESCRIPTION:Texworld Evolution Paris is a major international sourcing platform combining textiles\, apparel\, and fashion innovation. The event gathers global manufacturers\, designers\, and sourcing professionals presenting fabrics and garments for international markets. Exhibitors showcase materials aligned with upcoming fashion trends\, while buyers attend to evaluate suppliers and identify sourcing opportunities. The exhibition also includes trend forums and expert-led discussions addressing sustainability and innovation. Texworld Evolution Paris plays a crucial role in connecting suppliers with brands across the global fashion supply chain.
URL:https://fashionvaluechain.com/event/texworld-evolution-paris-september-2026-2/
LOCATION:Paris Le Bourget Exhibition Centre\, France\, Paris Le Bourget Exhibition Centre\, France\, Paris\, France
CATEGORIES:Exhibition
ATTACH;FMTTYPE=image/jpeg:https://fashionvaluechain.com/wp-content/uploads/2026/03/TW59-ENG-1.jpg
ORGANIZER;CN="Messe Frankfurt France":MAILTO:texworld@messefrankfurt.fr
END:VEVENT
END:VCALENDAR