BEGIN:VCALENDAR
VERSION:2.0
PRODID:-//FASHION VALUE CHAIN - ECPv6.15.16//NONSGML v1.0//EN
CALSCALE:GREGORIAN
METHOD:PUBLISH
X-ORIGINAL-URL:https://fashionvaluechain.com
X-WR-CALDESC:Events for FASHION VALUE CHAIN
REFRESH-INTERVAL;VALUE=DURATION:PT1H
X-Robots-Tag:noindex
X-PUBLISHED-TTL:PT1H
BEGIN:VTIMEZONE
TZID:Asia/Kolkata
BEGIN:STANDARD
TZOFFSETFROM:+0530
TZOFFSETTO:+0530
TZNAME:IST
DTSTART:20250101T000000
END:STANDARD
END:VTIMEZONE
BEGIN:VEVENT
DTSTART;TZID=Asia/Kolkata:20260819T100000
DTEND;TZID=Asia/Kolkata:20260822T180000
DTSTAMP:20260424T174248
CREATED:20260322T172806Z
LAST-MODIFIED:20260322T172806Z
UID:67059-1787133600-1787421600@fashionvaluechain.com
SUMMARY:IFCO – Istanbul Fashion Connection 2026
DESCRIPTION:Istanbul Fashion Connection (IFCO) is a major fashion trade event that connects apparel manufacturers with global buyers. The exhibition features clothing collections\, fabrics\, and accessories designed for retail markets. Exhibitors present products reflecting contemporary fashion trends. Buyers attend to explore sourcing opportunities and evaluate suppliers. The event also includes fashion shows and networking sessions. IFCO serves as a key platform for connecting Turkish manufacturers with international fashion markets.
URL:https://fashionvaluechain.com/event/ifco-istanbul-fashion-connection-2026/
LOCATION:Istanbul Expo Center\, Istanbul Expo Center\, Istanbul\, Turkey
CATEGORIES:Exhibition
ATTACH;FMTTYPE=image/jpeg:https://fashionvaluechain.com/wp-content/uploads/2026/03/630983716_923377420214018_3003244174120129357_n.jpg
END:VEVENT
END:VCALENDAR