BEGIN:VCALENDAR
VERSION:2.0
PRODID:-//FASHION VALUE CHAIN - ECPv6.15.16//NONSGML v1.0//EN
CALSCALE:GREGORIAN
METHOD:PUBLISH
X-WR-CALNAME:FASHION VALUE CHAIN
X-ORIGINAL-URL:https://fashionvaluechain.com
X-WR-CALDESC:Events for FASHION VALUE CHAIN
REFRESH-INTERVAL;VALUE=DURATION:PT1H
X-Robots-Tag:noindex
X-PUBLISHED-TTL:PT1H
BEGIN:VTIMEZONE
TZID:Asia/Kolkata
BEGIN:STANDARD
TZOFFSETFROM:+0530
TZOFFSETTO:+0530
TZNAME:IST
DTSTART:20250101T000000
END:STANDARD
END:VTIMEZONE
BEGIN:VTIMEZONE
TZID:America/Los_Angeles
BEGIN:DAYLIGHT
TZOFFSETFROM:-0800
TZOFFSETTO:-0700
TZNAME:PDT
DTSTART:20250309T100000
END:DAYLIGHT
BEGIN:STANDARD
TZOFFSETFROM:-0700
TZOFFSETTO:-0800
TZNAME:PST
DTSTART:20251102T090000
END:STANDARD
BEGIN:DAYLIGHT
TZOFFSETFROM:-0800
TZOFFSETTO:-0700
TZNAME:PDT
DTSTART:20260308T100000
END:DAYLIGHT
BEGIN:STANDARD
TZOFFSETFROM:-0700
TZOFFSETTO:-0800
TZNAME:PST
DTSTART:20261101T090000
END:STANDARD
BEGIN:DAYLIGHT
TZOFFSETFROM:-0800
TZOFFSETTO:-0700
TZNAME:PDT
DTSTART:20270314T100000
END:DAYLIGHT
BEGIN:STANDARD
TZOFFSETFROM:-0700
TZOFFSETTO:-0800
TZNAME:PST
DTSTART:20271107T090000
END:STANDARD
END:VTIMEZONE
BEGIN:VEVENT
DTSTART;TZID=Asia/Kolkata:20260807T080000
DTEND;TZID=Asia/Kolkata:20260810T170000
DTSTAMP:20260424T174051
CREATED:20260320T180842Z
LAST-MODIFIED:20260320T180936Z
UID:67025-1786089600-1786381200@fashionvaluechain.com
SUMMARY:Supreme Women & Men Munich – August 2026
DESCRIPTION:Supreme Women & Men Munich is a fashion order fair that presents contemporary apparel collections and accessories. The event gathers brands\, designers\, and retail buyers focused on premium fashion markets. Exhibitors showcase seasonal collections designed for boutique and department store retail. Buyers attend to evaluate products and identify new brands. The event supports networking and business development within the European fashion industry. Supreme Munich provides a platform for connecting fashion brands with retail partners.
URL:https://fashionvaluechain.com/event/supreme-women-men-munich-august-2026/
LOCATION:MTC World of Fashion\, Munich\, MTC World of Fashion\, Munich\, Munich\, Germany
CATEGORIES:Exhibition
ATTACH;FMTTYPE=image/jpeg:https://fashionvaluechain.com/wp-content/uploads/2026/03/WoRmHLWgMIKcD87lJkeJxAab1Ykc4bz50HduAhkD.jpg
ORGANIZER;CN="The Supreme Group":MAILTO:info@munichfashioncompany.de
END:VEVENT
BEGIN:VEVENT
DTSTART;TZID=America/Los_Angeles:20260810T090000
DTEND;TZID=America/Los_Angeles:20260812T180000
DTSTAMP:20260424T174051
CREATED:20260331T165701Z
LAST-MODIFIED:20260331T165701Z
UID:67771-1786352400-1786557600@fashionvaluechain.com
SUMMARY:PROJECT Las Vegas – August 2026
DESCRIPTION:PROJECT Las Vegas is a contemporary fashion trade event that focuses on apparel\, accessories\, and retail innovation. The event gathers global brands and buyers presenting collections aligned with lifestyle and streetwear trends. Exhibitors showcase products designed for modern retail environments. Buyers attend to evaluate collections and identify new brands. The exhibition also includes networking sessions and trend presentations. PROJECT serves as a key platform for driving business growth within the global fashion retail sector.
URL:https://fashionvaluechain.com/event/project-las-vegas-august-2026/
LOCATION:Las Vegas Convention Center\, United Kingdom
CATEGORIES:Exhibition
ATTACH;FMTTYPE=image/png:https://fashionvaluechain.com/wp-content/uploads/2026/03/project.png
END:VEVENT
END:VCALENDAR