BEGIN:VCALENDAR
VERSION:2.0
PRODID:-//FASHION VALUE CHAIN - ECPv6.15.16//NONSGML v1.0//EN
CALSCALE:GREGORIAN
METHOD:PUBLISH
X-WR-CALNAME:FASHION VALUE CHAIN
X-ORIGINAL-URL:https://fashionvaluechain.com
X-WR-CALDESC:Events for FASHION VALUE CHAIN
REFRESH-INTERVAL;VALUE=DURATION:PT1H
X-Robots-Tag:noindex
X-PUBLISHED-TTL:PT1H
BEGIN:VTIMEZONE
TZID:Europe/Paris
BEGIN:DAYLIGHT
TZOFFSETFROM:+0100
TZOFFSETTO:+0200
TZNAME:CEST
DTSTART:20250330T010000
END:DAYLIGHT
BEGIN:STANDARD
TZOFFSETFROM:+0200
TZOFFSETTO:+0100
TZNAME:CET
DTSTART:20251026T010000
END:STANDARD
BEGIN:DAYLIGHT
TZOFFSETFROM:+0100
TZOFFSETTO:+0200
TZNAME:CEST
DTSTART:20260329T010000
END:DAYLIGHT
BEGIN:STANDARD
TZOFFSETFROM:+0200
TZOFFSETTO:+0100
TZNAME:CET
DTSTART:20261025T010000
END:STANDARD
BEGIN:DAYLIGHT
TZOFFSETFROM:+0100
TZOFFSETTO:+0200
TZNAME:CEST
DTSTART:20270328T010000
END:DAYLIGHT
BEGIN:STANDARD
TZOFFSETFROM:+0200
TZOFFSETTO:+0100
TZNAME:CET
DTSTART:20271031T010000
END:STANDARD
END:VTIMEZONE
BEGIN:VTIMEZONE
TZID:Asia/Shanghai
BEGIN:STANDARD
TZOFFSETFROM:+0800
TZOFFSETTO:+0800
TZNAME:CST
DTSTART:20250101T000000
END:STANDARD
END:VTIMEZONE
BEGIN:VEVENT
DTSTART;TZID=Europe/Paris:20260723T100000
DTEND;TZID=Europe/Paris:20260725T190000
DTSTAMP:20260424T174050
CREATED:20260316T170520Z
LAST-MODIFIED:20260316T170520Z
UID:66795-1784800800-1785006000@fashionvaluechain.com
SUMMARY:MOMAD Madrid
DESCRIPTION:MOMAD Madrid is an international fashion trade fair that showcases apparel\, footwear\, and fashion accessories designed for retail markets. The exhibition gathers fashion brands\, designers\, and retail buyers from across Europe and international markets. Exhibitors present contemporary clothing collections and lifestyle products that reflect emerging fashion trends. Retail buyers attend the event to identify new brands and evaluate collections suitable for boutique and department store distribution. The event also includes networking opportunities and trend presentations that highlight developments in fashion design and retail merchandising. MOMAD Madrid serves as a key meeting point where fashion brands and retailers establish business partnerships and explore opportunities within the European fashion market.
URL:https://fashionvaluechain.com/event/momad-madrid/
LOCATION:IFEMA Madrid Exhibition Centre\, Spain\, IFEMA Madrid Exhibition Centre\, Spain\, Madrid\, Spain
CATEGORIES:Exhibition
ATTACH;FMTTYPE=image/jpeg:https://fashionvaluechain.com/wp-content/uploads/2026/03/redes-sociales-momad-v3.jpg
ORGANIZER;CN="IFEMA Madrid":MAILTO:info@ifema.es
END:VEVENT
BEGIN:VEVENT
DTSTART;TZID=Asia/Shanghai:20260724T093000
DTEND;TZID=Asia/Shanghai:20260726T180000
DTSTAMP:20260424T174050
CREATED:20260324T165510Z
LAST-MODIFIED:20260324T165510Z
UID:67239-1784885400-1785088800@fashionvaluechain.com
SUMMARY:Intertextile Pavilion Shenzhen – July 2026
DESCRIPTION:Intertextile Pavilion Shenzhen is a textile sourcing exhibition that focuses on fabrics and materials for apparel production. The event gathers textile manufacturers\, designers\, and sourcing professionals presenting innovative materials suitable for fashion manufacturing. Exhibitors showcase fabrics\, trims\, and textile solutions aligned with current market trends. Buyers attend to evaluate suppliers and explore sourcing opportunities within the Asian market. The exhibition also includes seminars addressing sustainability and textile innovation. Intertextile Pavilion Shenzhen provides a platform for collaboration between textile producers and fashion brands seeking efficient sourcing solutions.
URL:https://fashionvaluechain.com/event/intertextile-pavilion-shenzhen-july-2026/
LOCATION:Shenzhen Convention & Exhibition Center\, Shenzhen Convention & Exhibition Center\, Shenzhen\, China
CATEGORIES:Exhibition
ATTACH;FMTTYPE=image/webp:https://fashionvaluechain.com/wp-content/uploads/2026/03/New-Project-2025-11-11T094457.102.webp
ORGANIZER;CN="Messe Frankfurt (HK) Ltd":MAILTO:textile@messefrankfurt.com.cn
END:VEVENT
END:VCALENDAR