BEGIN:VCALENDAR
VERSION:2.0
PRODID:-//FASHION VALUE CHAIN - ECPv6.15.16//NONSGML v1.0//EN
CALSCALE:GREGORIAN
METHOD:PUBLISH
X-ORIGINAL-URL:https://fashionvaluechain.com
X-WR-CALDESC:Events for FASHION VALUE CHAIN
REFRESH-INTERVAL;VALUE=DURATION:PT1H
X-Robots-Tag:noindex
X-PUBLISHED-TTL:PT1H
BEGIN:VTIMEZONE
TZID:Europe/Paris
BEGIN:DAYLIGHT
TZOFFSETFROM:+0100
TZOFFSETTO:+0200
TZNAME:CEST
DTSTART:20250330T010000
END:DAYLIGHT
BEGIN:STANDARD
TZOFFSETFROM:+0200
TZOFFSETTO:+0100
TZNAME:CET
DTSTART:20251026T010000
END:STANDARD
BEGIN:DAYLIGHT
TZOFFSETFROM:+0100
TZOFFSETTO:+0200
TZNAME:CEST
DTSTART:20260329T010000
END:DAYLIGHT
BEGIN:STANDARD
TZOFFSETFROM:+0200
TZOFFSETTO:+0100
TZNAME:CET
DTSTART:20261025T010000
END:STANDARD
BEGIN:DAYLIGHT
TZOFFSETFROM:+0100
TZOFFSETTO:+0200
TZNAME:CEST
DTSTART:20270328T010000
END:DAYLIGHT
BEGIN:STANDARD
TZOFFSETFROM:+0200
TZOFFSETTO:+0100
TZNAME:CET
DTSTART:20271031T010000
END:STANDARD
END:VTIMEZONE
BEGIN:VTIMEZONE
TZID:Europe/Berlin
BEGIN:DAYLIGHT
TZOFFSETFROM:+0100
TZOFFSETTO:+0200
TZNAME:CEST
DTSTART:20250330T010000
END:DAYLIGHT
BEGIN:STANDARD
TZOFFSETFROM:+0200
TZOFFSETTO:+0100
TZNAME:CET
DTSTART:20251026T010000
END:STANDARD
BEGIN:DAYLIGHT
TZOFFSETFROM:+0100
TZOFFSETTO:+0200
TZNAME:CEST
DTSTART:20260329T010000
END:DAYLIGHT
BEGIN:STANDARD
TZOFFSETFROM:+0200
TZOFFSETTO:+0100
TZNAME:CET
DTSTART:20261025T010000
END:STANDARD
BEGIN:DAYLIGHT
TZOFFSETFROM:+0100
TZOFFSETTO:+0200
TZNAME:CEST
DTSTART:20270328T010000
END:DAYLIGHT
BEGIN:STANDARD
TZOFFSETFROM:+0200
TZOFFSETTO:+0100
TZNAME:CET
DTSTART:20271031T010000
END:STANDARD
END:VTIMEZONE
BEGIN:VTIMEZONE
TZID:Europe/Paris
BEGIN:DAYLIGHT
TZOFFSETFROM:+0100
TZOFFSETTO:+0200
TZNAME:CEST
DTSTART:20250330T010000
END:DAYLIGHT
BEGIN:STANDARD
TZOFFSETFROM:+0200
TZOFFSETTO:+0100
TZNAME:CET
DTSTART:20251026T010000
END:STANDARD
BEGIN:DAYLIGHT
TZOFFSETFROM:+0100
TZOFFSETTO:+0200
TZNAME:CEST
DTSTART:20260329T010000
END:DAYLIGHT
BEGIN:STANDARD
TZOFFSETFROM:+0200
TZOFFSETTO:+0100
TZNAME:CET
DTSTART:20261025T010000
END:STANDARD
BEGIN:DAYLIGHT
TZOFFSETFROM:+0100
TZOFFSETTO:+0200
TZNAME:CEST
DTSTART:20270328T010000
END:DAYLIGHT
BEGIN:STANDARD
TZOFFSETFROM:+0200
TZOFFSETTO:+0100
TZNAME:CET
DTSTART:20271031T010000
END:STANDARD
END:VTIMEZONE
BEGIN:VTIMEZONE
TZID:Europe/Helsinki
BEGIN:DAYLIGHT
TZOFFSETFROM:+0200
TZOFFSETTO:+0300
TZNAME:EEST
DTSTART:20250330T010000
END:DAYLIGHT
BEGIN:STANDARD
TZOFFSETFROM:+0300
TZOFFSETTO:+0200
TZNAME:EET
DTSTART:20251026T010000
END:STANDARD
BEGIN:DAYLIGHT
TZOFFSETFROM:+0200
TZOFFSETTO:+0300
TZNAME:EEST
DTSTART:20260329T010000
END:DAYLIGHT
BEGIN:STANDARD
TZOFFSETFROM:+0300
TZOFFSETTO:+0200
TZNAME:EET
DTSTART:20261025T010000
END:STANDARD
BEGIN:DAYLIGHT
TZOFFSETFROM:+0200
TZOFFSETTO:+0300
TZNAME:EEST
DTSTART:20270328T010000
END:DAYLIGHT
BEGIN:STANDARD
TZOFFSETFROM:+0300
TZOFFSETTO:+0200
TZNAME:EET
DTSTART:20271031T010000
END:STANDARD
END:VTIMEZONE
BEGIN:VEVENT
DTSTART;TZID=Europe/Paris:20260705T100000
DTEND;TZID=Europe/Paris:20260706T180000
DTSTAMP:20260423T041918
CREATED:20260318T162841Z
LAST-MODIFIED:20260318T162841Z
UID:66942-1783245600-1783360800@fashionvaluechain.com
SUMMARY:Modefabriek – Amsterdam 2026 (Summer Edition)
DESCRIPTION:Modefabriek Amsterdam is a contemporary fashion trade show that brings together apparel brands\, designers\, and retail buyers. The exhibition features curated collections of womenswear\, menswear\, and accessories designed for boutique and department store retail. Buyers attend to discover new brands and evaluate seasonal collections aligned with consumer trends. Exhibitors present innovative designs reflecting modern fashion aesthetics. The event also includes networking opportunities and trend presentations that provide insights into retail strategies and merchandising. Modefabriek serves as a key platform within the European fashion market for connecting designers with retailers.
URL:https://fashionvaluechain.com/event/modefabriek-amsterdam-2026-summer-edition/
LOCATION:RAI Amsterdam\, RAI Amsterdam\, Amsterdam
CATEGORIES:Exhibition
ATTACH;FMTTYPE=image/png:https://fashionvaluechain.com/wp-content/uploads/2026/03/images-1-1.png
ORGANIZER;CN="Modefabriek BV":MAILTO:info@modefabriek.nl
END:VEVENT
BEGIN:VEVENT
DTSTART;TZID=Europe/Berlin:20260706T090000
DTEND;TZID=Europe/Berlin:20260707T180000
DTSTAMP:20260423T041918
CREATED:20260323T174716Z
LAST-MODIFIED:20260323T174716Z
UID:67140-1783328400-1783447200@fashionvaluechain.com
SUMMARY:FashionTech Berlin – July 2026
DESCRIPTION:FashionTech Berlin is a conference and exhibition focused on innovation within fashion and retail technology. The event gathers designers\, technology providers\, and retail professionals exploring digital transformation in fashion. Exhibitors and speakers present solutions related to artificial intelligence\, e-commerce\, and customer engagement. Participants attend to gain insights into emerging technologies and their applications in fashion retail. The event also includes panel discussions and networking sessions. FashionTech Berlin provides a platform for collaboration between technology companies and fashion brands.
URL:https://fashionvaluechain.com/event/fashiontech-berlin-july-2026/
LOCATION:Kraftwerk Berlin\, Kraftwerk Berlin\, Berlin\, Germany
CATEGORIES:Exhibition
ATTACH;FMTTYPE=image/jpeg:https://fashionvaluechain.com/wp-content/uploads/2026/03/csm_Fashiontech_01_97fbcbb70d.jpg
ORGANIZER;CN="Premium Group":MAILTO:info@premium-group.com
END:VEVENT
BEGIN:VEVENT
DTSTART;TZID=Europe/Paris:20260706T090000
DTEND;TZID=Europe/Paris:20260708T180000
DTSTAMP:20260423T041918
CREATED:20260323T175616Z
LAST-MODIFIED:20260323T175616Z
UID:67150-1783328400-1783533600@fashionvaluechain.com
SUMMARY:Texworld Evolution Paris – July 2026
DESCRIPTION:Texworld Evolution Paris is a major textile sourcing exhibition that combines multiple events focused on fabrics\, apparel sourcing\, and fashion innovation. The event gathers textile manufacturers\, designers\, and fashion brands presenting materials and production services. Exhibitors showcase fabrics\, garments\, and accessories designed for global markets. Buyers attend to evaluate suppliers and explore sourcing opportunities. The exhibition also includes trend presentations and industry discussions. Texworld Evolution Paris provides a comprehensive platform for connecting fashion companies with suppliers.
URL:https://fashionvaluechain.com/event/texworld-evolution-paris-july-2026/
LOCATION:Paris Le Bourget\, Paris Le Bourget
CATEGORIES:Exhibition
ATTACH;FMTTYPE=image/jpeg:https://fashionvaluechain.com/wp-content/uploads/2026/03/Texworld-2026-Paris-France.jpg
ORGANIZER;CN="Messe Frankfurt France":MAILTO:texworld@france.messefrankfurt.com
END:VEVENT
BEGIN:VEVENT
DTSTART;TZID=Europe/Helsinki:20260706T100000
DTEND;TZID=Europe/Helsinki:20260708T180000
DTSTAMP:20260423T041918
CREATED:20260325T175849Z
LAST-MODIFIED:20260325T175849Z
UID:67290-1783332000-1783533600@fashionvaluechain.com
SUMMARY:Allfashion Sourcing Cape Town 2026
DESCRIPTION:Allfashion Sourcing Cape Town is an international trade exhibition focused on apparel manufacturing and textile sourcing. The event gathers manufacturers\, designers\, and buyers presenting garments and materials for global markets. Exhibitors showcase apparel collections and production services\, while buyers attend to evaluate suppliers and explore sourcing opportunities. The exhibition also includes seminars addressing sustainability and supply chain innovation. Allfashion Sourcing provides a platform for collaboration within the African fashion industry.
URL:https://fashionvaluechain.com/event/allfashion-sourcing-cape-town-2026-2/
LOCATION:Cape Town International Convention Centre\, Cape Town International Convention Centre\, CAPE TOWN\, South Africa
CATEGORIES:Exhibition
ATTACH;FMTTYPE=image/webp:https://fashionvaluechain.com/wp-content/uploads/2026/03/Allfashion_Cape_Town_2026_Landscape_Web.webp.2560.webp
ORGANIZER;CN="Messe Frankfurt South Africa":MAILTO:https://www.messefrankfurt.com
END:VEVENT
END:VCALENDAR