BEGIN:VCALENDAR
VERSION:2.0
PRODID:-//FASHION VALUE CHAIN - ECPv6.15.16//NONSGML v1.0//EN
CALSCALE:GREGORIAN
METHOD:PUBLISH
X-WR-CALNAME:FASHION VALUE CHAIN
X-ORIGINAL-URL:https://fashionvaluechain.com
X-WR-CALDESC:Events for FASHION VALUE CHAIN
REFRESH-INTERVAL;VALUE=DURATION:PT1H
X-Robots-Tag:noindex
X-PUBLISHED-TTL:PT1H
BEGIN:VTIMEZONE
TZID:America/New_York
BEGIN:DAYLIGHT
TZOFFSETFROM:-0500
TZOFFSETTO:-0400
TZNAME:EDT
DTSTART:20250309T070000
END:DAYLIGHT
BEGIN:STANDARD
TZOFFSETFROM:-0400
TZOFFSETTO:-0500
TZNAME:EST
DTSTART:20251102T060000
END:STANDARD
BEGIN:DAYLIGHT
TZOFFSETFROM:-0500
TZOFFSETTO:-0400
TZNAME:EDT
DTSTART:20260308T070000
END:DAYLIGHT
BEGIN:STANDARD
TZOFFSETFROM:-0400
TZOFFSETTO:-0500
TZNAME:EST
DTSTART:20261101T060000
END:STANDARD
BEGIN:DAYLIGHT
TZOFFSETFROM:-0500
TZOFFSETTO:-0400
TZNAME:EDT
DTSTART:20270314T070000
END:DAYLIGHT
BEGIN:STANDARD
TZOFFSETFROM:-0400
TZOFFSETTO:-0500
TZNAME:EST
DTSTART:20271107T060000
END:STANDARD
END:VTIMEZONE
BEGIN:VTIMEZONE
TZID:Asia/Kolkata
BEGIN:STANDARD
TZOFFSETFROM:+0530
TZOFFSETTO:+0530
TZNAME:IST
DTSTART:20250101T000000
END:STANDARD
END:VTIMEZONE
BEGIN:VTIMEZONE
TZID:Asia/Shanghai
BEGIN:STANDARD
TZOFFSETFROM:+0800
TZOFFSETTO:+0800
TZNAME:CST
DTSTART:20250101T000000
END:STANDARD
END:VTIMEZONE
BEGIN:VEVENT
DTSTART;TZID=America/New_York:20260607T090000
DTEND;TZID=America/New_York:20260609T180000
DTSTAMP:20260423T025519
CREATED:20260317T170755Z
LAST-MODIFIED:20260317T170755Z
UID:66860-1780822800-1781028000@fashionvaluechain.com
SUMMARY:Functional Fabric Fair – New York 2026
DESCRIPTION:Functional Fabric Fair New York is a specialized sourcing event focused on high-performance textiles used in sportswear\, outdoor apparel\, and technical garments. The exhibition gathers textile mills\, material innovators\, and apparel brands presenting fabrics designed for durability\, comfort\, and sustainability. Exhibitors showcase moisture-wicking textiles\, insulation materials\, and eco-friendly alternatives suitable for performance apparel production. Designers\, product developers\, and sourcing professionals attend the event to evaluate materials and identify suppliers capable of meeting technical requirements. Educational sessions highlight developments in textile engineering\, sustainability practices\, and performance innovation. The event provides a focused platform for collaboration between textile developers and fashion brands working within the technical apparel sector.
URL:https://fashionvaluechain.com/event/functional-fabric-fair-new-york-2026/
LOCATION:Javits Center\, New York\, USA\, Javits Center\, New York\, USA
CATEGORIES:Exhibition
ATTACH;FMTTYPE=image/png:https://fashionvaluechain.com/wp-content/uploads/2026/03/Functional-Fabric-Fair-Logo_FINAL-01.png
ORGANIZER;CN="Performance Days GmbH":MAILTO:info@performancedays.com
END:VEVENT
BEGIN:VEVENT
DTSTART;TZID=Asia/Kolkata:20260609T090000
DTEND;TZID=Asia/Kolkata:20260611T173000
DTSTAMP:20260423T025519
CREATED:20260313T173519Z
LAST-MODIFIED:20260313T173519Z
UID:66659-1780995600-1781199000@fashionvaluechain.com
SUMMARY:Retail Innovation Conference & Expo – Chicago 2026
DESCRIPTION:Retail Innovation Conference & Expo is a professional event dedicated to exploring new strategies and technologies shaping the future of retail. The conference gathers retail executives\, fashion brands\, technology companies\, and marketing professionals interested in improving customer engagement and retail operations. Exhibitors present digital commerce platforms\, data analytics systems\, and innovative solutions designed to enhance both physical and online retail experiences. The event includes keynote sessions\, panel discussions\, and workshops that address topics such as omnichannel retailing\, artificial intelligence in retail management\, and evolving consumer expectations. Fashion retailers and lifestyle brands attend the conference to gain insights into emerging retail trends and to identify technologies that support business growth. Retail Innovation Conference & Expo provides a collaborative environment where industry leaders share knowledge and develop innovative retail strategies.
URL:https://fashionvaluechain.com/event/retail-innovation-conference-expo-chicago-2026/
LOCATION:McCormick Place Convention Center\, Chicago\, USA\, McCormick Place Convention Center\, Chicago\, USA\, CHICAGO\, United States
CATEGORIES:Conference,Exhibition
ATTACH;FMTTYPE=image/webp:https://fashionvaluechain.com/wp-content/uploads/2026/03/Screenshot-19.webp
ORGANIZER;CN="Retail TouchPoints":MAILTO:events@retailtouchpoints.com
END:VEVENT
BEGIN:VEVENT
DTSTART;TZID=Asia/Kolkata:20260609T090000
DTEND;TZID=Asia/Kolkata:20260611T180000
DTSTAMP:20260423T025519
CREATED:20260314T084349Z
LAST-MODIFIED:20260314T084349Z
UID:66671-1780995600-1781200800@fashionvaluechain.com
SUMMARY:ShopTalk Europe – Barcelona 2026
DESCRIPTION:ShopTalk Europe is an influential retail and e-commerce conference that brings together executives from leading fashion brands\, retailers\, and technology companies. The event focuses on strategies that help retailers adapt to changing consumer expectations and digital commerce trends. Participants attend keynote presentations\, networking sessions\, and interactive workshops that address topics such as omnichannel retailing\, supply chain innovation\, and customer data analytics. Technology companies showcase solutions designed to improve digital commerce platforms and enhance retail performance. Fashion retailers participate in the event to learn about emerging trends and identify partnerships that support business growth. ShopTalk Europe serves as a major platform for collaboration between retailers and technology providers working to shape the future of global commerce.
URL:https://fashionvaluechain.com/event/shoptalk-europe-barcelona-2026/
LOCATION:Fira Barcelona Gran Via\, Spain\, Fira Barcelona Gran Via\, Spain\, Barcelona\, Spain
CATEGORIES:Conference,Exhibition
ATTACH;FMTTYPE=image/png:https://fashionvaluechain.com/wp-content/uploads/2026/03/Shoptalk-Europe-2026.png
ORGANIZER;CN="ShopTalk Commerce":MAILTO:europe@shoptalk.com
END:VEVENT
BEGIN:VEVENT
DTSTART;TZID=Asia/Kolkata:20260609T093000
DTEND;TZID=Asia/Kolkata:20260611T180000
DTSTAMP:20260423T025519
CREATED:20260313T162238Z
LAST-MODIFIED:20260313T162238Z
UID:66639-1780997400-1781200800@fashionvaluechain.com
SUMMARY:Allfashion Sourcing – Cape Town 2026
DESCRIPTION:Allfashion Sourcing is a trade exhibition focused on textile sourcing and apparel manufacturing opportunities within Africa. The event gathers fashion designers\, garment producers\, textile suppliers\, and retailers interested in exploring business opportunities in the African fashion market. Exhibitors present fabrics\, garments\, accessories\, and manufacturing services designed for global fashion production. Buyers and sourcing professionals attend the exhibition to identify suppliers and evaluate production capabilities across the region. Industry discussions and educational sessions address sustainable manufacturing practices\, fashion entrepreneurship\, and supply chain development. Allfashion Sourcing supports the growth of Africa’s fashion industry by creating opportunities for collaboration between regional manufacturers and international fashion companies.
URL:https://fashionvaluechain.com/event/allfashion-sourcing-cape-town-2026/
LOCATION:Cape Town International Convention Centre\, South Africa\, Cape Town International Convention Centre\, South Africa\, CAPE TOWN\, South Africa
CATEGORIES:Exhibition
ATTACH;FMTTYPE=image/jpeg:https://fashionvaluechain.com/wp-content/uploads/2026/03/images-2-1.jpg
END:VEVENT
BEGIN:VEVENT
DTSTART;TZID=Asia/Shanghai:20260609T093000
DTEND;TZID=Asia/Shanghai:20260611T180000
DTSTAMP:20260423T025519
CREATED:20260327T170125Z
LAST-MODIFIED:20260327T170125Z
UID:67503-1780997400-1781200800@fashionvaluechain.com
SUMMARY:China International Textile Fabrics Expo – Shenzhen 2026
DESCRIPTION:China International Textile Fabrics Expo Shenzhen is a sourcing exhibition focused on fabrics and materials for apparel production. The event gathers textile manufacturers\, designers\, and sourcing professionals presenting innovative materials. Exhibitors showcase woven and knitted fabrics designed for fashion applications. Buyers attend to evaluate suppliers and explore sourcing opportunities within the Asian market. The exhibition also includes seminars addressing sustainability and textile innovation. It serves as a platform for connecting textile producers with fashion brands.
URL:https://fashionvaluechain.com/event/china-international-textile-fabrics-expo-shenzhen-2026/
LOCATION:Shenzhen Convention & Exhibition Center\, Shenzhen\, Shenzhen Convention & Exhibition Center\, Shenzhen
CATEGORIES:Exhibition
ATTACH;FMTTYPE=image/jpeg:https://fashionvaluechain.com/wp-content/uploads/2026/03/Fairground.jpg
ORGANIZER;CN="Messe Frankfurt (HK) Ltd":MAILTO:textile@messefrankfurt.com.cn
END:VEVENT
END:VCALENDAR