BEGIN:VCALENDAR
VERSION:2.0
PRODID:-//FASHION VALUE CHAIN - ECPv6.15.16//NONSGML v1.0//EN
CALSCALE:GREGORIAN
METHOD:PUBLISH
X-ORIGINAL-URL:https://fashionvaluechain.com
X-WR-CALDESC:Events for FASHION VALUE CHAIN
REFRESH-INTERVAL;VALUE=DURATION:PT1H
X-Robots-Tag:noindex
X-PUBLISHED-TTL:PT1H
BEGIN:VTIMEZONE
TZID:Asia/Kolkata
BEGIN:STANDARD
TZOFFSETFROM:+0530
TZOFFSETTO:+0530
TZNAME:IST
DTSTART:20250101T000000
END:STANDARD
END:VTIMEZONE
BEGIN:VTIMEZONE
TZID:America/Sao_Paulo
BEGIN:STANDARD
TZOFFSETFROM:-0300
TZOFFSETTO:-0300
TZNAME:-03
DTSTART:20250101T000000
END:STANDARD
END:VTIMEZONE
BEGIN:VEVENT
DTSTART;TZID=Asia/Kolkata:20260601T100000
DTEND;TZID=Asia/Kolkata:20260603T180000
DTSTAMP:20260423T041919
CREATED:20260309T161449Z
LAST-MODIFIED:20260309T161530Z
UID:66321-1780308000-1780509600@fashionvaluechain.com
SUMMARY:India International Leather Fair (IILF)
DESCRIPTION:India International Leather Fair is one of Asia’s largest trade exhibitions for leather products\, footwear\, accessories\, and manufacturing technologies. The event attracts global buyers\, exporters\, and designers who are interested in sourcing high-quality leather goods from India and other producing countries. Exhibitors showcase finished leather products\, raw materials\, tanning technologies\, and design innovations. Industry conferences held during the fair address sustainability\, global trade regulations\, and emerging consumer trends. The event strengthens India’s role as a major supplier in the global leather industry.
URL:https://fashionvaluechain.com/event/india-international-leather-fair-iilf/
LOCATION:Chennai Trade Centre\, India\, Chennai Trade Centre\, India
CATEGORIES:Exhibition
ATTACH;FMTTYPE=image/webp:https://fashionvaluechain.com/wp-content/uploads/2026/03/India-International-Leather-Fair-2026.webp
END:VEVENT
BEGIN:VEVENT
DTSTART;TZID=Asia/Kolkata:20260602T090000
DTEND;TZID=Asia/Kolkata:20260603T173000
DTSTAMP:20260423T041919
CREATED:20260310T172256Z
LAST-MODIFIED:20260310T172256Z
UID:66405-1780390800-1780507800@fashionvaluechain.com
SUMMARY:Global Fashion Summit – Copenhagen 2026
DESCRIPTION:Global Fashion Summit is a leading international conference dedicated to sustainability and innovation within the fashion industry. The event brings together designers\, brand executives\, policymakers\, researchers\, and sustainability experts to discuss strategies for building a more responsible fashion ecosystem. The program includes keynote speeches\, panel discussions\, and collaborative workshops addressing topics such as circular economy practices\, responsible sourcing\, and climate-conscious production methods. Participants share knowledge and explore solutions that promote environmental and social responsibility across the fashion value chain. The summit also provides networking opportunities that encourage collaboration between industry leaders\, technology providers\, and sustainability organizations. Global Fashion Summit has become an influential platform for shaping the future of sustainable fashion and promoting meaningful change within the global apparel industry.
URL:https://fashionvaluechain.com/event/global-fashion-summit-copenhagen-2026/
LOCATION:Copenhagen Concert Hall\, Denmark\, Copenhagen Concert Hall\, Denmark\, Copenhagen\, Denmark
CATEGORIES:Conference
ATTACH;FMTTYPE=image/png:https://fashionvaluechain.com/wp-content/uploads/2026/03/030226_Polygons-ticket-Launch.png
END:VEVENT
BEGIN:VEVENT
DTSTART;TZID=Asia/Kolkata:20260602T090000
DTEND;TZID=Asia/Kolkata:20260604T180000
DTSTAMP:20260423T041919
CREATED:20260313T173008Z
LAST-MODIFIED:20260313T173008Z
UID:66654-1780390800-1780596000@fashionvaluechain.com
SUMMARY:NRF Retail’s Big Show Asia Pacific – Singapore 2026
DESCRIPTION:NRF Retail’s Big Show Asia Pacific is a major retail innovation conference and exhibition that brings together industry leaders\, technology providers\, and retail executives from across the Asia-Pacific region. The event focuses on digital transformation\, omnichannel retail strategies\, supply chain optimization\, and consumer experience in the modern retail environment. Fashion brands\, department stores\, and e-commerce companies participate to explore technological solutions that enhance retail performance. Exhibitors present retail technology platforms\, data analytics tools\, and solutions for inventory management and customer engagement. The conference program includes keynote presentations\, panel discussions\, and workshops addressing emerging trends in retail management and consumer behavior. NRF Retail’s Big Show Asia Pacific serves as a strategic meeting platform where retailers can exchange ideas\, discover innovations\, and develop partnerships that support growth in the evolving global retail industry.
URL:https://fashionvaluechain.com/event/nrf-retails-big-show-asia-pacific-singapore-2026/
LOCATION:Marina Bay Sands Expo & Convention Centre\, Singapore\, Marina Bay Sands Expo & Convention Centre\, Singapore\, SINGAPORE
CATEGORIES:Conference,Exhibition
ATTACH;FMTTYPE=image/jpeg:https://fashionvaluechain.com/wp-content/uploads/2026/03/NRF26_APAC_Brand-Logo-Stacked_Red.jpg
ORGANIZER;CN="National Retail Federation (NRF) &amp%3B Comexposium":MAILTO:apac@nrf.com
END:VEVENT
BEGIN:VEVENT
DTSTART;TZID=America/Sao_Paulo:20260602T100000
DTEND;TZID=America/Sao_Paulo:20260604T180000
DTSTAMP:20260423T041919
CREATED:20260327T164334Z
LAST-MODIFIED:20260327T164334Z
UID:67490-1780394400-1780596000@fashionvaluechain.com
SUMMARY:Emitex – Buenos Aires 2026
DESCRIPTION:Emitex Buenos Aires is a major textile and apparel sourcing exhibition serving the Latin American market. The event gathers manufacturers\, suppliers\, and designers presenting fabrics\, yarns\, and accessories. Exhibitors showcase materials designed for apparel production\, while buyers attend to evaluate suppliers and explore sourcing opportunities. The exhibition also includes networking sessions and product demonstrations. Emitex supports collaboration within the regional textile industry and facilitates international trade partnerships.
URL:https://fashionvaluechain.com/event/emitex-buenos-aires-2026/
LOCATION:La Rural Trade Center\, Buenos Aires\, Argentina\, La Rural Trade Center\, Buenos Aires\, Argentina\, Buenos Aires\, Argentina
CATEGORIES:Exhibition
ATTACH;FMTTYPE=image/jpeg:https://fashionvaluechain.com/wp-content/uploads/2026/03/09_089529.jpg
ORGANIZER;CN="Messe Frankfurt Argentina":MAILTO:info@emitex.com.ar
END:VEVENT
END:VCALENDAR