BEGIN:VCALENDAR
VERSION:2.0
PRODID:-//FASHION VALUE CHAIN - ECPv6.15.16//NONSGML v1.0//EN
CALSCALE:GREGORIAN
METHOD:PUBLISH
X-WR-CALNAME:FASHION VALUE CHAIN
X-ORIGINAL-URL:https://fashionvaluechain.com
X-WR-CALDESC:Events for FASHION VALUE CHAIN
REFRESH-INTERVAL;VALUE=DURATION:PT1H
X-Robots-Tag:noindex
X-PUBLISHED-TTL:PT1H
BEGIN:VTIMEZONE
TZID:Asia/Kolkata
BEGIN:STANDARD
TZOFFSETFROM:+0530
TZOFFSETTO:+0530
TZNAME:IST
DTSTART:20250101T000000
END:STANDARD
END:VTIMEZONE
BEGIN:VTIMEZONE
TZID:Asia/Dubai
BEGIN:STANDARD
TZOFFSETFROM:+0400
TZOFFSETTO:+0400
TZNAME:+04
DTSTART:20250101T000000
END:STANDARD
END:VTIMEZONE
BEGIN:VEVENT
DTSTART;TZID=Asia/Kolkata:20260519T093000
DTEND;TZID=Asia/Kolkata:20260521T173000
DTSTAMP:20260423T025349
CREATED:20260309T163355Z
LAST-MODIFIED:20260309T163355Z
UID:66336-1779183000-1779384600@fashionvaluechain.com
SUMMARY:Guangzhou International Textile Clothing & Printing Industry Expo 2026
DESCRIPTION:The Guangzhou International Textile Clothing and Printing Industry Expo serves as a significant trade exhibition that emphasizes textile printing technologies\, garment manufacturing equipment\, and apparel materials. \nThis event attracts textile manufacturers\, providers of printing technology\, apparel producers\, and fashion brands from various regions in Asia as well as international markets. \nExhibitors showcase cutting-edge digital printing systems\, embroidery machinery\, solutions for garment decoration\, and equipment for textile processing. \nFashion retailers and designers participate in the exhibition to discover new production techniques and to find suppliers who can facilitate large-scale apparel manufacturing. \nAdditionally\, technical seminars and workshops are held to address sustainable production methods\, automation technologies\, and the latest trends in textile printing. \nBy uniting technology providers with apparel manufacturers\, the expo plays a vital role in modernizing the garment manufacturing industry and fostering the expansion of the global fashion supply chain.
URL:https://fashionvaluechain.com/event/guangzhou-international-textile-clothing-printing-industry-expo-2026/
LOCATION:Poly World Trade Expo Center\, Guangzhou\, China\, Poly World Trade Expo Center\, Guangzhou\, China\, Guangzhou\, China
CATEGORIES:Exhibition
ATTACH;FMTTYPE=image/jpeg:https://fashionvaluechain.com/wp-content/uploads/2026/03/images-3.jpg
ORGANIZER;CN="Guangzhou Ruinuo International Exhibition Co.%2C Ltd.":MAILTO:info@ruinuoexpo.com
END:VEVENT
BEGIN:VEVENT
DTSTART;TZID=Asia/Dubai:20260520T100000
DTEND;TZID=Asia/Dubai:20260522T180000
DTSTAMP:20260423T025349
CREATED:20260324T170243Z
LAST-MODIFIED:20260324T170320Z
UID:67250-1779271200-1779472800@fashionvaluechain.com
SUMMARY:International Apparel & Textile Fair – Dubai 2026
DESCRIPTION:The International Apparel & Textile Fair Dubai is a sourcing exhibition connecting global manufacturers with buyers in the Middle East. The event showcases apparel\, fabrics\, and accessories designed for retail and production. Exhibitors present collections and manufacturing services aimed at international markets. Buyers attend to evaluate suppliers and explore sourcing opportunities. The exhibition also includes networking sessions and discussions on supply chain strategies. It provides a platform for strengthening trade relationships within the fashion industry.
URL:https://fashionvaluechain.com/event/international-apparel-textile-fair-dubai-2026-2/
LOCATION:DUBAI WORLD TRADE CENTRE\, Dubai World Trade Centre\, Dubai\, United Arab Emirates
CATEGORIES:Exhibition
ATTACH;FMTTYPE=image/png:https://fashionvaluechain.com/wp-content/uploads/2026/03/International-Apparel-Textile-Fair-UAE-2026.png
ORGANIZER;CN="Nihalani Events Management":MAILTO:info@aitf.ae
END:VEVENT
END:VCALENDAR