BEGIN:VCALENDAR
VERSION:2.0
PRODID:-//FASHION VALUE CHAIN - ECPv6.15.16//NONSGML v1.0//EN
CALSCALE:GREGORIAN
METHOD:PUBLISH
X-ORIGINAL-URL:https://fashionvaluechain.com
X-WR-CALDESC:Events for FASHION VALUE CHAIN
REFRESH-INTERVAL;VALUE=DURATION:PT1H
X-Robots-Tag:noindex
X-PUBLISHED-TTL:PT1H
BEGIN:VTIMEZONE
TZID:Asia/Shanghai
BEGIN:STANDARD
TZOFFSETFROM:+0800
TZOFFSETTO:+0800
TZNAME:CST
DTSTART:20250101T000000
END:STANDARD
END:VTIMEZONE
BEGIN:VTIMEZONE
TZID:Asia/Kolkata
BEGIN:STANDARD
TZOFFSETFROM:+0530
TZOFFSETTO:+0530
TZNAME:IST
DTSTART:20250101T000000
END:STANDARD
END:VTIMEZONE
BEGIN:VEVENT
DTSTART;TZID=Asia/Shanghai:20260415T093000
DTEND;TZID=Asia/Shanghai:20260417T180000
DTSTAMP:20260423T001537
CREATED:20260331T054640Z
LAST-MODIFIED:20260331T054640Z
UID:67652-1776245400-1776448800@fashionvaluechain.com
SUMMARY:Fashion Source Shenzhen – April 2026
DESCRIPTION:Fashion Source Shenzhen is a sourcing exhibition connecting manufacturers with global buyers and retailers. The event showcases apparel\, textiles\, and accessories. Exhibitors present collections designed for retail markets\, while buyers attend to evaluate suppliers and explore sourcing opportunities. The exhibition also includes seminars addressing fashion trends and production strategies. It provides a platform for collaboration within the global fashion supply chain
URL:https://fashionvaluechain.com/event/fashion-source-shenzhen-april-2026/
LOCATION:Shenzhen Convention & Exhibition Center\, Shenzhen Convention & Exhibition Center\, Shenzhen\, China
CATEGORIES:Exhibition
ATTACH;FMTTYPE=image/webp:https://fashionvaluechain.com/wp-content/uploads/2026/03/fashionsource-1.webp
ORGANIZER;CN="Fashion Source Shenzhen":MAILTO:info@fashionsource.cn
END:VEVENT
BEGIN:VEVENT
DTSTART;TZID=Asia/Kolkata:20260416T100000
DTEND;TZID=Asia/Kolkata:20260418T180000
DTSTAMP:20260423T001537
CREATED:20260310T164710Z
LAST-MODIFIED:20260310T164710Z
UID:66374-1776333600-1776535200@fashionvaluechain.com
SUMMARY:Ivory Coast Fashion & Textile Expo 2026
DESCRIPTION:The Ivory Coast Fashion & Textile Expo serves as a regional trade exhibition aimed at advancing the African fashion and textile sector. This event offers a venue for designers\, textile manufacturers\, garment producers\, and retailers to display their offerings and forge business collaborations. Exhibitors showcase a diverse array of clothing\, fabrics\, leather products\, footwear\, and fashion accessories. Attendees\, including buyers and distributors from various African nations and global markets\, participate in the exhibition to explore sourcing possibilities and uncover emerging fashion trends from the region. Additionally\, the event features fashion shows\, panel discussions\, and networking opportunities that emphasize entrepreneurship\, sustainable production practices\, and the enhancement of Africa’s fashion ecosystem. By linking local designers with international buyers\, the expo fosters the expansion and worldwide recognition of African fashion brands.
URL:https://fashionvaluechain.com/event/ivory-coast-fashion-textile-expo-2026/
LOCATION:Abidjan Exhibition Centre\, Ivory Coast\, Abidjan Exhibition Centre\, Ivory Coast\, Ivory Coast
CATEGORIES:Exhibition
ATTACH;FMTTYPE=image/jpeg:https://fashionvaluechain.com/wp-content/uploads/2026/03/600531812_122135477012965125_3154747919033811713_n.jpg
ORGANIZER;CN="Africa Fashion Events Group":MAILTO:info@africafashionevents.com
END:VEVENT
END:VCALENDAR