BEGIN:VCALENDAR
VERSION:2.0
PRODID:-//FASHION VALUE CHAIN - ECPv6.15.16//NONSGML v1.0//EN
CALSCALE:GREGORIAN
METHOD:PUBLISH
X-ORIGINAL-URL:https://fashionvaluechain.com
X-WR-CALDESC:Events for FASHION VALUE CHAIN
REFRESH-INTERVAL;VALUE=DURATION:PT1H
X-Robots-Tag:noindex
X-PUBLISHED-TTL:PT1H
BEGIN:VTIMEZONE
TZID:Europe/Paris
BEGIN:DAYLIGHT
TZOFFSETFROM:+0100
TZOFFSETTO:+0200
TZNAME:CEST
DTSTART:20250330T010000
END:DAYLIGHT
BEGIN:STANDARD
TZOFFSETFROM:+0200
TZOFFSETTO:+0100
TZNAME:CET
DTSTART:20251026T010000
END:STANDARD
BEGIN:DAYLIGHT
TZOFFSETFROM:+0100
TZOFFSETTO:+0200
TZNAME:CEST
DTSTART:20260329T010000
END:DAYLIGHT
BEGIN:STANDARD
TZOFFSETFROM:+0200
TZOFFSETTO:+0100
TZNAME:CET
DTSTART:20261025T010000
END:STANDARD
BEGIN:DAYLIGHT
TZOFFSETFROM:+0100
TZOFFSETTO:+0200
TZNAME:CEST
DTSTART:20270328T010000
END:DAYLIGHT
BEGIN:STANDARD
TZOFFSETFROM:+0200
TZOFFSETTO:+0100
TZNAME:CET
DTSTART:20271031T010000
END:STANDARD
END:VTIMEZONE
BEGIN:VEVENT
DTSTART;TZID=Europe/Paris:20260428T093000
DTEND;TZID=Europe/Paris:20260429T180000
DTSTAMP:20260423T035911
CREATED:20260316T165908Z
LAST-MODIFIED:20260316T165908Z
UID:66789-1777368600-1777485600@fashionvaluechain.com
SUMMARY:Fashion SVP – London 2026
DESCRIPTION:Fashion SVP is a sourcing exhibition that connects apparel manufacturers with fashion brands seeking production partners. The event focuses on responsible sourcing and transparent supply chains within the fashion industry. Exhibitors include garment manufacturers\, textile mills\, and sourcing specialists presenting manufacturing services and materials used in apparel production. Fashion brands and designers attend the exhibition to explore supplier capabilities and establish manufacturing partnerships. The event also features expert discussions on ethical sourcing practices and sustainable production methods. Fashion SVP serves as a strategic platform where fashion companies and manufacturers collaborate to develop efficient and responsible supply chains within the global apparel industry.
URL:https://fashionvaluechain.com/event/fashion-svp-london-2026/
LOCATION:Truman Brewery\, London\, United Kingdom\, Olympia London\, United Kingdom\, London\, United Kingdom
CATEGORIES:Exhibition
ATTACH;FMTTYPE=image/jpeg:https://fashionvaluechain.com/wp-content/uploads/2026/03/6-3.jpg
ORGANIZER;CN="Fashion SVP Ltd":MAILTO:info@fashionsvp.com
END:VEVENT
END:VCALENDAR