BEGIN:VCALENDAR
VERSION:2.0
PRODID:-//FASHION VALUE CHAIN - ECPv6.15.16//NONSGML v1.0//EN
CALSCALE:GREGORIAN
METHOD:PUBLISH
X-ORIGINAL-URL:https://fashionvaluechain.com
X-WR-CALDESC:Events for FASHION VALUE CHAIN
REFRESH-INTERVAL;VALUE=DURATION:PT1H
X-Robots-Tag:noindex
X-PUBLISHED-TTL:PT1H
BEGIN:VTIMEZONE
TZID:Asia/Kolkata
BEGIN:STANDARD
TZOFFSETFROM:+0530
TZOFFSETTO:+0530
TZNAME:IST
DTSTART:20230101T000000
END:STANDARD
END:VTIMEZONE
BEGIN:VEVENT
DTSTART;TZID=Asia/Kolkata:20250122T100000
DTEND;TZID=Asia/Kolkata:20250123T160000
DTSTAMP:20260424T174838
CREATED:20241125T053415Z
LAST-MODIFIED:20241125T053513Z
UID:44663-1737540000-1737648000@fashionvaluechain.com
SUMMARY:ISCC PLUS & SAF Conference – Sustainable Certification in Japan
DESCRIPTION:Have plans for 21 January 2025? If not\, this is your chance to be a part of the very first ISCC Conference on Sustainability Certification in Tokyo\, Japan! \nWe are excited to offer two parallel sessions\, each focussing on a specific topic: ISCC PLUS and Sustainable Aviation Fuels (SAF). During the ISCC PLUS session\, leading experts will delve into Japan’s policy on circular materials\, share recent updates on ISCC PLUS and explore its practical implementation. Meanwhile\, the SAF session will provide valuable insights into ISCC SAF certification\, practical experiences and legislative developments. \nFollowing the event you may join us for the in-person ISCC PLUS Training course from 22 – 23 January 2025\, register here! 
URL:https://fashionvaluechain.com/event/iscc-plus-saf-conference-sustainable-certification-in-japan/
LOCATION:Japan
CATEGORIES:Conference
ATTACH;FMTTYPE=image/jpeg:https://fashionvaluechain.com/wp-content/uploads/2024/11/Tvc-1-7.jpg
END:VEVENT
BEGIN:VEVENT
DTSTART;TZID=Asia/Kolkata:20250121T100000
DTEND;TZID=Asia/Kolkata:20250121T180000
DTSTAMP:20260424T174838
CREATED:20241223T125717Z
LAST-MODIFIED:20241223T125717Z
UID:46405-1737453600-1737482400@fashionvaluechain.com
SUMMARY:PLUS and SAF Conference – Sustainability Certification in Japan
DESCRIPTION:Get ready for an exciting ISCC PLUS session! We will dive into Japan’s innovative policy of promoting bio-based and circular plastics\, presented by the Ministry of Environment Japan. The Mitsubishi Corporation will share valuable insights on building sustainable supply chains in the polyester industry. We will also get the latest updates on ISCC PLUS and important EU policy developments and discover the advantages of ISCC Carbon Footprint Certificates. Additionally\, we will hear brand owner Kikkoman’s testimonial about the benefits of ISCC PLUS certification and their sustainability progress. You can also expect to hear about the developments in bioplastics’ mass balance approach and its life cycle assessment (LCA).
URL:https://fashionvaluechain.com/event/plus-and-saf-conference-sustainability-certification-in-japan/
LOCATION:Onsite Conference\, Tokyo
CATEGORIES:Conference
ATTACH;FMTTYPE=image/jpeg:https://fashionvaluechain.com/wp-content/uploads/2024/12/fvc-2024-12-23T182640.980.jpg
END:VEVENT
BEGIN:VEVENT
DTSTART;TZID=Asia/Kolkata:20241203T100000
DTEND;TZID=Asia/Kolkata:20241204T180000
DTSTAMP:20260424T174838
CREATED:20241114T110343Z
LAST-MODIFIED:20241114T110343Z
UID:44212-1733220000-1733335200@fashionvaluechain.com
SUMMARY:The AATCC Odor & Microbial Management Conference!
DESCRIPTION:ASTM International’s Committee D13 develops test methods and specifications for textile materials. In general\, AATCC methods and procedures focus on colorfastness\, wet testing\, and chemical properties. ASTM tests evaluate physical properties of textiles. \nAATCC and ASTM have produced several joint publications. \n\nInfo & Standards for UV Protective Textiles\nAATCC/ASTM Technical Supplement\nMoisture Management Technical Supplement\n\nAATCC incorporates ASTM methods in most of its Test Method Training programs. You can also purchase the Textiles volumes (7.01 & 7.02) of the Annual Book of ASTM Standards from AATCC.
URL:https://fashionvaluechain.com/event/the-aatcc-odor-microbial-management-conference/
LOCATION:Amway Grand Plaza Hotel 187 Monroe Ave NW Grand Rapids\, MI\, USA
CATEGORIES:Conference
ATTACH;FMTTYPE=image/jpeg:https://fashionvaluechain.com/wp-content/uploads/2024/11/Tvc-1-3.jpg
END:VEVENT
BEGIN:VEVENT
DTSTART;TZID=Asia/Kolkata:20241120T100000
DTEND;TZID=Asia/Kolkata:20241121T170000
DTSTAMP:20260424T174838
CREATED:20240625T092024Z
LAST-MODIFIED:20240625T092024Z
UID:36492-1732096800-1732208400@fashionvaluechain.com
SUMMARY:The Advanced Recycling Conference 2024
DESCRIPTION:Taking place on 20-21 November 2024 in Cologne\, Germany and online\, the Advanced Recycling Conference 2024 showcases the latest developments in advanced recycling technologies\, recycling-based renewable chemicals\, building- blocks\, monomers\, and polymers. The unique concept of presenting novel advanced recycling solutions and related topics at one event guarantees a comprehensive and exciting conference experience\, covering technologies such as extrusion\, dissolution\, solvolysis\, enzymolysis\, pyrolysis\, thermal depolymerisation\, gasification\, and incineration with Carbon Capture Utilisation (CCU) as well as pre- and post-processing technologies and digital solutions. \nThe recycling sector faces significant evolutionary pressure due to ambitious targets set by the EU\, the chemical industry\, brand commitments\, and customer demands. On one hand\, substantial portions of non-recycled waste streams must be addressed\, while on the other\, the markets display a growing demand and search for renewable feedstocks for chemicals and materials. Both equally foster discussions on optimal technology selection for various waste streams and methodologies for evaluating their environmental footprint. \nAs a result\, advanced recycling technologies are rapidly evolving\, with a continual influx of new entrants ranging from start-ups to industry giants. New facilities are under construction or expanding\, while established providers are scaling up operations to achieve higher capacities and forge successful partnerships.
URL:https://fashionvaluechain.com/event/the-advanced-recycling-conference-2024/
CATEGORIES:Conference
ATTACH;FMTTYPE=image/jpeg:https://fashionvaluechain.com/wp-content/uploads/2024/06/Tvc-12-6.jpg
END:VEVENT
BEGIN:VEVENT
DTSTART;TZID=Asia/Kolkata:20240911T100000
DTEND;TZID=Asia/Kolkata:20240913T180000
DTSTAMP:20260424T174838
CREATED:20240822T074844Z
LAST-MODIFIED:20240822T075619Z
UID:40082-1726048800-1726250400@fashionvaluechain.com
SUMMARY:ANNUAL NETWORKING CONFERENCE
DESCRIPTION:SEAMS\, the National Association and Voice for the U.S. Sewn Products Industry for over 50 years\, invites you to attend its Annual Networking Conference September 11-13\, 2024 in Mobile\, Ala. SEAMS’ membership consists of more than 200 of America’s foremost fashion brands\, retailers\, manufacturers and textile providers. \nSupercharging the American Supply Chain\, SEAMS is the most relevant force and go-to resource shaping the growth and resurgence of MADE IN AMERICA. By providing access to people\, processes and products to move production back to the U.S.\, SEAMS serves as the hub for networking\, inspiration\, innovation\, and intelligence to enhance members’ competitiveness\, productivity and profitability in the new global economy. \nIn addition to two business sessions\, the event will include a golf tournament\, two networking receptions\, a dinner and and an after party.
URL:https://fashionvaluechain.com/event/annual-networking-conference/
LOCATION:Mobile\, Ala.
CATEGORIES:Conference
ATTACH;FMTTYPE=image/jpeg:https://fashionvaluechain.com/wp-content/uploads/2024/08/Tvc-4-5.jpg
END:VEVENT
BEGIN:VEVENT
DTSTART;TZID=Asia/Kolkata:20240908T100000
DTEND;TZID=Asia/Kolkata:20240910T180000
DTSTAMP:20260424T174838
CREATED:20240715T072405Z
LAST-MODIFIED:20240715T072405Z
UID:37653-1725789600-1725991200@fashionvaluechain.com
SUMMARY:ITMF&IAF Joint Conference 2024
DESCRIPTION:For the first time\, Uzbekistan hosts conferences of two international textile associations. \nSamarkand will host the Joint Conference of the world’s two biggest international textile federations\, the ITMF Annual Conference and the IAF Fashion Convention\, from September 8 to 10\, 2024. \nThis large-scale event will bring together over 1000 significant leaders from the global textile business in Uzbekistan. For the first time\, the heads of more than 500 international organizations\, textile companies\, brands and retailers\, and financial institutions from Europe\, CIS\, Asia\, Africa\, and America will meet on a single platform to debate issues concerning the global textile industry’s future development. \nOn November 6\, 2023\, as part of the International Federation of Textile Manufacturers’ Annual Conference and Textile Week in Keqiao\, the Uztextileprom Association announced the ITMF Annual Conference and IAF World Fashion Convention in Uzbekistan. \nEarlier\, on October 25\, the IAF 2023 Fashion Convention in Philadelphia\, USA\, revealed that the following IAF conference would also be hosted in Samarkand. \nUzbekistan’s textile sector is pushing forward with confidence. The international community is actively monitoring the country’s favorable improvements and has noted tremendous progress in Uzbekistan’s textile industry. In a very short period of time\, the Uzbek textile sector has become a competitive global producer. Such improvements would undoubtedly help Uzbekistan become a prominent player in the global textile sector. \n  \n  \n 
URL:https://fashionvaluechain.com/event/itmfiaf-joint-conference-2024/
LOCATION:Uzbekistan
CATEGORIES:Conference
ATTACH;FMTTYPE=image/webp:https://fashionvaluechain.com/wp-content/uploads/2024/07/itmf_last-2-1536x863-1.webp
END:VEVENT
BEGIN:VEVENT
DTSTART;TZID=Asia/Kolkata:20240726T150000
DTEND;TZID=Asia/Kolkata:20240727T180000
DTSTAMP:20260424T174838
CREATED:20240725T062503Z
LAST-MODIFIED:20240725T062554Z
UID:38586-1722006000-1722103200@fashionvaluechain.com
SUMMARY:Water & Wastewater Management
DESCRIPTION:Everything About Water is India’s only knowledge and marketing solutions provider in the area of water and wastewater management. For over a decade\, our verticals: Publishing\, Training\, and Events have been instrumental in taking initiatives directed towards awareness on most critical water-related issues. It would hence be fair to say that the company has been a market leader and innovator in the water sector. \nEverything About Water history spans over 22 years and since its inception in the year 2000\, the company has been committed to increasing awareness and knowledge on the water and wastewater management sector and helping promote various water-related offerings to a focused audience base.
URL:https://fashionvaluechain.com/event/water-wastewater-management/
CATEGORIES:Conference
ATTACH;FMTTYPE=image/jpeg:https://fashionvaluechain.com/wp-content/uploads/2024/07/Tvc-23-4.jpg
END:VEVENT
BEGIN:VEVENT
DTSTART;TZID=Asia/Kolkata:20240725T133000
DTEND;TZID=Asia/Kolkata:20240725T153000
DTSTAMP:20260424T174838
CREATED:20240624T092847Z
LAST-MODIFIED:20240624T092847Z
UID:36387-1721914200-1721921400@fashionvaluechain.com
SUMMARY:Defence Clothing for Modern Threats
DESCRIPTION:The PCIAW® Round Table Series on ‘Defence Clothing for Modern Threats’ will explore military uniform innovations\, including disruptive camouflage and female-fit body armour\, plus the motivations to advance the protective solutions from a procurement perspective. \nTextiles for defence clothing are undergoing a pivotal stage of innovation\, as conductive yarns\, infrared-absorbing dyes are being developed to combat the advancement of detection technologies. PCIAW® is seeking to bring the defence supply chain together to consider the priorities for the near future.
URL:https://fashionvaluechain.com/event/defence-clothing-for-modern-threats/
CATEGORIES:Conference
ATTACH;FMTTYPE=image/jpeg:https://fashionvaluechain.com/wp-content/uploads/2024/06/Tvc-33-2.jpg
END:VEVENT
BEGIN:VEVENT
DTSTART;TZID=Asia/Kolkata:20240719T100000
DTEND;TZID=Asia/Kolkata:20240719T150000
DTSTAMP:20260424T174838
CREATED:20240716T112243Z
LAST-MODIFIED:20240716T112243Z
UID:37805-1721383200-1721401200@fashionvaluechain.com
SUMMARY:10th International Conference INDIAN Polyester - 2024
DESCRIPTION:The conference aims to showcase and promote the Indian Polyester\, Textile and PET industry to the international forum by bringing the major industries in the upstream sector of the polyester chain\, technology providers and end users on the same platform. This will promote healthy discussion and interaction amongst complete chain of the polyester industry so as to enhance the competitiveness of the industry in the international arena.
URL:https://fashionvaluechain.com/event/10th-international-conference-indian-polyester-2024-2/
LOCATION:Hotel The Lalit\, Mumbai\, INDIA\, Hotel The Lalit\, Mumbai\, INDIA\, Mumbai\, India
CATEGORIES:Conference
ATTACH;FMTTYPE=image/jpeg:https://fashionvaluechain.com/wp-content/uploads/2024/07/Tvc-19-3.jpg
END:VEVENT
BEGIN:VEVENT
DTSTART;TZID=Asia/Kolkata:20240719T083000
DTEND;TZID=Asia/Kolkata:20240719T183000
DTSTAMP:20260424T174838
CREATED:20240508T051653Z
LAST-MODIFIED:20240508T053145Z
UID:30649-1721377800-1721413800@fashionvaluechain.com
SUMMARY:10th International Conference INDIAN Polyester – 2024
DESCRIPTION:Elite Conferences have expertise and experience in every aspect of event management services. We have been successfully organizing international conferences since last 23 years and now willing to work with organizations who have the domain expertise in the subject to put together a good quality program and invite top-notch speakers to the forum. \nThe main object of Elite is to organise quality international seminars with the purpose of providing an interactive knowledge forum for manufacturers\, traders\, buyers\, technology licensors\, consultants\, strategists\, financial intermediaries and investors. \nThe agenda is to discuss and update participants on the latest developments and challenges in the Indian industry\, with relevant flavours from Asian region. We can offer expertise in finer aspects of organization\, Conference Marketing etc. to make the event / conference a world-class event.
URL:https://fashionvaluechain.com/event/10th-international-conference-indian-polyester-2024/
LOCATION:Hotel The Lalit\, Mumbai\, INDIA\, Hotel The Lalit\, Mumbai\, INDIA\, Mumbai\, India
CATEGORIES:Conference
END:VEVENT
BEGIN:VEVENT
DTSTART;TZID=Asia/Kolkata:20240712T100000
DTEND;TZID=Asia/Kolkata:20240712T170000
DTSTAMP:20260424T174838
CREATED:20240711T072848Z
LAST-MODIFIED:20240711T072848Z
UID:37398-1720778400-1720803600@fashionvaluechain.com
SUMMARY:“Collaborate Empower Accelerate & Achieve"
DESCRIPTION:This year’s Partners Forum revolves around the theme of Collaborate\, Empower\, Accelerate\, and Achieve\,” which\nacknowledges the swiftly evolving landscape of the industry and underscores the imperative for collaboration among\nLearners\, Organizations\, and other Stakeholders. This collaboration aims to cultivate and enrich skills essential for the\nfuture. The event serves as a unique platform for the automotive community to unite and craft recommendations. These\nrecommendations will facilitate the adoption of innovative skilling\, upskilling\, and training approaches. Ultimately\, this\ninitiative aims to cater to the needs of the youth in the forthcoming decade and beyond. Over 250 industry partners from\nacross the country will convene for this annual event. Highlights include keynote speeches\, the exchange of best practices\,\nand interactive sessions featuring experts from the automotive and skilling sectors. \nASDC stands as India’s pioneering sector skills council for the automotive industry. It was established with the backing of\nthe National Skills Development Council and is endorsed by esteemed bodies such as the Society of Indian Automobile\nManufacturers (SIAM)\, Automotive Component Manufacturers Association (ACMA)\, and Federation of Automobile Dealers\nAssociations of India (FADA). \nMedia Invite – Partners Forum 2024
URL:https://fashionvaluechain.com/event/collaborate-empower-accelerate-achieve/
LOCATION:Silver Oak\, India Habitat Centre\, Lodhi Road\, New Delhi.\, India
CATEGORIES:Conference
ATTACH;FMTTYPE=image/jpeg:https://fashionvaluechain.com/wp-content/uploads/2024/07/Tvc-7-4.jpg
END:VEVENT
BEGIN:VEVENT
DTSTART;TZID=Asia/Kolkata:20240626T160000
DTEND;TZID=Asia/Kolkata:20240626T190000
DTSTAMP:20260424T174838
CREATED:20240624T105404Z
LAST-MODIFIED:20240624T105404Z
UID:36407-1719417600-1719428400@fashionvaluechain.com
SUMMARY:‘Perspectives of Russia – Ukraine relations’
DESCRIPTION:‘Perspectives of Russia – Ukraine relations’ by Mr. Rodion Miroshnik\, Ambassador-at-Large\, Ministry of Foreign Affairs of the Russian Federation on Wednesday\, 26th June 2024 at 4.00 pm at Centrum\, 1st Floor\, Center 1\, World Trade Center\, Cuffe Parade\, Mumbai. A copy of the invitation card is attached for your kind information. \nThis talk is jointly orgnised by World Trade Center Mumbai and All India Association of Industries in association with Consulate General of Russia in Mumbai. \n Ms. Natalia Nikonorova\, Senator of the Russian Federation has consented to be the Guest of Honour on this oacassion \nWe request you to fill in the online registration form by clicking on the given link – https://forms.gle/i6SMh1j3kLGc1WKd6
URL:https://fashionvaluechain.com/event/perspectives-of-russia-ukraine-relations/
LOCATION:World Trade Center\, Cuffe Parade\, Mumbai\, India
CATEGORIES:Conference
ATTACH;FMTTYPE=image/jpeg:https://fashionvaluechain.com/wp-content/uploads/2024/06/Tvc-39-2.jpg
END:VEVENT
BEGIN:VEVENT
DTSTART;TZID=Asia/Kolkata:20240409T100000
DTEND;TZID=Asia/Kolkata:20240410T180000
DTSTAMP:20260424T174838
CREATED:20240902T070512Z
LAST-MODIFIED:20240902T070512Z
UID:40628-1712656800-1712772000@fashionvaluechain.com
SUMMARY:Inkjet Development Conference 2025
DESCRIPTION:The IMI Europe Inkjet Development Conference is aimed at inkjet developers looking to find out the latest products\, technology and techniques\, while exchanging ideas with peers. This conference covers materials\, characterisation\, formulation\, printing\, curing and other aspects of digital printing solutions. \nIMI Europe promotes collaboration and learning within the technology development community for inkjet digital printing/deposition and large area/flexible/hybrid/organic electronics/semiconductors. We organise high quality conferences and courses in Europe and Asia aimed at strategic & commercial executives\, technical developers and academics in these industries. Our sister company IMI Inc organises similar events in the USA.
URL:https://fashionvaluechain.com/event/inkjet-development-conference-2025/
LOCATION:Hamburg\, Germany\, Germany
CATEGORIES:Conference
ATTACH;FMTTYPE=image/jpeg:https://fashionvaluechain.com/wp-content/uploads/2024/09/Tvc-3.jpg
END:VEVENT
END:VCALENDAR